BEGIN:VCALENDAR
VERSION:2.0
PRODID:-//MAX - ECPv6.15.17.1//NONSGML v1.0//EN
CALSCALE:GREGORIAN
METHOD:PUBLISH
X-ORIGINAL-URL:https://metroatlantaexchange.org
X-WR-CALDESC:Events for MAX
REFRESH-INTERVAL;VALUE=DURATION:PT1H
X-Robots-Tag:noindex
X-PUBLISHED-TTL:PT1H
BEGIN:VTIMEZONE
TZID:America/New_York
BEGIN:DAYLIGHT
TZOFFSETFROM:-0500
TZOFFSETTO:-0400
TZNAME:EDT
DTSTART:20250309T070000
END:DAYLIGHT
BEGIN:STANDARD
TZOFFSETFROM:-0400
TZOFFSETTO:-0500
TZNAME:EST
DTSTART:20251102T060000
END:STANDARD
BEGIN:DAYLIGHT
TZOFFSETFROM:-0500
TZOFFSETTO:-0400
TZNAME:EDT
DTSTART:20260308T070000
END:DAYLIGHT
BEGIN:STANDARD
TZOFFSETFROM:-0400
TZOFFSETTO:-0500
TZNAME:EST
DTSTART:20261101T060000
END:STANDARD
BEGIN:DAYLIGHT
TZOFFSETFROM:-0500
TZOFFSETTO:-0400
TZNAME:EDT
DTSTART:20270314T070000
END:DAYLIGHT
BEGIN:STANDARD
TZOFFSETFROM:-0400
TZOFFSETTO:-0500
TZNAME:EST
DTSTART:20271107T060000
END:STANDARD
END:VTIMEZONE
BEGIN:VEVENT
DTSTART;TZID=America/New_York:20260205T110000
DTEND;TZID=America/New_York:20260205T150000
DTSTAMP:20260424T185019
CREATED:20260119T184957Z
LAST-MODIFIED:20260119T184957Z
UID:10035837-1770289200-1770303600@metroatlantaexchange.org
SUMMARY:CareerEco: Women in Healthcare Virtual Career and Grad School Fair
DESCRIPTION:CareerEco is hosting a Women in Healthcare Virtual Career and Grad School Fair on Thursday\, February 5th\, from 11:00 AM to 3:00 PM. \nThis free event is open to diverse healthcare students\, alumni and professionals throughout the nation. \nClick here to learn more and register.
URL:https://metroatlantaexchange.org/event/careereco-women-in-healthcare-virtual-career-and-grad-school-fair/
CATEGORIES:Job Seeker,Virtual Event
ORGANIZER;CN="CareerEco":MAILTO:Events@CareerEco.com
END:VEVENT
BEGIN:VEVENT
DTSTART;TZID=America/New_York:20260205T110000
DTEND;TZID=America/New_York:20260205T150000
DTSTAMP:20260424T185019
CREATED:20260119T185121Z
LAST-MODIFIED:20260119T185121Z
UID:10035838-1770289200-1770303600@metroatlantaexchange.org
SUMMARY:JobFairX: Atlanta Diversity Virtual Job Fair
DESCRIPTION:JobFairX is hosting an Atlanta Diversity Virtual Job Fair on Thursday\, February 5th\, from 11:00 AM to 3:00 PM. \nAt JobFairX\, job seekers are matched with employers who have registered for the virtual job fair. When you sign up and create a profile\, you provide information about your qualifications\, skills\, and preferences. JobFairX’s advanced matching algorithm analyzes this data to identify suitable job opportunities. If your qualifications align with a job\, you’ll receive an email invitation to schedule an interview with the employer during the fair. JobFairX’s streamlined process saves you time on your job search. \nClick here to register.
URL:https://metroatlantaexchange.org/event/jobfairx-atlanta-diversity-virtual-job-fair-5/
CATEGORIES:Job Seeker,Virtual Event
END:VEVENT
BEGIN:VEVENT
DTSTART;TZID=America/New_York:20260205T120000
DTEND;TZID=America/New_York:20260205T140000
DTSTAMP:20260424T185019
CREATED:20260202T233421Z
LAST-MODIFIED:20260202T233421Z
UID:10035910-1770292800-1770300000@metroatlantaexchange.org
SUMMARY:PowerToFly: Virtual Job Fair
DESCRIPTION:PowerToFly is hosting a Virtual Job Fair on Thursday\, February 5th\, from 12:00 PM to 2:00 PM. \nThis empowering and inclusive event will provide you access to hundreds of open roles\, the opportunity to network with hiring managers & talent leaders and hear about company efforts around empowering Black professionals in the workplace. \nClick here to learn more and register. \n 
URL:https://metroatlantaexchange.org/event/powertofly-virtual-job-fair/
CATEGORIES:Job Seeker,Virtual Event
END:VEVENT
END:VCALENDAR