BEGIN:VCALENDAR
VERSION:2.0
PRODID:-//MAX - ECPv6.15.17.1//NONSGML v1.0//EN
CALSCALE:GREGORIAN
METHOD:PUBLISH
X-WR-CALNAME:MAX
X-ORIGINAL-URL:https://metroatlantaexchange.org
X-WR-CALDESC:Events for MAX
REFRESH-INTERVAL;VALUE=DURATION:PT1H
X-Robots-Tag:noindex
X-PUBLISHED-TTL:PT1H
BEGIN:VTIMEZONE
TZID:America/New_York
BEGIN:DAYLIGHT
TZOFFSETFROM:-0500
TZOFFSETTO:-0400
TZNAME:EDT
DTSTART:20250309T070000
END:DAYLIGHT
BEGIN:STANDARD
TZOFFSETFROM:-0400
TZOFFSETTO:-0500
TZNAME:EST
DTSTART:20251102T060000
END:STANDARD
BEGIN:DAYLIGHT
TZOFFSETFROM:-0500
TZOFFSETTO:-0400
TZNAME:EDT
DTSTART:20260308T070000
END:DAYLIGHT
BEGIN:STANDARD
TZOFFSETFROM:-0400
TZOFFSETTO:-0500
TZNAME:EST
DTSTART:20261101T060000
END:STANDARD
BEGIN:DAYLIGHT
TZOFFSETFROM:-0500
TZOFFSETTO:-0400
TZNAME:EDT
DTSTART:20270314T070000
END:DAYLIGHT
BEGIN:STANDARD
TZOFFSETFROM:-0400
TZOFFSETTO:-0500
TZNAME:EST
DTSTART:20271107T060000
END:STANDARD
END:VTIMEZONE
BEGIN:VEVENT
DTSTART;TZID=America/New_York:20260207T130000
DTEND;TZID=America/New_York:20260207T140000
DTSTAMP:20260424T221429
CREATED:20251203T201143Z
LAST-MODIFIED:20251203T201143Z
UID:10035757-1770469200-1770472800@metroatlantaexchange.org
SUMMARY:National Career Pathways Network: Wrap-Up and Reflections on Designing Industry-Responsive Career Pathways
DESCRIPTION:The National Career Pathways Network is hosting a Wrap-Up and Reflections on Designing Industry-Responsive Career Pathways webinar on Saturday\, February 7th\, from 1:00 PM to 2:00 PM. \nThis final session of the Connected Conversation series will be a facilitated conversation focused on reflections and takeaways from the entire series. \nClick here to learn more and register.
URL:https://metroatlantaexchange.org/event/national-career-pathways-network-wrap-up-and-reflections-on-designing-industry-responsive-career-pathways/
CATEGORIES:Virtual Event,Workforce Developer
END:VEVENT
END:VCALENDAR