BEGIN:VCALENDAR
VERSION:2.0
PRODID:-//MAX - ECPv6.15.17.1//NONSGML v1.0//EN
CALSCALE:GREGORIAN
METHOD:PUBLISH
X-WR-CALNAME:MAX
X-ORIGINAL-URL:https://metroatlantaexchange.org
X-WR-CALDESC:Events for MAX
REFRESH-INTERVAL;VALUE=DURATION:PT1H
X-Robots-Tag:noindex
X-PUBLISHED-TTL:PT1H
BEGIN:VTIMEZONE
TZID:America/New_York
BEGIN:DAYLIGHT
TZOFFSETFROM:-0500
TZOFFSETTO:-0400
TZNAME:EDT
DTSTART:20250309T070000
END:DAYLIGHT
BEGIN:STANDARD
TZOFFSETFROM:-0400
TZOFFSETTO:-0500
TZNAME:EST
DTSTART:20251102T060000
END:STANDARD
BEGIN:DAYLIGHT
TZOFFSETFROM:-0500
TZOFFSETTO:-0400
TZNAME:EDT
DTSTART:20260308T070000
END:DAYLIGHT
BEGIN:STANDARD
TZOFFSETFROM:-0400
TZOFFSETTO:-0500
TZNAME:EST
DTSTART:20261101T060000
END:STANDARD
BEGIN:DAYLIGHT
TZOFFSETFROM:-0500
TZOFFSETTO:-0400
TZNAME:EDT
DTSTART:20270314T070000
END:DAYLIGHT
BEGIN:STANDARD
TZOFFSETFROM:-0400
TZOFFSETTO:-0500
TZNAME:EST
DTSTART:20271107T060000
END:STANDARD
END:VTIMEZONE
BEGIN:VEVENT
DTSTART;TZID=America/New_York:20260212T140000
DTEND;TZID=America/New_York:20260212T150000
DTSTAMP:20260424T221423
CREATED:20251203T201349Z
LAST-MODIFIED:20251203T201349Z
UID:10035758-1770904800-1770908400@metroatlantaexchange.org
SUMMARY:Coalition of Adult Basic Education (COABE): Harnessing AI to Transform Personal Finance Teaching
DESCRIPTION:The Coalition of Adult Basic Education (COABE) is hosting a webinar on Harnessing AI to Transform Personal Finance Teaching on Thursday\, February 12th\, starting at 2:00 PM. \nUnlock the future of personal finance education with this groundbreaking session on AI! Discover how to work smarter\, not harder\, with cutting-edge AI tools that enhance your lesson plans and productivity while elevating student learning. Join COABE to learn practical\, innovative strategies that will transform your teaching and be at the forefront of educational technology! \nClick here to learn more and register.
URL:https://metroatlantaexchange.org/event/coalition-of-adult-basic-education-coabe-harnessing-ai-to-transform-personal-finance-teaching/
CATEGORIES:Virtual Event,Workforce Developer
ORGANIZER;CN="Coalition on Adult Basic Education (COABE)":MAILTO:info@coabe.org
END:VEVENT
END:VCALENDAR