BEGIN:VCALENDAR
VERSION:2.0
PRODID:-//MAX - ECPv6.15.17.1//NONSGML v1.0//EN
CALSCALE:GREGORIAN
METHOD:PUBLISH
X-WR-CALNAME:MAX
X-ORIGINAL-URL:https://metroatlantaexchange.org
X-WR-CALDESC:Events for MAX
REFRESH-INTERVAL;VALUE=DURATION:PT1H
X-Robots-Tag:noindex
X-PUBLISHED-TTL:PT1H
BEGIN:VTIMEZONE
TZID:America/New_York
BEGIN:DAYLIGHT
TZOFFSETFROM:-0500
TZOFFSETTO:-0400
TZNAME:EDT
DTSTART:20250309T070000
END:DAYLIGHT
BEGIN:STANDARD
TZOFFSETFROM:-0400
TZOFFSETTO:-0500
TZNAME:EST
DTSTART:20251102T060000
END:STANDARD
BEGIN:DAYLIGHT
TZOFFSETFROM:-0500
TZOFFSETTO:-0400
TZNAME:EDT
DTSTART:20260308T070000
END:DAYLIGHT
BEGIN:STANDARD
TZOFFSETFROM:-0400
TZOFFSETTO:-0500
TZNAME:EST
DTSTART:20261101T060000
END:STANDARD
BEGIN:DAYLIGHT
TZOFFSETFROM:-0500
TZOFFSETTO:-0400
TZNAME:EDT
DTSTART:20270314T070000
END:DAYLIGHT
BEGIN:STANDARD
TZOFFSETFROM:-0400
TZOFFSETTO:-0500
TZNAME:EST
DTSTART:20271107T060000
END:STANDARD
END:VTIMEZONE
BEGIN:VEVENT
DTSTART;TZID=America/New_York:20260213T110000
DTEND;TZID=America/New_York:20260213T140000
DTSTAMP:20260424T184936
CREATED:20260119T211705Z
LAST-MODIFIED:20260119T211705Z
UID:10035848-1770980400-1770991200@metroatlantaexchange.org
SUMMARY:Manufacturing Institute: Military to Manufacturing Virtual Career Fair
DESCRIPTION:The Manufacturing Institute is hosting a Military to Manufacturing Virtual Career Fair on Friday\, February 13th\, from 11:00 AM to 2:00 PM. \nStep into your next career opportunity with The Manufacturing Institute’s Heroes MAKE America program. This virtual career fair brings together transitioning service members\, Guard and Reserve members\, veterans\, and military spouses with manufacturing and supply chain employers actively hiring across the country. You’ll meet national and regional companies offering roles in production\, maintenance\, logistics and supply chain\, procurement\, operations\, engineering\, human resources\, sales\, accounting\, and more. Whether you’re exploring entry-level positions or ready to step into a supervisory role\, there’s a place for your talent and experience. \nClick here to learn more and register.
URL:https://metroatlantaexchange.org/event/manufacturing-institute-military-to-manufacturing-virtual-career-fair/
CATEGORIES:Job Seeker,Veterans/Military,Virtual Event
END:VEVENT
BEGIN:VEVENT
DTSTART;TZID=America/New_York:20260213T110000
DTEND;TZID=America/New_York:20260213T140000
DTSTAMP:20260424T184936
CREATED:20260203T000357Z
LAST-MODIFIED:20260203T000357Z
UID:10035927-1770980400-1770991200@metroatlantaexchange.org
SUMMARY:Manufacturing Institute: Military to Manufacturing Virtual Career Fair
DESCRIPTION:The Manufacturing Institute is hosting a Military to Manufacturing Virtual Career Fair on Friday\, February 13th\, from 11:00 AM to 2:00 PM. \nStep into your next career opportunity with The Manufacturing Institute’s Heroes MAKE America program. This virtual career fair brings together transitioning service members\, Guard and Reserve members\, veterans\, and military spouses with manufacturing and supply chain employers actively hiring across the country. You’ll meet national and regional companies offering roles in production\, maintenance\, logistics and supply chain\, procurement\, operations\, engineering\, human resources\, sales\, accounting\, and more. Whether you’re exploring entry-level positions or ready to step into a supervisory role\, there’s a place for your talent and experience. \nClick here to learn more and register.
URL:https://metroatlantaexchange.org/event/manufacturing-institute-military-to-manufacturing-virtual-career-fair-3/
CATEGORIES:Job Seeker,Veterans/Military,Virtual Event
END:VEVENT
BEGIN:VEVENT
DTSTART;TZID=America/New_York:20260213T110000
DTEND;TZID=America/New_York:20260213T150000
DTSTAMP:20260424T184936
CREATED:20260119T211537Z
LAST-MODIFIED:20260119T211537Z
UID:10035847-1770980400-1770994800@metroatlantaexchange.org
SUMMARY:JobFairX: Atlanta Technology Virtual Job Fair
DESCRIPTION:JobFairX is hosting an Atlanta Technology Virtual Job Fair on Friday\, February 13th\, from 11:00 AM to 3:00 PM. \nAt JobFairX\, job seekers are matched with employers who have registered for the virtual job fair. When you sign up and create a profile\, you provide information about your qualifications\, skills\, and preferences. JobFairX’s advanced matching algorithm analyzes this data to identify suitable job opportunities. If your qualifications align with a job\, you’ll receive an email invitation to schedule an interview with the employer during the fair. JobFairX’s streamlined process saves you time on your job search. \nClick here to register.
URL:https://metroatlantaexchange.org/event/jobfairx-atlanta-technology-virtual-job-fair-10/
CATEGORIES:Job Seeker,Virtual Event
END:VEVENT
END:VCALENDAR