BEGIN:VCALENDAR
VERSION:2.0
PRODID:-//MAX - ECPv6.15.17.1//NONSGML v1.0//EN
CALSCALE:GREGORIAN
METHOD:PUBLISH
X-WR-CALNAME:MAX
X-ORIGINAL-URL:https://metroatlantaexchange.org
X-WR-CALDESC:Events for MAX
REFRESH-INTERVAL;VALUE=DURATION:PT1H
X-Robots-Tag:noindex
X-PUBLISHED-TTL:PT1H
BEGIN:VTIMEZONE
TZID:America/New_York
BEGIN:DAYLIGHT
TZOFFSETFROM:-0500
TZOFFSETTO:-0400
TZNAME:EDT
DTSTART:20250309T070000
END:DAYLIGHT
BEGIN:STANDARD
TZOFFSETFROM:-0400
TZOFFSETTO:-0500
TZNAME:EST
DTSTART:20251102T060000
END:STANDARD
BEGIN:DAYLIGHT
TZOFFSETFROM:-0500
TZOFFSETTO:-0400
TZNAME:EDT
DTSTART:20260308T070000
END:DAYLIGHT
BEGIN:STANDARD
TZOFFSETFROM:-0400
TZOFFSETTO:-0500
TZNAME:EST
DTSTART:20261101T060000
END:STANDARD
BEGIN:DAYLIGHT
TZOFFSETFROM:-0500
TZOFFSETTO:-0400
TZNAME:EDT
DTSTART:20270314T070000
END:DAYLIGHT
BEGIN:STANDARD
TZOFFSETFROM:-0400
TZOFFSETTO:-0500
TZNAME:EST
DTSTART:20271107T060000
END:STANDARD
END:VTIMEZONE
BEGIN:VEVENT
DTSTART;TZID=America/New_York:20260219T110000
DTEND;TZID=America/New_York:20260219T140000
DTSTAMP:20260424T203700
CREATED:20260119T212424Z
LAST-MODIFIED:20260119T212424Z
UID:10035854-1771498800-1771509600@metroatlantaexchange.org
SUMMARY:Corporate Gray: Virtual Military-Friendly Job Fair
DESCRIPTION:Corporate Gray is hosting a Virtual Military-Friendly Job Fair on Thursday\, February 19th\, from 11:00 AM to 2:00 PM. \nCorporate Gray Virtual Military-Friendly Job Fairs offer jobseekers unprecedented access to representatives of the companies you want to join from the comfort of your home\, office\, or even your favorite coffee shop. This event is open to all jobseekers. \nClick here to learn more and register.
URL:https://metroatlantaexchange.org/event/corporate-gray-virtual-military-friendly-job-fair-2/
CATEGORIES:Job Seeker,Veterans/Military,Virtual Event
END:VEVENT
END:VCALENDAR