BEGIN:VCALENDAR
VERSION:2.0
PRODID:-//MAX - ECPv6.15.17.1//NONSGML v1.0//EN
CALSCALE:GREGORIAN
METHOD:PUBLISH
X-WR-CALNAME:MAX
X-ORIGINAL-URL:https://metroatlantaexchange.org
X-WR-CALDESC:Events for MAX
REFRESH-INTERVAL;VALUE=DURATION:PT1H
X-Robots-Tag:noindex
X-PUBLISHED-TTL:PT1H
BEGIN:VTIMEZONE
TZID:America/New_York
BEGIN:DAYLIGHT
TZOFFSETFROM:-0500
TZOFFSETTO:-0400
TZNAME:EDT
DTSTART:20250309T070000
END:DAYLIGHT
BEGIN:STANDARD
TZOFFSETFROM:-0400
TZOFFSETTO:-0500
TZNAME:EST
DTSTART:20251102T060000
END:STANDARD
BEGIN:DAYLIGHT
TZOFFSETFROM:-0500
TZOFFSETTO:-0400
TZNAME:EDT
DTSTART:20260308T070000
END:DAYLIGHT
BEGIN:STANDARD
TZOFFSETFROM:-0400
TZOFFSETTO:-0500
TZNAME:EST
DTSTART:20261101T060000
END:STANDARD
BEGIN:DAYLIGHT
TZOFFSETFROM:-0500
TZOFFSETTO:-0400
TZNAME:EDT
DTSTART:20270314T070000
END:DAYLIGHT
BEGIN:STANDARD
TZOFFSETFROM:-0400
TZOFFSETTO:-0500
TZNAME:EST
DTSTART:20271107T060000
END:STANDARD
END:VTIMEZONE
BEGIN:VEVENT
DTSTART;TZID=America/New_York:20260224T080000
DTEND;TZID=America/New_York:20260225T170000
DTSTAMP:20260424T221424
CREATED:20251203T201458Z
LAST-MODIFIED:20251203T201458Z
UID:10035759-1771920000-1772038800@metroatlantaexchange.org
SUMMARY:International Economic Development Council (IEDC): Neighborhood Development Strategies
DESCRIPTION:The International Economic Development Council (IEDC) is hosting Neighborhood Development Strategies starting Tuesday\, February 24th through Wednesday\, February 25th\, from 11:00 AM to 5:30 PM. \nNeighborhoods are more than just places\, they’re the heart and soul of a community. This course will explore strategies for placemaking\, community engagement\, and sustainable revitalization efforts. You’ll learn how to leverage data\, form impactful partnerships\, and implement development practices that create lasting\, positive change for your community’s neighborhoods. \nClick here to learn more and register.
URL:https://metroatlantaexchange.org/event/international-economic-development-council-iedc-neighborhood-development-strategies/
CATEGORIES:Virtual Event,Workforce Developer
END:VEVENT
END:VCALENDAR