BEGIN:VCALENDAR
VERSION:2.0
PRODID:-//MAX - ECPv6.15.17.1//NONSGML v1.0//EN
CALSCALE:GREGORIAN
METHOD:PUBLISH
X-ORIGINAL-URL:https://metroatlantaexchange.org
X-WR-CALDESC:Events for MAX
REFRESH-INTERVAL;VALUE=DURATION:PT1H
X-Robots-Tag:noindex
X-PUBLISHED-TTL:PT1H
BEGIN:VTIMEZONE
TZID:America/New_York
BEGIN:DAYLIGHT
TZOFFSETFROM:-0500
TZOFFSETTO:-0400
TZNAME:EDT
DTSTART:20250309T070000
END:DAYLIGHT
BEGIN:STANDARD
TZOFFSETFROM:-0400
TZOFFSETTO:-0500
TZNAME:EST
DTSTART:20251102T060000
END:STANDARD
BEGIN:DAYLIGHT
TZOFFSETFROM:-0500
TZOFFSETTO:-0400
TZNAME:EDT
DTSTART:20260308T070000
END:DAYLIGHT
BEGIN:STANDARD
TZOFFSETFROM:-0400
TZOFFSETTO:-0500
TZNAME:EST
DTSTART:20261101T060000
END:STANDARD
BEGIN:DAYLIGHT
TZOFFSETFROM:-0500
TZOFFSETTO:-0400
TZNAME:EDT
DTSTART:20270314T070000
END:DAYLIGHT
BEGIN:STANDARD
TZOFFSETFROM:-0400
TZOFFSETTO:-0500
TZNAME:EST
DTSTART:20271107T060000
END:STANDARD
END:VTIMEZONE
BEGIN:VEVENT
DTSTART;TZID=America/New_York:20260304T140000
DTEND;TZID=America/New_York:20260304T151500
DTSTAMP:20260424T185808
CREATED:20251203T201621Z
LAST-MODIFIED:20251203T201621Z
UID:10035760-1772632800-1772637300@metroatlantaexchange.org
SUMMARY:National Association of Colleges and Employers (NACE): AI Bootcamp for Career Services Spring 2026
DESCRIPTION:The National Association of Colleges and Employers (NACE) is hosting its AI Bootcamp for Career Services Spring 2026 every Wednesday\, starting March 4th\, from 2:00 PM to 3:15 PM. \nThis four-week journey of immersive\, virtual AI training will elevate your impact with students. You will learn how to use AI to boost your advising game this school year and be more prepared for the ever-changing AI landscape. \nClick here to learn more and register.
URL:https://metroatlantaexchange.org/event/national-association-of-colleges-and-employers-nace-ai-bootcamp-for-career-services-spring-2026/
CATEGORIES:Virtual Event,Workforce Developer
END:VEVENT
END:VCALENDAR