BEGIN:VCALENDAR
VERSION:2.0
PRODID:-//MAX - ECPv6.15.17.1//NONSGML v1.0//EN
CALSCALE:GREGORIAN
METHOD:PUBLISH
X-ORIGINAL-URL:https://metroatlantaexchange.org
X-WR-CALDESC:Events for MAX
REFRESH-INTERVAL;VALUE=DURATION:PT1H
X-Robots-Tag:noindex
X-PUBLISHED-TTL:PT1H
BEGIN:VTIMEZONE
TZID:America/New_York
BEGIN:DAYLIGHT
TZOFFSETFROM:-0500
TZOFFSETTO:-0400
TZNAME:EDT
DTSTART:20250309T070000
END:DAYLIGHT
BEGIN:STANDARD
TZOFFSETFROM:-0400
TZOFFSETTO:-0500
TZNAME:EST
DTSTART:20251102T060000
END:STANDARD
BEGIN:DAYLIGHT
TZOFFSETFROM:-0500
TZOFFSETTO:-0400
TZNAME:EDT
DTSTART:20260308T070000
END:DAYLIGHT
BEGIN:STANDARD
TZOFFSETFROM:-0400
TZOFFSETTO:-0500
TZNAME:EST
DTSTART:20261101T060000
END:STANDARD
BEGIN:DAYLIGHT
TZOFFSETFROM:-0500
TZOFFSETTO:-0400
TZNAME:EDT
DTSTART:20270314T070000
END:DAYLIGHT
BEGIN:STANDARD
TZOFFSETFROM:-0400
TZOFFSETTO:-0500
TZNAME:EST
DTSTART:20271107T060000
END:STANDARD
END:VTIMEZONE
BEGIN:VEVENT
DTSTART;TZID=America/New_York:20260414T100000
DTEND;TZID=America/New_York:20260414T110000
DTSTAMP:20260424T170713
CREATED:20260406T060813Z
LAST-MODIFIED:20260406T060813Z
UID:10036046-1776160800-1776164400@metroatlantaexchange.org
SUMMARY:CareerRise: Information Session on Request for Proposals for Women’s Perspective Research
DESCRIPTION:CareerRise is hosting an Information Session on its Request for Proposals for Women’s Perspective Research on Tuesday\, April 14th\, at 10:00 AM. \nCareerRise seeks proposals from qualified consultants or firms to conduct qualitative research exploring women’s perceptions and experiences related to non-traditional occupations (NTOs) — including careers in construction\, skilled trades\, and manufacturing. \nClick here to register.
URL:https://metroatlantaexchange.org/event/careerrise-information-session-on-request-for-proposals-for-womens-perspective-research/
CATEGORIES:Virtual Event,Workforce Developer
END:VEVENT
END:VCALENDAR