BEGIN:VCALENDAR
VERSION:2.0
PRODID:-//MAX - ECPv6.15.17.1//NONSGML v1.0//EN
CALSCALE:GREGORIAN
METHOD:PUBLISH
X-WR-CALNAME:MAX
X-ORIGINAL-URL:https://metroatlantaexchange.org
X-WR-CALDESC:Events for MAX
REFRESH-INTERVAL;VALUE=DURATION:PT1H
X-Robots-Tag:noindex
X-PUBLISHED-TTL:PT1H
BEGIN:VTIMEZONE
TZID:America/New_York
BEGIN:DAYLIGHT
TZOFFSETFROM:-0500
TZOFFSETTO:-0400
TZNAME:EDT
DTSTART:20250309T070000
END:DAYLIGHT
BEGIN:STANDARD
TZOFFSETFROM:-0400
TZOFFSETTO:-0500
TZNAME:EST
DTSTART:20251102T060000
END:STANDARD
BEGIN:DAYLIGHT
TZOFFSETFROM:-0500
TZOFFSETTO:-0400
TZNAME:EDT
DTSTART:20260308T070000
END:DAYLIGHT
BEGIN:STANDARD
TZOFFSETFROM:-0400
TZOFFSETTO:-0500
TZNAME:EST
DTSTART:20261101T060000
END:STANDARD
BEGIN:DAYLIGHT
TZOFFSETFROM:-0500
TZOFFSETTO:-0400
TZNAME:EDT
DTSTART:20270314T070000
END:DAYLIGHT
BEGIN:STANDARD
TZOFFSETFROM:-0400
TZOFFSETTO:-0500
TZNAME:EST
DTSTART:20271107T060000
END:STANDARD
END:VTIMEZONE
BEGIN:VEVENT
DTSTART;TZID=America/New_York:20260222T080000
DTEND;TZID=America/New_York:20260222T170000
DTSTAMP:20260423T004448
CREATED:20260223T031929Z
LAST-MODIFIED:20260223T031929Z
UID:10035965-1771747200-1771779600@metroatlantaexchange.org
SUMMARY:MAX Minutes with Chris Green\, Georgia Student Finance Commission
DESCRIPTION:The Metro Atlanta eXchange for Workforce Solutions (MAX) will host MAX Minutes with Chris Green\, Georgia Student Finance Commission\, on Friday\, February 27th\, at 9:00 AM\, via Zoom. \nAs the state’s single higher education finance agency\, the Georgia Student Finance Commission’s mission is to promote and increase access to education beyond high school for Georgians. The agency has a long history of helping students access higher education by providing financial aid options and programs to make college more affordable. \nChris Green\, President of the Georgia Student Finance Commission\, will join MAX to provide an update on how Georgia’s student financial aid programs are shaping the state’s workforce. This session will cover recent legislative and budget updates\, highlight program innovations\, and share strategies that connect education to economic growth. Chris will also discuss practical ways workforce and economic development professionals can support talent development in their communities. \nJoin MAX on Friday\, February 27th\, 9:00 AM\, for a timely and virtual conversation. \nClick here to register.
URL:https://metroatlantaexchange.org/event/max-minutes-with-chris-green-georgia-student-finance-commission/
LOCATION:GA
CATEGORIES:Employer,MAX,Student,Virtual Event,Workforce Developer
END:VEVENT
BEGIN:VEVENT
DTSTART;TZID=America/New_York:20260417T090000
DTEND;TZID=America/New_York:20260417T100000
DTSTAMP:20260423T004448
CREATED:20260413T045219Z
LAST-MODIFIED:20260413T045219Z
UID:10036254-1776416400-1776420000@metroatlantaexchange.org
SUMMARY:MAX Minutes with Public Policy Experts
DESCRIPTION:The Metro Atlanta eXchange for Workforce Solutions (MAX) is hosting MAX Minutes with Public Policy Experts on Friday\, April 17th\, at 9:00 AM\, via Zoom. \nDuring the 2026 Georgia General Assembly legislative session\, lawmakers considered several workforce and education initiatives for Georgians—from bridging the skills gap through apprenticeships and improving K–3 literacy to fostering housing stability for workers and addressing shortages in the healthcare workforce. \nTo break down what passed—and what to watch next—public policy leaders Tim Cairl\, Vice President of Talent Development at the Metro Atlanta Chamber\, and Daniela Perry\, Executive Director of the Georgia Chamber Foundation\, will again join MAX for their annual recap. They’ll review legislation that advanced through both chambers\, highlight other key outcomes from the session\, and share early insights on what to expect heading into the 2027 legislative session. \nClick here to register.
URL:https://metroatlantaexchange.org/event/max-minutes-with-public-policy-experts-3/
LOCATION:GA
CATEGORIES:Employer,MAX,Virtual Event,Workforce Developer
END:VEVENT
BEGIN:VEVENT
DTSTART;TZID=America/New_York:20260506T100000
DTEND;TZID=America/New_York:20260506T153000
DTSTAMP:20260423T004448
CREATED:20260330T061325Z
LAST-MODIFIED:20260330T061325Z
UID:10036045-1778061600-1778081400@metroatlantaexchange.org
SUMMARY:MAX Academy: Mastering Apprenticeships & Pre-Apprenticeships
DESCRIPTION:The Metro Atlanta eXchange for Workforce Solutions (MAX) is hosting MAX Academy: Mastering Apprenticeships & Pre-Apprenticeships\, Presented by Google\, on Wednesday\, May 6th\, 2026\, from 10:00 AM to 3:30 PM\, at a place to be announced. \nApprenticeships are a proven\, high-impact workforce strategy that align education with real-world industry needs. By combining paid\, hands-on training with structured classroom instruction\, apprenticeships create clear pathways to skilled careers while enabling employers to develop talent tailored to their specific workforce demands. \nDuring our next MAX Academy\, presented by Google\, participants will be led into a comprehensive deep dive into the structure\, strategy\, and success factors of high-quality apprenticeship and pre-apprenticeship programs. Designed for workforce professionals\, the Academy will explore the full lifecycle of apprenticeship development—from foundational concepts to measurable outcomes. Participants will gain a clear understanding of the differences and connections between apprenticeships and pre-apprenticeships\, including how each supports talent pipelines\, workforce equity\, and industry needs. \nThrough this MAX Academy\, we will learn about the ins and outs of building successful apprenticeship and pre-apprenticehsip programs from colleagues with the Technical College System of Georgia (TCSG) as well as colleagues with technical colleges in metro Atlanta\, community-based workforce providers\, and employers who have administered successful programs linking job seekers to better career pathways. \nClick here to learn more and register. \n 
URL:https://metroatlantaexchange.org/event/max-academy-mastering-apprenticeships-pre-apprenticeships/
LOCATION:GA
CATEGORIES:Employer,In-Person Event,MAX,Workforce Developer
END:VEVENT
END:VCALENDAR