BEGIN:VCALENDAR
VERSION:2.0
PRODID:-//MAX - ECPv6.15.17.1//NONSGML v1.0//EN
CALSCALE:GREGORIAN
METHOD:PUBLISH
X-WR-CALNAME:MAX
X-ORIGINAL-URL:https://metroatlantaexchange.org
X-WR-CALDESC:Events for MAX
REFRESH-INTERVAL;VALUE=DURATION:PT1H
X-Robots-Tag:noindex
X-PUBLISHED-TTL:PT1H
BEGIN:VTIMEZONE
TZID:America/New_York
BEGIN:DAYLIGHT
TZOFFSETFROM:-0500
TZOFFSETTO:-0400
TZNAME:EDT
DTSTART:20250309T070000
END:DAYLIGHT
BEGIN:STANDARD
TZOFFSETFROM:-0400
TZOFFSETTO:-0500
TZNAME:EST
DTSTART:20251102T060000
END:STANDARD
BEGIN:DAYLIGHT
TZOFFSETFROM:-0500
TZOFFSETTO:-0400
TZNAME:EDT
DTSTART:20260308T070000
END:DAYLIGHT
BEGIN:STANDARD
TZOFFSETFROM:-0400
TZOFFSETTO:-0500
TZNAME:EST
DTSTART:20261101T060000
END:STANDARD
BEGIN:DAYLIGHT
TZOFFSETFROM:-0500
TZOFFSETTO:-0400
TZNAME:EDT
DTSTART:20270314T070000
END:DAYLIGHT
BEGIN:STANDARD
TZOFFSETFROM:-0400
TZOFFSETTO:-0500
TZNAME:EST
DTSTART:20271107T060000
END:STANDARD
END:VTIMEZONE
BEGIN:VEVENT
DTSTART;TZID=America/New_York:20260411T090000
DTEND;TZID=America/New_York:20260411T120000
DTSTAMP:20260422T191648
CREATED:20260406T152758Z
LAST-MODIFIED:20260406T152758Z
UID:10036071-1775898000-1775908800@metroatlantaexchange.org
SUMMARY:Fulton County District 5 Commissioner Marvin S. Arrington Jr.: Annual Summer Teen Hiring Fair
DESCRIPTION:Fulton County District 5 Commissioner Marvin S. Arrington\, Jr. is hosting the Annual Summer Teen Hiring Fair on Saturday\, April 11th\, from 9:00 AM to 12:00 PM\, at the Welcome All Park. \nThis event connects teens with local employers\, HR professionals\, and real interview experiences. Attendees will also have access to the WorkSource Fulton Mobile Career Center\, which will assist youth ages 14 to 24 in enrolling in the paid Career Compass Academy work-readiness program. \nClick here to register.
URL:https://metroatlantaexchange.org/event/fulton-county-district-5-commissioner-marvin-s-arrington-jr-annual-summer-teen-hiring-fair/
LOCATION:Welcome All Park\, 4255 Will Lee Road\, South Fulton\, GA\, 30349\, United States
CATEGORIES:In-Person Event,Job Seeker,Student
END:VEVENT
END:VCALENDAR