BEGIN:VCALENDAR
VERSION:2.0
PRODID:-//MAX - ECPv6.15.17.1//NONSGML v1.0//EN
CALSCALE:GREGORIAN
METHOD:PUBLISH
X-WR-CALNAME:MAX
X-ORIGINAL-URL:https://metroatlantaexchange.org
X-WR-CALDESC:Events for MAX
REFRESH-INTERVAL;VALUE=DURATION:PT1H
X-Robots-Tag:noindex
X-PUBLISHED-TTL:PT1H
BEGIN:VTIMEZONE
TZID:America/New_York
BEGIN:DAYLIGHT
TZOFFSETFROM:-0500
TZOFFSETTO:-0400
TZNAME:EDT
DTSTART:20240310T070000
END:DAYLIGHT
BEGIN:STANDARD
TZOFFSETFROM:-0400
TZOFFSETTO:-0500
TZNAME:EST
DTSTART:20241103T060000
END:STANDARD
BEGIN:DAYLIGHT
TZOFFSETFROM:-0500
TZOFFSETTO:-0400
TZNAME:EDT
DTSTART:20250309T070000
END:DAYLIGHT
BEGIN:STANDARD
TZOFFSETFROM:-0400
TZOFFSETTO:-0500
TZNAME:EST
DTSTART:20251102T060000
END:STANDARD
BEGIN:DAYLIGHT
TZOFFSETFROM:-0500
TZOFFSETTO:-0400
TZNAME:EDT
DTSTART:20260308T070000
END:DAYLIGHT
BEGIN:STANDARD
TZOFFSETFROM:-0400
TZOFFSETTO:-0500
TZNAME:EST
DTSTART:20261101T060000
END:STANDARD
END:VTIMEZONE
BEGIN:VEVENT
DTSTART;TZID=America/New_York:20250429T090000
DTEND;TZID=America/New_York:20250429T123000
DTSTAMP:20260423T004410
CREATED:20250417T214944Z
LAST-MODIFIED:20250417T214944Z
UID:10033479-1745917200-1745929800@metroatlantaexchange.org
SUMMARY:Georgia Center for Nonprofits: Hiring and Evaluating Performance
DESCRIPTION:Georgia Center for Nonprofits is hosting a webinar on Hiring and Evaluating Performance on Tuesday\, April 29th\, from 9:00 AM to 12:30 PM. \nA critical skill for any management professional is the ability to successfully hire and develop employees. Ensuring that a good match is made between an employee and their job can deter problems down the road. This course provides a foundational understanding of key talent management processes\, including recruitment\, retention\, performance evaluation\, compensation\, and coaching. Participants will learn the importance of these processes\, and how to operate proactively when managing talent. \nClick here to learn more and register.
URL:https://metroatlantaexchange.org/event/georgia-center-for-nonprofits-hiring-and-evaluating-performance/
LOCATION:GA
CATEGORIES:Virtual Event,Workforce Developer
END:VEVENT
BEGIN:VEVENT
DTSTART;TZID=America/New_York:20250428T123000
DTEND;TZID=America/New_York:20250428T130000
DTSTAMP:20260423T004410
CREATED:20250417T202119Z
LAST-MODIFIED:20250417T202119Z
UID:10033437-1745843400-1745845200@metroatlantaexchange.org
SUMMARY:Manufacturing Institute: Heroes MAKE America Skillbridge Information Session
DESCRIPTION:The Manufacturing Institute is hosting a Heroes MAKE America SkillBridge Information Session on Monday\, April 28th\, from 12:30 PM to 1:00 PM. \nThis session will cover an overview of the Heroes MAKE America initiative as well as offer insight into diverse career opportunities in manufacturing. \nClick here to register via Zoom.
URL:https://metroatlantaexchange.org/event/manufacturing-institute-heroes-make-america-skillbridge-information-session-4/
LOCATION:GA
CATEGORIES:Career Development,Job Seeker,Veterans/Military,Virtual Event
END:VEVENT
BEGIN:VEVENT
DTSTART;TZID=America/New_York:20250425T090000
DTEND;TZID=America/New_York:20250425T100000
DTSTAMP:20260423T004410
CREATED:20250414T020311Z
LAST-MODIFIED:20250414T020311Z
UID:10033427-1745571600-1745575200@metroatlantaexchange.org
SUMMARY:MAX Minutes with Public Policy Experts
DESCRIPTION:The Metro Atlanta eXchange for Workforce Solutions (MAX) is hosting MAX Minutes with Public Policy Experts on Friday\, April 25th\, at 9:00 AM\, via Zoom. \nFrom childcare and high demand careers to college completion grants and apprenticeships\, lawmakers considered several important bills for Georgians during the 2025 Georgia General Assembly legislative session. \nPublic policy leaders from the Metro Atlanta Chamber and the Georgia Chamber of Commerce\, will once again join MAX to provide their annual recap on which pieces of legislation – workforce and education-related – successfully passed both chambers of the legislature and other outcomes from the session. They will also share some early insights on what to potentially look forward to in the 2026 legislative session. \nClick here to register. \nABOUT MAX MINUTES \nLaunched in 2014\, the mission of MAX is to advance economic resilience in the Atlanta region by strengthening connections\, collaborations\, and practices among workforce developers and organizations engaged in workforce development. \nThrough our webinar series\, MAX Minutes\, MAX seeks to bring timely insights to providers\, intermediaries\, and other partners in workforce. MAX Minutes features talks by key experts in the Atlanta region and beyond on important workforce matters.
URL:https://metroatlantaexchange.org/event/max-minutes-with-public-policy-experts/
LOCATION:
CATEGORIES:Employer,MAX,Virtual Event,Workforce Developer
END:VEVENT
BEGIN:VEVENT
DTSTART;TZID=America/New_York:20250424T180000
DTEND;TZID=America/New_York:20250424T193000
DTSTAMP:20260423T004410
CREATED:20250417T195429Z
LAST-MODIFIED:20250417T195429Z
UID:10033435-1745517600-1745523000@metroatlantaexchange.org
SUMMARY:International Association of Administrative Professionals (IAAP): Georgia Branch Networking Mixer
DESCRIPTION:The International Association of Administrative Professionals (IAAP) is hosting a Georgia Branch Networking Mixer on Thursday\, April 24th\, from 6:00 PM to 7:30 PM\, at Reverence. \nJoin the IAAP Georgia Branch for an exclusive Networking Mixer for administrative professionals! This event offers opportunities to connect\, collaborate\, and exchange ideas with like-minded peers. Enjoy a relaxed atmosphere\, light refreshments\, and insightful conversations that can help enhance your career and expand your professional network. Small plates compliments of IAAP Georgia Branch; cash bar and parking at own expense. \nClick here to learn more and register.
URL:https://metroatlantaexchange.org/event/international-association-of-administrative-professionals-iaap-georgia-branch-networking-mixer/
LOCATION:Reverence\, 1117 West Peachtree Street\, NW\, Atlanta\, GA\, 30309\, United States
CATEGORIES:Career Development,In-Person Event,Job Seeker
END:VEVENT
BEGIN:VEVENT
DTSTART;TZID=America/New_York:20250424T140000
DTEND;TZID=America/New_York:20250424T153000
DTSTAMP:20260423T004410
CREATED:20250417T195632Z
LAST-MODIFIED:20250417T195632Z
UID:10033436-1745503200-1745508600@metroatlantaexchange.org
SUMMARY:National Park Service: Federal Jobs Webinar - Mastering the Application
DESCRIPTION:The National Park Service is hosting a Federal Jobs Webinar: Mastering the Application on Thursday\, April 24th\, from 2:00 PM to 3:30 PM. \nIn this webinar\, the National Park Service Recruitment Team will share amazing tips and strategies for navigating the USAJOBS application process as well as crafting compelling federal resumes\, how the federal hiring process works\, why your USAJOBS profile is so important\, and so much more! Space is limited and you won’t want to miss this!  Please make sure to reserve your spot today and take the first step towards getting your dream career with the National Park Service. \nClick here to learn more and register.
URL:https://metroatlantaexchange.org/event/national-park-service-federal-jobs-webinar-mastering-the-application/
LOCATION:GA
CATEGORIES:Career Development,Job Seeker,Virtual Event
END:VEVENT
BEGIN:VEVENT
DTSTART;TZID=America/New_York:20250424T130000
DTEND;TZID=America/New_York:20250424T163000
DTSTAMP:20260423T004410
CREATED:20250417T214825Z
LAST-MODIFIED:20250417T214825Z
UID:10033478-1745499600-1745512200@metroatlantaexchange.org
SUMMARY:Georgia Center for Nonprofits: Making Volunteers Your Best Advocates and Leaders
DESCRIPTION:Georgia Center for Nonprofits is hosting a webinar on Making Volunteers Your Best Advocates and Leaders on Thursday\, April 24th\, from 1:00 PM to 4:30 PM. \nWhen volunteers become motivated advocates\, they can make a significant impact on any nonprofit\, helping to advance the mission inside the organization and in the external community. In this course\, participants will pick up tools to turn volunteers into champions for your organization and leaders within your volunteer corps. \nClick here to learn more and register.
URL:https://metroatlantaexchange.org/event/georgia-center-for-nonprofits-making-volunteers-your-best-advocates-and-leaders/
LOCATION:GA
CATEGORIES:Virtual Event,Workforce Developer
END:VEVENT
BEGIN:VEVENT
DTSTART;TZID=America/New_York:20250424T090000
DTEND;TZID=America/New_York:20250424T123000
DTSTAMP:20260423T004410
CREATED:20250417T214706Z
LAST-MODIFIED:20250417T214706Z
UID:10033477-1745485200-1745497800@metroatlantaexchange.org
SUMMARY:Georgia Center for Nonprofits: Talent Development and Performance Management
DESCRIPTION:Georgia Center for Nonprofits is hosting a webinar on Talent Development and Performance Management on Thursday\, April 24th\, from 9:00 AM to 12:30 PM. \nHigh-quality employees are vital to the success of any organization\, and human resources professionals must have the ability to successfully develop talent and utilize best performance HR management practices. Effective talent and performance management have a significant impact the bottom line for the organization. In this course\, participants will cover the strategies and techniques essential to strategically managing talent and performance in order to meet the mission and vision of the organization. \nClick here to learn more and register.
URL:https://metroatlantaexchange.org/event/georgia-center-for-nonprofits-talent-development-and-performance-management-2/
LOCATION:GA
CATEGORIES:Virtual Event,Workforce Developer
END:VEVENT
BEGIN:VEVENT
DTSTART;TZID=America/New_York:20250424T080000
DTEND;TZID=America/New_York:20250424T170000
DTSTAMP:20260423T004410
CREATED:20240801T220914Z
LAST-MODIFIED:20240801T220914Z
UID:10032708-1745481600-1745514000@metroatlantaexchange.org
SUMMARY:Manufacturing Institute: 2025 Women MAKE Awards
DESCRIPTION:The Manufacturing Institute is hosting the 2025 Women MAKE Awards on Thursday\, April 24th\, 2025\, at the Anthem. \nWomen are the largest talent opportunity to close the skills gap in the manufacturing industry. They also increase innovation and drive the future of our workforce. The Women MAKE Awards recognize women gamechangers working in the manufacturing industry who exemplify leadership within their companies. This national honor identifies top talent in manufacturing and further encourages award winders to mentor and support the next generation of female talent to pursue modern manufacturing careers. This ceremony will give women across the country a platform to showcase the incredible opportunities the industry has to offer\, whether they are running the company\, designing the next big product or testing innovations on the shop floor. \nClick here to learn more.
URL:https://metroatlantaexchange.org/event/manufacturing-institute-2025-women-make-awards/
LOCATION:Anthem\, 901 Wharf Street\, SW\, Washington\, DC\, 20024\, United States
CATEGORIES:Conferences,In-Person Event,Workforce Developer
END:VEVENT
BEGIN:VEVENT
DTSTART;TZID=America/New_York:20250423T190000
DTEND;TZID=America/New_York:20250423T200000
DTSTAMP:20260423T004410
CREATED:20250417T194654Z
LAST-MODIFIED:20250417T194654Z
UID:10033432-1745434800-1745438400@metroatlantaexchange.org
SUMMARY:Hiring Our Heroes: Military Spouse Fellowships Virtual Information Session
DESCRIPTION:Hiring Our Heroes is hosting a Military Spouse Fellowships Virtual Information Session on Wednesday\, April 23rd\, starting at 7:00 PM. \nWe invite military spouses to learn more about the Hiring Our Heroes (HOH) Military Spouse Fellowships (MSF) and the Department of Defense’s Military Spouse Career Accelerator Pilot (MSCAP)\, proudly facilitated by HOH. Fellowships offer military spouses professional training\, networking opportunities\, and hands-on experience in the civilian workforce. Through this program\, participants can quickly build their networks and gain localized job experience by connecting directly with local employers. \nClick here to register via Zoom.
URL:https://metroatlantaexchange.org/event/hiring-our-heroes-military-spouse-fellowships-virtual-information-session/
LOCATION:GA
CATEGORIES:Career Development,Job Seeker,Veterans/Military,Virtual Event
END:VEVENT
BEGIN:VEVENT
DTSTART;TZID=America/New_York:20250423T180000
DTEND;TZID=America/New_York:20250423T190000
DTSTAMP:20260423T004410
CREATED:20250417T194817Z
LAST-MODIFIED:20250417T194817Z
UID:10033433-1745431200-1745434800@metroatlantaexchange.org
SUMMARY:Job Search Academy: Indeed Bootcamp
DESCRIPTION:Job Search Academy is hosting an Indeed Bootcamp webinar on Wednesday\, April 23rd\, starting at 6:00 PM. \nJoin Indeed Career Strategist Matt Berndt and Senior Product Marketing Manager Samantha Rosenberg provide an overview of key features and tips and strategies for using Indeed to pursue better work. Learn about new resources and ask your most pressing questions about how to use Indeed. \nClick here to register.
URL:https://metroatlantaexchange.org/event/job-search-academy-indeed-bootcamp/
LOCATION:GA
CATEGORIES:Career Development,Job Seeker,Virtual Event
END:VEVENT
BEGIN:VEVENT
DTSTART;TZID=America/New_York:20250423T140000
DTEND;TZID=America/New_York:20250423T150000
DTSTAMP:20260423T004410
CREATED:20250417T214527Z
LAST-MODIFIED:20250417T214527Z
UID:10033476-1745416800-1745420400@metroatlantaexchange.org
SUMMARY:Coalition on Adult Basic Education (COABE): Empowering Adult Learners with Free eCornell Certificates
DESCRIPTION:The Coalition on Adult Basic Education (COABE) is hosting a webinar on Empowering Adult Learners with Free eCornell Certificates on Wednesday\, April 23rd\, starting at 2:00 PM. \nJoin us for an exciting and informative webinar introducing COABE’s new partnership with eCornell\, Cornell University’s external education unit. This session is designed to guide you through the many professional certificate programs now available to adult learners through this unique opportunity. Whether you’re looking to build new skills\, advance your career\, or earn a credential from an Ivy League institution\, this webinar will help you get started with confidence. \nClick here to learn more and register via Zoom.
URL:https://metroatlantaexchange.org/event/coalition-on-adult-basic-education-coabe-empowering-adult-learners-with-free-ecornell-certificates/
LOCATION:GA
CATEGORIES:Virtual Event,Workforce Developer
ORGANIZER;CN="Coalition on Adult Basic Education (COABE)":MAILTO:info@coabe.org
END:VEVENT
BEGIN:VEVENT
DTSTART;TZID=America/New_York:20250423T100000
DTEND;TZID=America/New_York:20250423T113000
DTSTAMP:20260423T004410
CREATED:20250417T195121Z
LAST-MODIFIED:20250417T195121Z
UID:10033434-1745402400-1745407800@metroatlantaexchange.org
SUMMARY:NPursuit Career Partners: Applying to Jobs Online + LinkedIn
DESCRIPTION:NPursuit Career Partners in partnership with the City of Refuge is hosting Applying to Jobs Online + LinkedIn on Wednesday\, April 23rd\, from 10:00 AM to 11:30 PM\, at the City of Refuge. \nThis class is part of the Digital Connections Academy that provides expert guidance\, AI tools\, search strategies and networking to help participants achieve their career goals. Free lunch and parking will be provided as well as a complimentary laptop upon program completion. \nClick here to learn more and register.
URL:https://metroatlantaexchange.org/event/npursuit-career-partners-applying-to-jobs-online-linkedin/
LOCATION:City of Refuge Workforce Innovation Hub\, 1300 Joseph E. Boone Blvd NW\, Atlanta\, GA\, 30314\, United States
CATEGORIES:Career Development,In-Person Event,Job Seeker
GEO:33.7623158;-84.4302296
X-APPLE-STRUCTURED-LOCATION;VALUE=URI;X-ADDRESS=City of Refuge Workforce Innovation Hub 1300 Joseph E. Boone Blvd NW Atlanta GA 30314 United States;X-APPLE-RADIUS=500;X-TITLE=1300 Joseph E. Boone Blvd NW:geo:-84.4302296,33.7623158
END:VEVENT
BEGIN:VEVENT
DTSTART;TZID=America/New_York:20250422T080000
DTEND;TZID=America/New_York:20250424T170000
DTSTAMP:20260423T004410
CREATED:20241222T211527Z
LAST-MODIFIED:20241222T211527Z
UID:10032991-1745308800-1745514000@metroatlantaexchange.org
SUMMARY:National Association of State Workforce Agencies (NASWA): 2025 UI SIDES Seminar
DESCRIPTION:The National Association of State Workforce Agencies (NASWA) is hosting the 2025 UI SIDES Seminar on Tuesday\, April 22nd through Thursday\, April 24th\, at the Hilton Salt Lake Center. \nThe UI State Information Data Exchange System (SIDES) Seminar is a gathering for state workforce members\, employers\, and third-party administrators (TPAs) to discuss current and developing trends in the unemployment program and how UI SIDES can be used to enhance integrity measures\, streamline claims processing\, and reduce agency costs. The deadline to register is Friday\, March 28th. \nClick here to learn more and register.
URL:https://metroatlantaexchange.org/event/national-association-of-state-workforce-agencies-naswa-2025-ui-sides-seminar/
LOCATION:Hilton Salt Lake Center\, 255 South West Temple Street\, Salt Lake City\, UT\, 84101\, United States
CATEGORIES:Conferences,In-Person Event,Workforce Developer
ORGANIZER;CN="National Association of State Workforce Agencies (NASWA)":MAILTO:naswa@naswa.org
END:VEVENT
BEGIN:VEVENT
DTSTART;TZID=America/New_York:20250421T080000
DTEND;TZID=America/New_York:20250424T170000
DTSTAMP:20260423T004410
CREATED:20250417T222343Z
LAST-MODIFIED:20250417T222343Z
UID:10033496-1745222400-1745514000@metroatlantaexchange.org
SUMMARY:National Skills Coalition: American Society on Aging's "On Aging" Conference
DESCRIPTION:The National Skills Coalition is hosting an American Society on Aging’s “On Aging” Conference starting Monday\, April 21st through Thursday\, April 24th\, at the Hyatt Regency Orlando. \nOn Aging is the nation’s largest multidisciplinary conference on aging and the annual conference for members of the American Society on Aging. On Aging 2025 is an opportunity to connect\, learn\, and share your expertise with thousands of professionals working in aging and related fields. This year we are uniting on the topic of Ageism & Culture\, with Keynote speakers and special events focused on combating ageism in our society. \nClick here to learn more and register.
URL:https://metroatlantaexchange.org/event/national-skills-coalition-american-society-on-agings-on-aging-conference/
LOCATION:Hyatt Regency Orlando\, 9801 International Drive\, Orlando\, FL\, 32819\, United States
CATEGORIES:Conferences,In-Person Event,Workforce Developer
ORGANIZER;CN="National Skills Coalition":MAILTO:info@nationalskillscoalition.org
END:VEVENT
END:VCALENDAR