BEGIN:VCALENDAR
VERSION:2.0
PRODID:-//MAX - ECPv6.15.17.1//NONSGML v1.0//EN
CALSCALE:GREGORIAN
METHOD:PUBLISH
X-WR-CALNAME:MAX
X-ORIGINAL-URL:https://metroatlantaexchange.org
X-WR-CALDESC:Events for MAX
REFRESH-INTERVAL;VALUE=DURATION:PT1H
X-Robots-Tag:noindex
X-PUBLISHED-TTL:PT1H
BEGIN:VTIMEZONE
TZID:America/New_York
BEGIN:DAYLIGHT
TZOFFSETFROM:-0500
TZOFFSETTO:-0400
TZNAME:EDT
DTSTART:20250309T070000
END:DAYLIGHT
BEGIN:STANDARD
TZOFFSETFROM:-0400
TZOFFSETTO:-0500
TZNAME:EST
DTSTART:20251102T060000
END:STANDARD
BEGIN:DAYLIGHT
TZOFFSETFROM:-0500
TZOFFSETTO:-0400
TZNAME:EDT
DTSTART:20260308T070000
END:DAYLIGHT
BEGIN:STANDARD
TZOFFSETFROM:-0400
TZOFFSETTO:-0500
TZNAME:EST
DTSTART:20261101T060000
END:STANDARD
BEGIN:DAYLIGHT
TZOFFSETFROM:-0500
TZOFFSETTO:-0400
TZNAME:EDT
DTSTART:20270314T070000
END:DAYLIGHT
BEGIN:STANDARD
TZOFFSETFROM:-0400
TZOFFSETTO:-0500
TZNAME:EST
DTSTART:20271107T060000
END:STANDARD
END:VTIMEZONE
BEGIN:VEVENT
DTSTART;TZID=America/New_York:20260617T090000
DTEND;TZID=America/New_York:20260617T100000
DTSTAMP:20260422T225424
CREATED:20250902T220734Z
LAST-MODIFIED:20250902T220734Z
UID:10035288-1781686800-1781690400@metroatlantaexchange.org
SUMMARY:Goodwill of North Georgia: NorthStar Testing Session
DESCRIPTION:Goodwill of North Georgia is hosting a NorthStar Testing Session every Wednesday\, from 9:00 AM to 10:00 AM\, at the Woodstock Career Center. \nFor more information\, call 770-874-0901. \nClick here to learn more and register.
URL:https://metroatlantaexchange.org/event/goodwill-of-north-georgia-northstar-testing-session/2026-06-17/
LOCATION:Goodwill of North Georgia – Woodstock Career Center\, 9425 Highway 92\, Woodstock\, GA\, 30188\, United States
CATEGORIES:Career Development,In-Person Event,Job Seeker
GEO:34.0872637;-84.5325399
X-APPLE-STRUCTURED-LOCATION;VALUE=URI;X-ADDRESS=Goodwill of North Georgia – Woodstock Career Center 9425 Highway 92 Woodstock GA 30188 United States;X-APPLE-RADIUS=500;X-TITLE=9425 Highway 92:geo:-84.5325399,34.0872637
END:VEVENT
BEGIN:VEVENT
DTSTART;TZID=America/New_York:20260624T080000
DTEND;TZID=America/New_York:20260626T170000
DTSTAMP:20260422T225424
CREATED:20251203T202449Z
LAST-MODIFIED:20251203T202449Z
UID:10035765-1782288000-1782493200@metroatlantaexchange.org
SUMMARY:National League of Cities (NLC): Women in Municipal Government (WIMG) 2026 Summer Conference
DESCRIPTION:The National League of Cities (NLC) is hosting the Women in Municipal Government (WIMG) 2026 Summer Conference starting Wednesday\, June 24th through Friday\, June 26th\, in Broken Arrow\, OK. \nThis dynamic annual event brings together women leaders from across the country to connect\, collaborate and advance the future of local government. Attendees will have the opportunity to learn about local policy issues\, engage in meaningful discussions\, expand your network and strengthen your governance skills. Stay tuned for exciting updates on this year’s conference theme\, speakers\, session titles and more. \nClick here to learn more and save the date!
URL:https://metroatlantaexchange.org/event/national-league-of-cities-nlc-women-in-municipal-government-wimg-2026-summer-conference/
CATEGORIES:Conferences,In-Person Event,Workforce Developer
ORGANIZER;CN="National League of Cities":MAILTO:info@nlc.org
END:VEVENT
BEGIN:VEVENT
DTSTART;TZID=America/New_York:20260624T090000
DTEND;TZID=America/New_York:20260624T100000
DTSTAMP:20260422T225424
CREATED:20250902T220734Z
LAST-MODIFIED:20250902T220734Z
UID:10035289-1782291600-1782295200@metroatlantaexchange.org
SUMMARY:Goodwill of North Georgia: NorthStar Testing Session
DESCRIPTION:Goodwill of North Georgia is hosting a NorthStar Testing Session every Wednesday\, from 9:00 AM to 10:00 AM\, at the Woodstock Career Center. \nFor more information\, call 770-874-0901. \nClick here to learn more and register.
URL:https://metroatlantaexchange.org/event/goodwill-of-north-georgia-northstar-testing-session/2026-06-24/
LOCATION:Goodwill of North Georgia – Woodstock Career Center\, 9425 Highway 92\, Woodstock\, GA\, 30188\, United States
CATEGORIES:Career Development,In-Person Event,Job Seeker
GEO:34.0872637;-84.5325399
X-APPLE-STRUCTURED-LOCATION;VALUE=URI;X-ADDRESS=Goodwill of North Georgia – Woodstock Career Center 9425 Highway 92 Woodstock GA 30188 United States;X-APPLE-RADIUS=500;X-TITLE=9425 Highway 92:geo:-84.5325399,34.0872637
END:VEVENT
BEGIN:VEVENT
DTSTART;TZID=America/New_York:20260701T090000
DTEND;TZID=America/New_York:20260701T100000
DTSTAMP:20260422T225424
CREATED:20250902T220734Z
LAST-MODIFIED:20250902T220734Z
UID:10035290-1782896400-1782900000@metroatlantaexchange.org
SUMMARY:Goodwill of North Georgia: NorthStar Testing Session
DESCRIPTION:Goodwill of North Georgia is hosting a NorthStar Testing Session every Wednesday\, from 9:00 AM to 10:00 AM\, at the Woodstock Career Center. \nFor more information\, call 770-874-0901. \nClick here to learn more and register.
URL:https://metroatlantaexchange.org/event/goodwill-of-north-georgia-northstar-testing-session/2026-07-01/
LOCATION:Goodwill of North Georgia – Woodstock Career Center\, 9425 Highway 92\, Woodstock\, GA\, 30188\, United States
CATEGORIES:Career Development,In-Person Event,Job Seeker
GEO:34.0872637;-84.5325399
X-APPLE-STRUCTURED-LOCATION;VALUE=URI;X-ADDRESS=Goodwill of North Georgia – Woodstock Career Center 9425 Highway 92 Woodstock GA 30188 United States;X-APPLE-RADIUS=500;X-TITLE=9425 Highway 92:geo:-84.5325399,34.0872637
END:VEVENT
BEGIN:VEVENT
DTSTART;TZID=America/New_York:20260707T180000
DTEND;TZID=America/New_York:20260707T190000
DTSTAMP:20260422T225424
CREATED:20250811T054826Z
LAST-MODIFIED:20250811T054826Z
UID:10035009-1783447200-1783450800@metroatlantaexchange.org
SUMMARY:University of Parents (U4P): DadCONNECT
DESCRIPTION:University of Parents (U4P) hosts DadCONNECT on Tuesdays at 6:00 PM\, virtually. \nThis is a monthly virtual and community-based space designed to empower fathers and strengthen families. These monthly sessions are opportunities for fathers\, grandfathers\, stepfathers\, and male caregivers come together for honest conversation\, encouragement\, and practical tools for fatherhood and life. \nClick here to learn more and register.
URL:https://metroatlantaexchange.org/event/university-of-parents-u4p-dadconnect/2026-07-07/
CATEGORIES:Career Development,Virtual Event
END:VEVENT
BEGIN:VEVENT
DTSTART;TZID=America/New_York:20260708T090000
DTEND;TZID=America/New_York:20260708T100000
DTSTAMP:20260422T225424
CREATED:20250902T220734Z
LAST-MODIFIED:20250902T220734Z
UID:10035291-1783501200-1783504800@metroatlantaexchange.org
SUMMARY:Goodwill of North Georgia: NorthStar Testing Session
DESCRIPTION:Goodwill of North Georgia is hosting a NorthStar Testing Session every Wednesday\, from 9:00 AM to 10:00 AM\, at the Woodstock Career Center. \nFor more information\, call 770-874-0901. \nClick here to learn more and register.
URL:https://metroatlantaexchange.org/event/goodwill-of-north-georgia-northstar-testing-session/2026-07-08/
LOCATION:Goodwill of North Georgia – Woodstock Career Center\, 9425 Highway 92\, Woodstock\, GA\, 30188\, United States
CATEGORIES:Career Development,In-Person Event,Job Seeker
GEO:34.0872637;-84.5325399
X-APPLE-STRUCTURED-LOCATION;VALUE=URI;X-ADDRESS=Goodwill of North Georgia – Woodstock Career Center 9425 Highway 92 Woodstock GA 30188 United States;X-APPLE-RADIUS=500;X-TITLE=9425 Highway 92:geo:-84.5325399,34.0872637
END:VEVENT
BEGIN:VEVENT
DTSTART;TZID=America/New_York:20260713T080000
DTEND;TZID=America/New_York:20260715T170000
DTSTAMP:20260422T225424
CREATED:20251203T202614Z
LAST-MODIFIED:20251203T202614Z
UID:10035766-1783929600-1784134800@metroatlantaexchange.org
SUMMARY:Jobs for the Future: Legislative Summit 2026
DESCRIPTION:Jobs for the Future is hosting its Legislative Summit 2026 starting Monday\, July 13th through Wednesday\, July 15th\, at the Marriot Marquis. \nThe federal policy landscape is rapidly changing\, impacting learning\, work\, and economic advancement opportunities. Join us for Jobs for the Future’s inaugural Legislative Summit at Horizons 2026to gain critical insights and direct access to influence change. During this summit\, Jobs for the Future will advance a federal policy agenda that aims to transform the U.S. education and workforce systems to ensure there are No Dead Ends to economic opportunity in America. This agenda seeks to break down barriers to quality jobs and drive economic success for people\, businesses\, and communities. By submitting your application to participate in the Legislative Summit\, you will be able to lend your voice and expertise to urgent policy conversations in solidarity with field leaders from your state and across the nation. \nClick here to learn more and register.
URL:https://metroatlantaexchange.org/event/jobs-for-the-future-legislative-summit-2026/
LOCATION:Washington Marriot Marquis\, 901 Massachusetts Avenue\, NW\, Washington\, 20001
CATEGORIES:Conferences,In-Person Event,Workforce Developer
END:VEVENT
BEGIN:VEVENT
DTSTART;TZID=America/New_York:20260715T090000
DTEND;TZID=America/New_York:20260715T100000
DTSTAMP:20260422T225424
CREATED:20250902T220734Z
LAST-MODIFIED:20250902T220734Z
UID:10035292-1784106000-1784109600@metroatlantaexchange.org
SUMMARY:Goodwill of North Georgia: NorthStar Testing Session
DESCRIPTION:Goodwill of North Georgia is hosting a NorthStar Testing Session every Wednesday\, from 9:00 AM to 10:00 AM\, at the Woodstock Career Center. \nFor more information\, call 770-874-0901. \nClick here to learn more and register.
URL:https://metroatlantaexchange.org/event/goodwill-of-north-georgia-northstar-testing-session/2026-07-15/
LOCATION:Goodwill of North Georgia – Woodstock Career Center\, 9425 Highway 92\, Woodstock\, GA\, 30188\, United States
CATEGORIES:Career Development,In-Person Event,Job Seeker
GEO:34.0872637;-84.5325399
X-APPLE-STRUCTURED-LOCATION;VALUE=URI;X-ADDRESS=Goodwill of North Georgia – Woodstock Career Center 9425 Highway 92 Woodstock GA 30188 United States;X-APPLE-RADIUS=500;X-TITLE=9425 Highway 92:geo:-84.5325399,34.0872637
END:VEVENT
BEGIN:VEVENT
DTSTART;TZID=America/New_York:20260722T090000
DTEND;TZID=America/New_York:20260722T100000
DTSTAMP:20260422T225424
CREATED:20250902T220734Z
LAST-MODIFIED:20250902T220734Z
UID:10035293-1784710800-1784714400@metroatlantaexchange.org
SUMMARY:Goodwill of North Georgia: NorthStar Testing Session
DESCRIPTION:Goodwill of North Georgia is hosting a NorthStar Testing Session every Wednesday\, from 9:00 AM to 10:00 AM\, at the Woodstock Career Center. \nFor more information\, call 770-874-0901. \nClick here to learn more and register.
URL:https://metroatlantaexchange.org/event/goodwill-of-north-georgia-northstar-testing-session/2026-07-22/
LOCATION:Goodwill of North Georgia – Woodstock Career Center\, 9425 Highway 92\, Woodstock\, GA\, 30188\, United States
CATEGORIES:Career Development,In-Person Event,Job Seeker
GEO:34.0872637;-84.5325399
X-APPLE-STRUCTURED-LOCATION;VALUE=URI;X-ADDRESS=Goodwill of North Georgia – Woodstock Career Center 9425 Highway 92 Woodstock GA 30188 United States;X-APPLE-RADIUS=500;X-TITLE=9425 Highway 92:geo:-84.5325399,34.0872637
END:VEVENT
BEGIN:VEVENT
DTSTART;TZID=America/New_York:20260729T090000
DTEND;TZID=America/New_York:20260729T100000
DTSTAMP:20260422T225424
CREATED:20250902T220734Z
LAST-MODIFIED:20250902T220734Z
UID:10035294-1785315600-1785319200@metroatlantaexchange.org
SUMMARY:Goodwill of North Georgia: NorthStar Testing Session
DESCRIPTION:Goodwill of North Georgia is hosting a NorthStar Testing Session every Wednesday\, from 9:00 AM to 10:00 AM\, at the Woodstock Career Center. \nFor more information\, call 770-874-0901. \nClick here to learn more and register.
URL:https://metroatlantaexchange.org/event/goodwill-of-north-georgia-northstar-testing-session/2026-07-29/
LOCATION:Goodwill of North Georgia – Woodstock Career Center\, 9425 Highway 92\, Woodstock\, GA\, 30188\, United States
CATEGORIES:Career Development,In-Person Event,Job Seeker
GEO:34.0872637;-84.5325399
X-APPLE-STRUCTURED-LOCATION;VALUE=URI;X-ADDRESS=Goodwill of North Georgia – Woodstock Career Center 9425 Highway 92 Woodstock GA 30188 United States;X-APPLE-RADIUS=500;X-TITLE=9425 Highway 92:geo:-84.5325399,34.0872637
END:VEVENT
BEGIN:VEVENT
DTSTART;TZID=America/New_York:20260804T180000
DTEND;TZID=America/New_York:20260804T190000
DTSTAMP:20260422T225424
CREATED:20250811T054826Z
LAST-MODIFIED:20250811T054826Z
UID:10035010-1785866400-1785870000@metroatlantaexchange.org
SUMMARY:University of Parents (U4P): DadCONNECT
DESCRIPTION:University of Parents (U4P) hosts DadCONNECT on Tuesdays at 6:00 PM\, virtually. \nThis is a monthly virtual and community-based space designed to empower fathers and strengthen families. These monthly sessions are opportunities for fathers\, grandfathers\, stepfathers\, and male caregivers come together for honest conversation\, encouragement\, and practical tools for fatherhood and life. \nClick here to learn more and register.
URL:https://metroatlantaexchange.org/event/university-of-parents-u4p-dadconnect/2026-08-04/
CATEGORIES:Career Development,Virtual Event
END:VEVENT
BEGIN:VEVENT
DTSTART;TZID=America/New_York:20260805T090000
DTEND;TZID=America/New_York:20260805T100000
DTSTAMP:20260422T225424
CREATED:20250902T220734Z
LAST-MODIFIED:20250902T220734Z
UID:10035295-1785920400-1785924000@metroatlantaexchange.org
SUMMARY:Goodwill of North Georgia: NorthStar Testing Session
DESCRIPTION:Goodwill of North Georgia is hosting a NorthStar Testing Session every Wednesday\, from 9:00 AM to 10:00 AM\, at the Woodstock Career Center. \nFor more information\, call 770-874-0901. \nClick here to learn more and register.
URL:https://metroatlantaexchange.org/event/goodwill-of-north-georgia-northstar-testing-session/2026-08-05/
LOCATION:Goodwill of North Georgia – Woodstock Career Center\, 9425 Highway 92\, Woodstock\, GA\, 30188\, United States
CATEGORIES:Career Development,In-Person Event,Job Seeker
GEO:34.0872637;-84.5325399
X-APPLE-STRUCTURED-LOCATION;VALUE=URI;X-ADDRESS=Goodwill of North Georgia – Woodstock Career Center 9425 Highway 92 Woodstock GA 30188 United States;X-APPLE-RADIUS=500;X-TITLE=9425 Highway 92:geo:-84.5325399,34.0872637
END:VEVENT
BEGIN:VEVENT
DTSTART;TZID=America/New_York:20260812T090000
DTEND;TZID=America/New_York:20260812T100000
DTSTAMP:20260422T225424
CREATED:20250902T220734Z
LAST-MODIFIED:20250902T220734Z
UID:10035296-1786525200-1786528800@metroatlantaexchange.org
SUMMARY:Goodwill of North Georgia: NorthStar Testing Session
DESCRIPTION:Goodwill of North Georgia is hosting a NorthStar Testing Session every Wednesday\, from 9:00 AM to 10:00 AM\, at the Woodstock Career Center. \nFor more information\, call 770-874-0901. \nClick here to learn more and register.
URL:https://metroatlantaexchange.org/event/goodwill-of-north-georgia-northstar-testing-session/2026-08-12/
LOCATION:Goodwill of North Georgia – Woodstock Career Center\, 9425 Highway 92\, Woodstock\, GA\, 30188\, United States
CATEGORIES:Career Development,In-Person Event,Job Seeker
GEO:34.0872637;-84.5325399
X-APPLE-STRUCTURED-LOCATION;VALUE=URI;X-ADDRESS=Goodwill of North Georgia – Woodstock Career Center 9425 Highway 92 Woodstock GA 30188 United States;X-APPLE-RADIUS=500;X-TITLE=9425 Highway 92:geo:-84.5325399,34.0872637
END:VEVENT
BEGIN:VEVENT
DTSTART;TZID=America/New_York:20260819T090000
DTEND;TZID=America/New_York:20260819T100000
DTSTAMP:20260422T225424
CREATED:20250902T220734Z
LAST-MODIFIED:20250902T220734Z
UID:10035297-1787130000-1787133600@metroatlantaexchange.org
SUMMARY:Goodwill of North Georgia: NorthStar Testing Session
DESCRIPTION:Goodwill of North Georgia is hosting a NorthStar Testing Session every Wednesday\, from 9:00 AM to 10:00 AM\, at the Woodstock Career Center. \nFor more information\, call 770-874-0901. \nClick here to learn more and register.
URL:https://metroatlantaexchange.org/event/goodwill-of-north-georgia-northstar-testing-session/2026-08-19/
LOCATION:Goodwill of North Georgia – Woodstock Career Center\, 9425 Highway 92\, Woodstock\, GA\, 30188\, United States
CATEGORIES:Career Development,In-Person Event,Job Seeker
GEO:34.0872637;-84.5325399
X-APPLE-STRUCTURED-LOCATION;VALUE=URI;X-ADDRESS=Goodwill of North Georgia – Woodstock Career Center 9425 Highway 92 Woodstock GA 30188 United States;X-APPLE-RADIUS=500;X-TITLE=9425 Highway 92:geo:-84.5325399,34.0872637
END:VEVENT
BEGIN:VEVENT
DTSTART;TZID=America/New_York:20260826T090000
DTEND;TZID=America/New_York:20260826T100000
DTSTAMP:20260422T225424
CREATED:20250902T220734Z
LAST-MODIFIED:20250902T220734Z
UID:10035298-1787734800-1787738400@metroatlantaexchange.org
SUMMARY:Goodwill of North Georgia: NorthStar Testing Session
DESCRIPTION:Goodwill of North Georgia is hosting a NorthStar Testing Session every Wednesday\, from 9:00 AM to 10:00 AM\, at the Woodstock Career Center. \nFor more information\, call 770-874-0901. \nClick here to learn more and register.
URL:https://metroatlantaexchange.org/event/goodwill-of-north-georgia-northstar-testing-session/2026-08-26/
LOCATION:Goodwill of North Georgia – Woodstock Career Center\, 9425 Highway 92\, Woodstock\, GA\, 30188\, United States
CATEGORIES:Career Development,In-Person Event,Job Seeker
GEO:34.0872637;-84.5325399
X-APPLE-STRUCTURED-LOCATION;VALUE=URI;X-ADDRESS=Goodwill of North Georgia – Woodstock Career Center 9425 Highway 92 Woodstock GA 30188 United States;X-APPLE-RADIUS=500;X-TITLE=9425 Highway 92:geo:-84.5325399,34.0872637
END:VEVENT
BEGIN:VEVENT
DTSTART;VALUE=DATE:20260830
DTEND;VALUE=DATE:20260903
DTSTAMP:20260422T225424
CREATED:20260323T014142Z
LAST-MODIFIED:20260323T014142Z
UID:10036044-1788048000-1788393599@metroatlantaexchange.org
SUMMARY:Southeastern Employment & Training Association (SETA): Fall Conference
DESCRIPTION:The Southeastern Employment & Training Association (SETA) is hosting its Fall Conference from Sunday August 30th to Wednesday\, September 2nd\, in Louisville\, KY. \nMore details will be shared in a future MAX Mondays when they become available. \nIn the meantime\, save the date!
URL:https://metroatlantaexchange.org/event/southeastern-employment-training-association-seta-fall-conference/
CATEGORIES:Employer,In-Person Event,Job Seeker,Workforce Developer
END:VEVENT
BEGIN:VEVENT
DTSTART;TZID=America/New_York:20260901T180000
DTEND;TZID=America/New_York:20260901T190000
DTSTAMP:20260422T225424
CREATED:20250811T054826Z
LAST-MODIFIED:20250811T054826Z
UID:10035011-1788285600-1788289200@metroatlantaexchange.org
SUMMARY:University of Parents (U4P): DadCONNECT
DESCRIPTION:University of Parents (U4P) hosts DadCONNECT on Tuesdays at 6:00 PM\, virtually. \nThis is a monthly virtual and community-based space designed to empower fathers and strengthen families. These monthly sessions are opportunities for fathers\, grandfathers\, stepfathers\, and male caregivers come together for honest conversation\, encouragement\, and practical tools for fatherhood and life. \nClick here to learn more and register.
URL:https://metroatlantaexchange.org/event/university-of-parents-u4p-dadconnect/2026-09-01/
CATEGORIES:Career Development,Virtual Event
END:VEVENT
BEGIN:VEVENT
DTSTART;TZID=America/New_York:20260902T090000
DTEND;TZID=America/New_York:20260902T100000
DTSTAMP:20260422T225424
CREATED:20250902T220734Z
LAST-MODIFIED:20250902T220734Z
UID:10035299-1788339600-1788343200@metroatlantaexchange.org
SUMMARY:Goodwill of North Georgia: NorthStar Testing Session
DESCRIPTION:Goodwill of North Georgia is hosting a NorthStar Testing Session every Wednesday\, from 9:00 AM to 10:00 AM\, at the Woodstock Career Center. \nFor more information\, call 770-874-0901. \nClick here to learn more and register.
URL:https://metroatlantaexchange.org/event/goodwill-of-north-georgia-northstar-testing-session/2026-09-02/
LOCATION:Goodwill of North Georgia – Woodstock Career Center\, 9425 Highway 92\, Woodstock\, GA\, 30188\, United States
CATEGORIES:Career Development,In-Person Event,Job Seeker
GEO:34.0872637;-84.5325399
X-APPLE-STRUCTURED-LOCATION;VALUE=URI;X-ADDRESS=Goodwill of North Georgia – Woodstock Career Center 9425 Highway 92 Woodstock GA 30188 United States;X-APPLE-RADIUS=500;X-TITLE=9425 Highway 92:geo:-84.5325399,34.0872637
END:VEVENT
BEGIN:VEVENT
DTSTART;TZID=America/New_York:20260909T090000
DTEND;TZID=America/New_York:20260909T100000
DTSTAMP:20260422T225424
CREATED:20250902T220734Z
LAST-MODIFIED:20250902T220734Z
UID:10035300-1788944400-1788948000@metroatlantaexchange.org
SUMMARY:Goodwill of North Georgia: NorthStar Testing Session
DESCRIPTION:Goodwill of North Georgia is hosting a NorthStar Testing Session every Wednesday\, from 9:00 AM to 10:00 AM\, at the Woodstock Career Center. \nFor more information\, call 770-874-0901. \nClick here to learn more and register.
URL:https://metroatlantaexchange.org/event/goodwill-of-north-georgia-northstar-testing-session/2026-09-09/
LOCATION:Goodwill of North Georgia – Woodstock Career Center\, 9425 Highway 92\, Woodstock\, GA\, 30188\, United States
CATEGORIES:Career Development,In-Person Event,Job Seeker
GEO:34.0872637;-84.5325399
X-APPLE-STRUCTURED-LOCATION;VALUE=URI;X-ADDRESS=Goodwill of North Georgia – Woodstock Career Center 9425 Highway 92 Woodstock GA 30188 United States;X-APPLE-RADIUS=500;X-TITLE=9425 Highway 92:geo:-84.5325399,34.0872637
END:VEVENT
BEGIN:VEVENT
DTSTART;TZID=America/New_York:20260916T090000
DTEND;TZID=America/New_York:20260916T100000
DTSTAMP:20260422T225424
CREATED:20250902T220734Z
LAST-MODIFIED:20250902T220734Z
UID:10035301-1789549200-1789552800@metroatlantaexchange.org
SUMMARY:Goodwill of North Georgia: NorthStar Testing Session
DESCRIPTION:Goodwill of North Georgia is hosting a NorthStar Testing Session every Wednesday\, from 9:00 AM to 10:00 AM\, at the Woodstock Career Center. \nFor more information\, call 770-874-0901. \nClick here to learn more and register.
URL:https://metroatlantaexchange.org/event/goodwill-of-north-georgia-northstar-testing-session/2026-09-16/
LOCATION:Goodwill of North Georgia – Woodstock Career Center\, 9425 Highway 92\, Woodstock\, GA\, 30188\, United States
CATEGORIES:Career Development,In-Person Event,Job Seeker
GEO:34.0872637;-84.5325399
X-APPLE-STRUCTURED-LOCATION;VALUE=URI;X-ADDRESS=Goodwill of North Georgia – Woodstock Career Center 9425 Highway 92 Woodstock GA 30188 United States;X-APPLE-RADIUS=500;X-TITLE=9425 Highway 92:geo:-84.5325399,34.0872637
END:VEVENT
BEGIN:VEVENT
DTSTART;TZID=America/New_York:20260923T090000
DTEND;TZID=America/New_York:20260923T100000
DTSTAMP:20260422T225424
CREATED:20250902T220734Z
LAST-MODIFIED:20250902T220734Z
UID:10035302-1790154000-1790157600@metroatlantaexchange.org
SUMMARY:Goodwill of North Georgia: NorthStar Testing Session
DESCRIPTION:Goodwill of North Georgia is hosting a NorthStar Testing Session every Wednesday\, from 9:00 AM to 10:00 AM\, at the Woodstock Career Center. \nFor more information\, call 770-874-0901. \nClick here to learn more and register.
URL:https://metroatlantaexchange.org/event/goodwill-of-north-georgia-northstar-testing-session/2026-09-23/
LOCATION:Goodwill of North Georgia – Woodstock Career Center\, 9425 Highway 92\, Woodstock\, GA\, 30188\, United States
CATEGORIES:Career Development,In-Person Event,Job Seeker
GEO:34.0872637;-84.5325399
X-APPLE-STRUCTURED-LOCATION;VALUE=URI;X-ADDRESS=Goodwill of North Georgia – Woodstock Career Center 9425 Highway 92 Woodstock GA 30188 United States;X-APPLE-RADIUS=500;X-TITLE=9425 Highway 92:geo:-84.5325399,34.0872637
END:VEVENT
BEGIN:VEVENT
DTSTART;TZID=America/New_York:20260930T080000
DTEND;TZID=America/New_York:20261002T170000
DTSTAMP:20260422T225424
CREATED:20251203T202742Z
LAST-MODIFIED:20251203T202742Z
UID:10035767-1790755200-1790960400@metroatlantaexchange.org
SUMMARY:National Coalition of Advanced Technology Centers (NCATC): 2026 Conference
DESCRIPTION:The National Coalition of Advanced Technology Centers (NCATC) is hosting its 2026 Conference starting Wednesday\, September 30th through Friday\, October 2nd\, in Tacoma\, WA. More information will be available next year. \nClick here to learn more.
URL:https://metroatlantaexchange.org/event/national-coalition-of-advanced-technology-centers-ncatc-2026-conference/
CATEGORIES:Conferences,In-Person Event,Workforce Developer
END:VEVENT
BEGIN:VEVENT
DTSTART;TZID=America/New_York:20260930T090000
DTEND;TZID=America/New_York:20260930T100000
DTSTAMP:20260422T225424
CREATED:20250902T220734Z
LAST-MODIFIED:20250902T220734Z
UID:10035303-1790758800-1790762400@metroatlantaexchange.org
SUMMARY:Goodwill of North Georgia: NorthStar Testing Session
DESCRIPTION:Goodwill of North Georgia is hosting a NorthStar Testing Session every Wednesday\, from 9:00 AM to 10:00 AM\, at the Woodstock Career Center. \nFor more information\, call 770-874-0901. \nClick here to learn more and register.
URL:https://metroatlantaexchange.org/event/goodwill-of-north-georgia-northstar-testing-session/2026-09-30/
LOCATION:Goodwill of North Georgia – Woodstock Career Center\, 9425 Highway 92\, Woodstock\, GA\, 30188\, United States
CATEGORIES:Career Development,In-Person Event,Job Seeker
GEO:34.0872637;-84.5325399
X-APPLE-STRUCTURED-LOCATION;VALUE=URI;X-ADDRESS=Goodwill of North Georgia – Woodstock Career Center 9425 Highway 92 Woodstock GA 30188 United States;X-APPLE-RADIUS=500;X-TITLE=9425 Highway 92:geo:-84.5325399,34.0872637
END:VEVENT
BEGIN:VEVENT
DTSTART;TZID=America/New_York:20261006T180000
DTEND;TZID=America/New_York:20261006T190000
DTSTAMP:20260422T225424
CREATED:20250811T054826Z
LAST-MODIFIED:20250811T054826Z
UID:10035012-1791309600-1791313200@metroatlantaexchange.org
SUMMARY:University of Parents (U4P): DadCONNECT
DESCRIPTION:University of Parents (U4P) hosts DadCONNECT on Tuesdays at 6:00 PM\, virtually. \nThis is a monthly virtual and community-based space designed to empower fathers and strengthen families. These monthly sessions are opportunities for fathers\, grandfathers\, stepfathers\, and male caregivers come together for honest conversation\, encouragement\, and practical tools for fatherhood and life. \nClick here to learn more and register.
URL:https://metroatlantaexchange.org/event/university-of-parents-u4p-dadconnect/2026-10-06/
CATEGORIES:Career Development,Virtual Event
END:VEVENT
BEGIN:VEVENT
DTSTART;TZID=America/New_York:20261103T180000
DTEND;TZID=America/New_York:20261103T190000
DTSTAMP:20260422T225424
CREATED:20250811T054826Z
LAST-MODIFIED:20250811T054826Z
UID:10035013-1793728800-1793732400@metroatlantaexchange.org
SUMMARY:University of Parents (U4P): DadCONNECT
DESCRIPTION:University of Parents (U4P) hosts DadCONNECT on Tuesdays at 6:00 PM\, virtually. \nThis is a monthly virtual and community-based space designed to empower fathers and strengthen families. These monthly sessions are opportunities for fathers\, grandfathers\, stepfathers\, and male caregivers come together for honest conversation\, encouragement\, and practical tools for fatherhood and life. \nClick here to learn more and register.
URL:https://metroatlantaexchange.org/event/university-of-parents-u4p-dadconnect/2026-11-03/
CATEGORIES:Career Development,Virtual Event
END:VEVENT
BEGIN:VEVENT
DTSTART;TZID=America/New_York:20261118T080000
DTEND;TZID=America/New_York:20261121T170000
DTSTAMP:20260422T225424
CREATED:20251203T202945Z
LAST-MODIFIED:20251203T202945Z
UID:10035768-1794988800-1795280400@metroatlantaexchange.org
SUMMARY:National League of Cities (NLC): City Summit 2026
DESCRIPTION:The National League of Cities (NLC) is hosting its City Summit 2026 on Wednesday\, November 18th through Saturday\, November 21st\, at the Music City Center. \nCity Summit is where local leaders connect\, learn and engage with experts and their peers. Build your leadership skills and gain proven strategies to support the work you are doing in your community. \nClick here to learn more and register.
URL:https://metroatlantaexchange.org/event/national-league-of-cities-nlc-city-summit-2026/
LOCATION:Music City Center\, 201 Rep. John Lewis Way South\, Nashville\, TN\, 37203\, United States
CATEGORIES:Conferences,In-Person Event,Workforce Developer
ORGANIZER;CN="National League of Cities":MAILTO:info@nlc.org
END:VEVENT
BEGIN:VEVENT
DTSTART;TZID=America/New_York:20261201T180000
DTEND;TZID=America/New_York:20261201T190000
DTSTAMP:20260422T225424
CREATED:20250811T054826Z
LAST-MODIFIED:20250811T054826Z
UID:10035014-1796148000-1796151600@metroatlantaexchange.org
SUMMARY:University of Parents (U4P): DadCONNECT
DESCRIPTION:University of Parents (U4P) hosts DadCONNECT on Tuesdays at 6:00 PM\, virtually. \nThis is a monthly virtual and community-based space designed to empower fathers and strengthen families. These monthly sessions are opportunities for fathers\, grandfathers\, stepfathers\, and male caregivers come together for honest conversation\, encouragement\, and practical tools for fatherhood and life. \nClick here to learn more and register.
URL:https://metroatlantaexchange.org/event/university-of-parents-u4p-dadconnect/2026-12-01/
CATEGORIES:Career Development,Virtual Event
END:VEVENT
END:VCALENDAR