BEGIN:VCALENDAR
VERSION:2.0
PRODID:-//MAX - ECPv6.15.17.1//NONSGML v1.0//EN
CALSCALE:GREGORIAN
METHOD:PUBLISH
X-ORIGINAL-URL:https://metroatlantaexchange.org
X-WR-CALDESC:Events for MAX
REFRESH-INTERVAL;VALUE=DURATION:PT1H
X-Robots-Tag:noindex
X-PUBLISHED-TTL:PT1H
BEGIN:VTIMEZONE
TZID:America/New_York
BEGIN:DAYLIGHT
TZOFFSETFROM:-0500
TZOFFSETTO:-0400
TZNAME:EDT
DTSTART:20240310T070000
END:DAYLIGHT
BEGIN:STANDARD
TZOFFSETFROM:-0400
TZOFFSETTO:-0500
TZNAME:EST
DTSTART:20241103T060000
END:STANDARD
BEGIN:DAYLIGHT
TZOFFSETFROM:-0500
TZOFFSETTO:-0400
TZNAME:EDT
DTSTART:20250309T070000
END:DAYLIGHT
BEGIN:STANDARD
TZOFFSETFROM:-0400
TZOFFSETTO:-0500
TZNAME:EST
DTSTART:20251102T060000
END:STANDARD
BEGIN:DAYLIGHT
TZOFFSETFROM:-0500
TZOFFSETTO:-0400
TZNAME:EDT
DTSTART:20260308T070000
END:DAYLIGHT
BEGIN:STANDARD
TZOFFSETFROM:-0400
TZOFFSETTO:-0500
TZNAME:EST
DTSTART:20261101T060000
END:STANDARD
END:VTIMEZONE
BEGIN:VEVENT
DTSTART;TZID=America/New_York:20250608T080000
DTEND;TZID=America/New_York:20250611T170000
DTSTAMP:20260422T090236
CREATED:20250506T183927Z
LAST-MODIFIED:20250506T183927Z
UID:10033766-1749369600-1749661200@metroatlantaexchange.org
SUMMARY:National Association of Regional Councils (NARC): 2025 NARC Annual Conference
DESCRIPTION:The National Association of Regional Councils (NARC) is hosting the 2025 NARC Annual Conference starting Sunday\, June 8th through Wednesday\, June 11th\, at the Renaissance Seattle Hotel. \nThe NARC Annual Conference and Exhibition is the largest national event focused on promoting effective regional cooperation and solutions through interaction and education. NARC’s Annual Conference is the premier event focused on regions and regional collaboration. Representatives of Councils of Government and Metropolitan Planning Organizations — leadership\, professional staff\, board members\, local elected officials\, technical and program staff — share best practices and learn about relevant issues. Speakers include experts from the public and private sector\, congressional and state lawmakers\, and individuals from universities and non-profit organizations. \nClick here to learn more and register.
URL:https://metroatlantaexchange.org/event/national-association-of-regional-councils-narc-2025-narc-annual-conference/
LOCATION:Renaissance Seattle Hotel\, 515 Madison Street\, Seattle\, WA\, 98104\, United States
CATEGORIES:Conferences,In-Person Event,Workforce Developer
END:VEVENT
BEGIN:VEVENT
DTSTART;TZID=America/New_York:20250610T080000
DTEND;TZID=America/New_York:20250611T170000
DTSTAMP:20260422T090236
CREATED:20241222T212210Z
LAST-MODIFIED:20241222T212210Z
UID:10032994-1749542400-1749661200@metroatlantaexchange.org
SUMMARY:Jobs for the Future (JFF): Horizons 2025 - Dare to be Brave
DESCRIPTION:Jobs for the Future (JFF) is hosting Horizons 2025 – Dare to be Brave on Tuesday\, June 10th and Wednesday\, June 11th\, from 8:00 AM to 5:00 PM\, at the New Orleans Marriot. \nJoin us at our annual summit when we return to New Orleans to ignite change and take bold steps toward creating a future that works for everyone. This summit goes beyond networking—it’s a space where a diverse array of voices come together to spark ideas and drive change. Join us as we work to overcome challenges and progress toward a future that benefits everyone. \nClick here to learn more and register.
URL:https://metroatlantaexchange.org/event/jobs-for-the-future-jff-horizons-2025-dare-to-be-brave/
LOCATION:New Orleans Marriott\, 555 Canal Street\, New Orleans\, LA\, 70130\, United States
CATEGORIES:Conferences,In-Person Event,Workforce Developer
END:VEVENT
BEGIN:VEVENT
DTSTART;TZID=America/New_York:20250623T080000
DTEND;TZID=America/New_York:20250625T170000
DTSTAMP:20260422T090236
CREATED:20250524T210214Z
LAST-MODIFIED:20250524T210214Z
UID:10033931-1750665600-1750870800@metroatlantaexchange.org
SUMMARY:International Economic Development Council (IEDC): 2025 Rural Retreat
DESCRIPTION:The International Economic Development Council (IEDC) is hosting its 2025 Rural Retreat starting Monday\, June 23rd through Wednesday\, June 25th\, at the Mansfield Convention Center. \nJoin us for an extraordinary convening of 400 of the most innovative leaders in rural economic development at the 2025 Rural Retreat: Rural Recharged in Great Falls\, Montana\, the Electric City. This first-of-its-kind event brings together a diverse community dedicated to creating new energy and opportunities for rural and tribal places across America. Over the course of three impactful days\, this unique gathering will provide a rare opportunity to connect with peers\, thought leaders\, and changemakers\, all united by a shared commitment to driving progress in rural and tribal communities. \nClick here to learn more and register.
URL:https://metroatlantaexchange.org/event/international-economic-development-council-iedc-2025-rural-retreat/
LOCATION:Mansfield Convention Center\, 2 Park Drive South\, Great Falls\, MT\, 59401\, United States
CATEGORIES:Conferences,In-Person Event,Workforce Developer
END:VEVENT
BEGIN:VEVENT
DTSTART;TZID=America/New_York:20250629T080000
DTEND;TZID=America/New_York:20250702T170000
DTSTAMP:20260422T090236
CREATED:20250524T212401Z
LAST-MODIFIED:20250524T212401Z
UID:10033941-1751184000-1751475600@metroatlantaexchange.org
SUMMARY:Society for Human Resource Management (SHRM): SHRM 2025
DESCRIPTION:The Society for Human Resource Management (SHRM) is hosting SHRM 2025 starting Sunday\, June 29th through Wednesday\, July 2nd\, in San Diego\, CA. \nHR is changing faster than ever\, and the future of work waits for no one. Staying ahead means more than just keeping up—it means leading the charge. At SHRM25\, hosted in the beautiful\, sunny San Diego\, you have an unmatched opportunity to connect with top industry experts and peers who understand your challenges. With over 375 handpicked sessions\, you’ll dive deep into cutting-edge insights into AI advancements\, emerging regulations\, and the latest best practices reshaping our field. Engage in dynamic discussions\, practical workshops\, and inspiring keynotes that cover everything from managing a diverse workforce to innovative HR technologies. This is not just a conference; it’s a catalyst for your professional growth and a chance to future-proof your career. Network with thought leaders and HR professionals from around the globe\, share experiences\, and gather actionable strategies to take back to your organization. \nClick here to learn more and register.
URL:https://metroatlantaexchange.org/event/society-for-human-resource-management-shrm-shrm-2025/
LOCATION:San Diego Convention Center\, 111 West Harbor Drive\, San Diego\, CA\, 92101\, United States
CATEGORIES:Conferences,In-Person Event,Workforce Developer
ORGANIZER;CN="The Society for Human Resource Management":MAILTO:info@shrmatlanta.org
END:VEVENT
END:VCALENDAR