BEGIN:VCALENDAR
VERSION:2.0
PRODID:-//MAX - ECPv6.15.17.1//NONSGML v1.0//EN
CALSCALE:GREGORIAN
METHOD:PUBLISH
X-WR-CALNAME:MAX
X-ORIGINAL-URL:https://metroatlantaexchange.org
X-WR-CALDESC:Events for MAX
REFRESH-INTERVAL;VALUE=DURATION:PT1H
X-Robots-Tag:noindex
X-PUBLISHED-TTL:PT1H
BEGIN:VTIMEZONE
TZID:America/New_York
BEGIN:DAYLIGHT
TZOFFSETFROM:-0500
TZOFFSETTO:-0400
TZNAME:EDT
DTSTART:20240310T070000
END:DAYLIGHT
BEGIN:STANDARD
TZOFFSETFROM:-0400
TZOFFSETTO:-0500
TZNAME:EST
DTSTART:20241103T060000
END:STANDARD
BEGIN:DAYLIGHT
TZOFFSETFROM:-0500
TZOFFSETTO:-0400
TZNAME:EDT
DTSTART:20250309T070000
END:DAYLIGHT
BEGIN:STANDARD
TZOFFSETFROM:-0400
TZOFFSETTO:-0500
TZNAME:EST
DTSTART:20251102T060000
END:STANDARD
BEGIN:DAYLIGHT
TZOFFSETFROM:-0500
TZOFFSETTO:-0400
TZNAME:EDT
DTSTART:20260308T070000
END:DAYLIGHT
BEGIN:STANDARD
TZOFFSETFROM:-0400
TZOFFSETTO:-0500
TZNAME:EST
DTSTART:20261101T060000
END:STANDARD
END:VTIMEZONE
BEGIN:VEVENT
DTSTART;TZID=America/New_York:20250629T080000
DTEND;TZID=America/New_York:20250702T170000
DTSTAMP:20260422T085635
CREATED:20250524T212401Z
LAST-MODIFIED:20250524T212401Z
UID:10033941-1751184000-1751475600@metroatlantaexchange.org
SUMMARY:Society for Human Resource Management (SHRM): SHRM 2025
DESCRIPTION:The Society for Human Resource Management (SHRM) is hosting SHRM 2025 starting Sunday\, June 29th through Wednesday\, July 2nd\, in San Diego\, CA. \nHR is changing faster than ever\, and the future of work waits for no one. Staying ahead means more than just keeping up—it means leading the charge. At SHRM25\, hosted in the beautiful\, sunny San Diego\, you have an unmatched opportunity to connect with top industry experts and peers who understand your challenges. With over 375 handpicked sessions\, you’ll dive deep into cutting-edge insights into AI advancements\, emerging regulations\, and the latest best practices reshaping our field. Engage in dynamic discussions\, practical workshops\, and inspiring keynotes that cover everything from managing a diverse workforce to innovative HR technologies. This is not just a conference; it’s a catalyst for your professional growth and a chance to future-proof your career. Network with thought leaders and HR professionals from around the globe\, share experiences\, and gather actionable strategies to take back to your organization. \nClick here to learn more and register.
URL:https://metroatlantaexchange.org/event/society-for-human-resource-management-shrm-shrm-2025/
LOCATION:San Diego Convention Center\, 111 West Harbor Drive\, San Diego\, CA\, 92101\, United States
CATEGORIES:Conferences,In-Person Event,Workforce Developer
ORGANIZER;CN="The Society for Human Resource Management":MAILTO:info@shrmatlanta.org
END:VEVENT
BEGIN:VEVENT
DTSTART;TZID=America/New_York:20250709T080000
DTEND;TZID=America/New_York:20250711T160000
DTSTAMP:20260422T085636
CREATED:20250524T213634Z
LAST-MODIFIED:20250524T213634Z
UID:10033944-1752048000-1752249600@metroatlantaexchange.org
SUMMARY:National Association of State Workforce Agencies (NASWA): 2025 Veterans Conference
DESCRIPTION:The National Association of State Workforce Agencies (NASWA) is hosting the 2025 Veterans Conference starting Wednesday\, July 9th through Friday\, July 11th\, at the Grand Hyatt. \nThe Veterans Conference focuses on “Serving Those Who Served\,” and features learning opportunities for staff from state workforce agencies and partner organizations who serve veterans and transitioning service members. \nClick here to learn more.
URL:https://metroatlantaexchange.org/event/national-association-of-state-workforce-agencies-naswa-2025-veterans-conference/
LOCATION:Grand Hyatt Washington\, 1000 H Street\, NW\, Washington\, DC\, 20001\, United States
CATEGORIES:Conferences,In-Person Event,Veterans/Military,Workforce Developer
ORGANIZER;CN="National Association of State Workforce Agencies (NASWA)":MAILTO:naswa@naswa.org
END:VEVENT
BEGIN:VEVENT
DTSTART;TZID=America/New_York:20250715T080000
DTEND;TZID=America/New_York:20250717T170000
DTSTAMP:20260422T085636
CREATED:20241222T212400Z
LAST-MODIFIED:20241222T212400Z
UID:10032995-1752566400-1752771600@metroatlantaexchange.org
SUMMARY:American College Testing (ACT): ACT Summit 2025
DESCRIPTION:American College Testing (ACT) is hosting the ACT Summit 2025 on Tuesday\, July 15th through Thursday\, July 17th\, in Nashville\, Tennessee. \nThe ACT Summit is your opportunity to share innovative ideas\, best practices\, and insights with leaders in K-12 education\, higher education\, and workforce development. These sessions are designed for professionals and peers in your field. This event is more than just a gathering – it’s a dynamic platform for actionable insights and cutting-edge strategies across these interconnected fields. Attendees will have the opportunity to engage with peers\, share experiences\, and collaborate on innovative solutions that span the K-career spectrum. Dive into cross-sector sessions designed to spark collaboration\, foster problem-solving\, and shape the future of education and the workforce. Registration is not open at this time. \nClick here to learn more.
URL:https://metroatlantaexchange.org/event/american-college-testing-act-act-summit-2025/
LOCATION:GA
CATEGORIES:Conferences,In-Person Event,Workforce Developer
END:VEVENT
BEGIN:VEVENT
DTSTART;TZID=America/New_York:20250717T080000
DTEND;TZID=America/New_York:20250718T170000
DTSTAMP:20260422T085636
CREATED:20250708T191515Z
LAST-MODIFIED:20250708T191515Z
UID:10034157-1752739200-1752858000@metroatlantaexchange.org
SUMMARY:National League of Cities (NLC): 2025 Constituency Groups Summer Convenings: Hispanic Elected Local Officials (HELO) and Local Indigenous Leaders (LIL)
DESCRIPTION:The National League of Cities (NLC) is hosting the 2025 Constituency Groups Summer Convenings: Hispanic Elected Local Officials (HELO) and Local Indigenous Leaders (LIL) starting Thursday\, July 17th through Friday\, July 18th\, in Columbus\, OH. \nConstituency Groups are caucuses within NLC\, giving local elected officials a space to express themselves and advocate for the needs of their community. They reflect the diverse interests and backgrounds of NLC’s membership and contribute to NLC’s leadership development\, policy formulation\, advocacy and program activities. Attendees will participate in a half-day of programming\, including engaging panels\, informative workshops and peer discussions on topics that local leaders around the country are addressing. \nClick here to learn more and register.
URL:https://metroatlantaexchange.org/event/national-league-of-cities-nlc-2025-constituency-groups-summer-convenings-hispanic-elected-local-officials-helo-and-local-indigenous-leaders-lil/
LOCATION:GA
CATEGORIES:Conferences,In-Person Event,Workforce Developer
ORGANIZER;CN="National League of Cities":MAILTO:info@nlc.org
END:VEVENT
BEGIN:VEVENT
DTSTART;TZID=America/New_York:20250720T080000
DTEND;TZID=America/New_York:20250725T170000
DTSTAMP:20260422T085636
CREATED:20241222T212555Z
LAST-MODIFIED:20241222T212555Z
UID:10032996-1752998400-1753462800@metroatlantaexchange.org
SUMMARY:National Association of Colleges and Employers (NACE): 2025 NACE Management Leadership Insistute
DESCRIPTION:The National Association of Colleges and Employers (NACE) is hosting the 2025 NACE Management Leadership Institute starting Sunday\, July 20th through Friday\, July 25th\, at the Swissotel Chicago. \nThe career services profession is evolving\, informed by changes in our culture\, expectations among higher education leaders and students\, demands for an equitable and inclusive student experience\, and a transformation in employer relations. Now more than ever\, career services leadership plays a critical role in institutional effectiveness and student success. The MLI curriculum\, taught and facilitated by nationally recognized faculty\, is designed to deliver substantive and timely strategies and practices for leading and contributing to successful career services initiatives. Designed for emerging and aspiring leaders\, you’ll strengthen the leadership skills needed to contribute to and build a stronger and more successful career services team. This program will also promote evidence-based leadership strategies to excel within the field of career services and pave your way to greater organizational success. Participants will meet virtually prior to the four day in-person experience. After attending the in-person program\, the MLI cohort will meet quarterly to gain further insights and discuss critical challenges in their leadership journey. \nJoin NACE’s premier leadership 2025 NACE Management Leadership Institute for an in-person and blended learning experience that is engaging and impactful and that supports your growth for an entire year. \nClick here to learn more and register.
URL:https://metroatlantaexchange.org/event/national-association-of-colleges-and-employers-nace-2025-nace-management-leadership-insistute/
LOCATION:Swissotel Chicago Hotel\, 323 East Wacker Drive\, Chicago\, IL\, 60601\, United States
CATEGORIES:Conferences,In-Person Event,Workforce Developer
END:VEVENT
END:VCALENDAR