BEGIN:VCALENDAR
VERSION:2.0
PRODID:-//MAX - ECPv6.15.17.1//NONSGML v1.0//EN
CALSCALE:GREGORIAN
METHOD:PUBLISH
X-ORIGINAL-URL:https://metroatlantaexchange.org
X-WR-CALDESC:Events for MAX
REFRESH-INTERVAL;VALUE=DURATION:PT1H
X-Robots-Tag:noindex
X-PUBLISHED-TTL:PT1H
BEGIN:VTIMEZONE
TZID:America/New_York
BEGIN:DAYLIGHT
TZOFFSETFROM:-0500
TZOFFSETTO:-0400
TZNAME:EDT
DTSTART:20240310T070000
END:DAYLIGHT
BEGIN:STANDARD
TZOFFSETFROM:-0400
TZOFFSETTO:-0500
TZNAME:EST
DTSTART:20241103T060000
END:STANDARD
BEGIN:DAYLIGHT
TZOFFSETFROM:-0500
TZOFFSETTO:-0400
TZNAME:EDT
DTSTART:20250309T070000
END:DAYLIGHT
BEGIN:STANDARD
TZOFFSETFROM:-0400
TZOFFSETTO:-0500
TZNAME:EST
DTSTART:20251102T060000
END:STANDARD
BEGIN:DAYLIGHT
TZOFFSETFROM:-0500
TZOFFSETTO:-0400
TZNAME:EDT
DTSTART:20260308T070000
END:DAYLIGHT
BEGIN:STANDARD
TZOFFSETFROM:-0400
TZOFFSETTO:-0500
TZNAME:EST
DTSTART:20261101T060000
END:STANDARD
END:VTIMEZONE
BEGIN:VEVENT
DTSTART;TZID=America/New_York:20250829T090000
DTEND;TZID=America/New_York:20250829T100000
DTSTAMP:20260422T104651
CREATED:20250811T055748Z
LAST-MODIFIED:20250811T055748Z
UID:10035016-1756458000-1756461600@metroatlantaexchange.org
SUMMARY:MAX Minutes with Jenny Taylor\, Chair\, MAX Board of Directors
DESCRIPTION:The Metro Atlanta eXchange for Workforce Solutions (MAX) is hosting MAX Minutes with Jenny Taylor\, Chair\, MAX Board of Directors on Friday\, August 29\, 2025\, at 9:00 AM\, via Zoom. \nEver wonder who is doing what\, where\, and for whom in workforce in the Atlanta region? This question was at the very heart of why regional leaders launched MAX back in 2014 and remains the why for why MAX exists today. Indeed\, the mission of MAX is to advance economic resilience through strengthening connections\, collaborations\, and practices among workforce developers and organizations engaged in workforce development. As our workforce ecosystem continues to evolve\, so too must our efforts to ensure workforce partners are kept informed on the latest developments with respect to who is doing what\, where\, and for whom. \nMAX Board Chair Jenny Taylor\, Chief Mission Officer and Vice President of Career Services for Goodwill of North Georgia\, will join us to debrief the latest with respect to metro Atlanta’s workforce development ecosystem and the many players who work every day to support job seekers and employers. \nJoin MAX on Friday\, August 29th\, 9:00 AM\, for a timely and virtual conversation. \nClick here to register. \nABOUT MAX MINUTES \nLaunched in 2014\, the mission of MAX is to advance economic resilience in the Atlanta region by strengthening connections\, collaborations\, and practices among workforce developers and organizations engaged in workforce development. \nThrough our webinar series\, MAX Minutes\, MAX seeks to bring timely insights to providers\, intermediaries\, and other partners in workforce. MAX Minutes features talks by key experts in the Atlanta region and beyond on important workforce matters.
URL:https://metroatlantaexchange.org/event/max-minutes-with-jenny-taylor-chair-max-board-of-directors/
LOCATION:GA
CATEGORIES:Employer,Virtual Event,Workforce Developer
END:VEVENT
END:VCALENDAR