BEGIN:VCALENDAR
VERSION:2.0
PRODID:-//MAX - ECPv6.15.17.1//NONSGML v1.0//EN
CALSCALE:GREGORIAN
METHOD:PUBLISH
X-ORIGINAL-URL:https://metroatlantaexchange.org
X-WR-CALDESC:Events for MAX
REFRESH-INTERVAL;VALUE=DURATION:PT1H
X-Robots-Tag:noindex
X-PUBLISHED-TTL:PT1H
BEGIN:VTIMEZONE
TZID:America/New_York
BEGIN:DAYLIGHT
TZOFFSETFROM:-0500
TZOFFSETTO:-0400
TZNAME:EDT
DTSTART:20240310T070000
END:DAYLIGHT
BEGIN:STANDARD
TZOFFSETFROM:-0400
TZOFFSETTO:-0500
TZNAME:EST
DTSTART:20241103T060000
END:STANDARD
BEGIN:DAYLIGHT
TZOFFSETFROM:-0500
TZOFFSETTO:-0400
TZNAME:EDT
DTSTART:20250309T070000
END:DAYLIGHT
BEGIN:STANDARD
TZOFFSETFROM:-0400
TZOFFSETTO:-0500
TZNAME:EST
DTSTART:20251102T060000
END:STANDARD
BEGIN:DAYLIGHT
TZOFFSETFROM:-0500
TZOFFSETTO:-0400
TZNAME:EDT
DTSTART:20260308T070000
END:DAYLIGHT
BEGIN:STANDARD
TZOFFSETFROM:-0400
TZOFFSETTO:-0500
TZNAME:EST
DTSTART:20261101T060000
END:STANDARD
END:VTIMEZONE
BEGIN:VEVENT
DTSTART;TZID=America/New_York:20250901T090000
DTEND;TZID=America/New_York:20250901T150000
DTSTAMP:20260422T193642
CREATED:20250802T164339Z
LAST-MODIFIED:20250802T164339Z
UID:10034752-1756717200-1756738800@metroatlantaexchange.org
SUMMARY:JobFairX: Atlanta Veteran Virtual Job Fair
DESCRIPTION:JobFairX is hosting an Atlanta Veteran Virtual Job Fair on Monday\, September 1st\, from 11:00 AM to 3:00 PM. \nAt JobFairX\, we match job seekers like you with employers who have registered for the virtual job fair. When you sign up and create a profile\, we collect information about your qualifications\, skills\, and preferences. Our advanced matching algorithm analyzes this data to identify suitable job opportunities. If your qualifications align with a job\, you’ll receive an email invitation to schedule an interview with the employer during the fair. Our streamlined process saves you time on your job search. \nClick here to register.
URL:https://metroatlantaexchange.org/event/jobfairx-atlanta-veteran-virtual-job-fair-3/
LOCATION:GA
CATEGORIES:Job Seeker,Veterans/Military,Virtual Event
END:VEVENT
BEGIN:VEVENT
DTSTART;TZID=America/New_York:20250903T150000
DTEND;TZID=America/New_York:20250903T160000
DTSTAMP:20260422T193642
CREATED:20250726T221902Z
LAST-MODIFIED:20250726T221902Z
UID:10034302-1756911600-1756915200@metroatlantaexchange.org
SUMMARY:Hiring Our Heroes: Military Spouse Fellowships Virtual Information Session
DESCRIPTION:Hiring Our Heroes is hosting a Military Spouse Fellowships Virtual Information Session on Wednesday\, September 3rd\, starting at 3:00 PM. \nThese fellowships provide military spouses access to professional training\, valuable networking opportunities\, and hands-on experience in the civilian workforce. Participants benefit from direct engagement with local employers\, enabling them to build strong professional networks and gain meaningful\, localized job experience. \nClick here to learn more and register.
URL:https://metroatlantaexchange.org/event/hiring-our-heroes-military-spouse-fellowships-virtual-information-session-3/
LOCATION:GA
CATEGORIES:Career Development,Job Seeker,Veterans/Military,Virtual Event
END:VEVENT
BEGIN:VEVENT
DTSTART;TZID=America/New_York:20250904T150000
DTEND;TZID=America/New_York:20250904T160000
DTSTAMP:20260422T193642
CREATED:20250726T222019Z
LAST-MODIFIED:20250726T222019Z
UID:10034303-1756998000-1757001600@metroatlantaexchange.org
SUMMARY:Hiring Our Heroes: Salesforce Fellowship Program Information Session
DESCRIPTION:Hiring Our Heroes is hosting a Salesforce Fellowship Program Information Session webinar on Thursday\, September 4th\, starting at 3:00 PM. \nThe Hiring Our Heroes Salesforce Fellowship allows transitioning service members and currently serving military spouses to participate in paid 12-week fellowships\, gaining targeted experience as a certified Salesforce professional. The program highlights include remote/hybrid and portable roles; $90\,170 average salary; and 95% job offer rate. \nClick here to learn more and register.
URL:https://metroatlantaexchange.org/event/hiring-our-heroes-salesforce-fellowship-program-information-session-3/
LOCATION:GA
CATEGORIES:Career Development,Job Seeker,Veterans/Military,Virtual Event
END:VEVENT
BEGIN:VEVENT
DTSTART;TZID=America/New_York:20250904T160000
DTEND;TZID=America/New_York:20250904T170000
DTSTAMP:20260422T193642
CREATED:20250902T221925Z
LAST-MODIFIED:20250902T221925Z
UID:10035312-1757001600-1757005200@metroatlantaexchange.org
SUMMARY:Hiring Our Heroes: Planning Your Post-Military Career
DESCRIPTION:Hiring Our Heroes is hosting a webinar on Planning Your Post-Military Career on Thursday\, September 4th\, starting at 4:00 PM. \nJoin representatives from Cushman & Wakefield and the U.S. Department of Labor VETS program to learn the essentials of successful post-military career planning. Bring your questions for live Q&A! This webinar is part of the Career Transition Series designed to support veterans and transitioning service members as they prepare for civilian employment. \nClick here to register via Zoom.
URL:https://metroatlantaexchange.org/event/hiring-our-heroes-planning-your-post-military-career-3/
LOCATION:GA
CATEGORIES:Career Development,Job Seeker,Veterans/Military,Virtual Event
END:VEVENT
BEGIN:VEVENT
DTSTART;TZID=America/New_York:20250909T190000
DTEND;TZID=America/New_York:20250909T200000
DTSTAMP:20260422T193642
CREATED:20250902T223830Z
LAST-MODIFIED:20250902T223830Z
UID:10035315-1757444400-1757448000@metroatlantaexchange.org
SUMMARY:Hiring Our Heroes: SkillBridge Fellowships Information Session
DESCRIPTION:Hiring Our Heroes is hosting a SkillBridge Fellowships Information Session on Tuesday\, September 9th\, starting at 7:00 PM. \nHiring Our Heroes invites transitioning service members to learn more about SkillBridge fellowships\, which provide professional training and hands-on experience in the civilian workforce. These fellowships are designed to prepare you for a smooth transition into meaningful civilian careers. \nClick here to register via Zoom.
URL:https://metroatlantaexchange.org/event/hiring-our-heroes-skillbridge-fellowships-information-session/
LOCATION:GA
CATEGORIES:Career Development,Job Seeker,Veterans/Military,Virtual Event
END:VEVENT
BEGIN:VEVENT
DTSTART;TZID=America/New_York:20250910T090000
DTEND;TZID=America/New_York:20250910T130000
DTSTAMP:20260422T193642
CREATED:20250824T175544Z
LAST-MODIFIED:20250824T175544Z
UID:10035074-1757494800-1757509200@metroatlantaexchange.org
SUMMARY:Hiring Our Heroes: Virtual Amplify - Career Readiness and Hiring Event Preparation
DESCRIPTION:Hiring Our Heroes is hosting a Virtual Amplify – Career Readiness and Hiring Event Preparation event on Wednesday\, September 10th\, from 9:00 AM to 1:00 PM. \nEngage in professional development workshops and interactive sessions designed to prepare you for a Virtual Hiring Fair. Topics include professional branding\, resume support\, interview techniques\, and networking. Amplify attendees will leave with valuable tools\, resources\, and an expanded network to facilitate their career growth. This event is open to transitioning service members\, veterans\, military spouses\, and military caregivers. \nClick here to learn more and register.
URL:https://metroatlantaexchange.org/event/hiring-our-heroes-virtual-amplify-career-readiness-and-hiring-event-preparation/
LOCATION:GA
CATEGORIES:Career Development,Job Seeker,Veterans/Military,Virtual Event
END:VEVENT
BEGIN:VEVENT
DTSTART;TZID=America/New_York:20250910T110000
DTEND;TZID=America/New_York:20250910T150000
DTSTAMP:20260422T193642
CREATED:20250802T165528Z
LAST-MODIFIED:20250802T165528Z
UID:10034758-1757502000-1757516400@metroatlantaexchange.org
SUMMARY:RecruitMilitary: Atlanta Veterans Job Fair
DESCRIPTION:RecruitMilitary is hosting an Atlanta Veterans Job Fair on Wednesday\, September 10th\, from 11:00 AM to 3:00 PM\, at the Georgia International Convention Center. \nThis event is the perfect opportunity for job seekers with military experience to meet with recruiters from local and national companies. These events are free for U.S veterans\, military spouses\, transitioning military\, and members of the Guard and Reserve. Expect to build your network\, make new professional contacts\, and discover job leads. These job fairs are the perfect time to practice your elevator pitch and interact with representatives from all kinds of companies. \nClick here to learn more and register.
URL:https://metroatlantaexchange.org/event/recruitmilitary-atlanta-veterans-job-fair-4/
LOCATION:Georgia International Convention Center\, 2000 Convention Center Concourse\,\, Atlanta\, GA\, 30337\, United States
CATEGORIES:In-Person Event,Job Seeker,Veterans/Military
GEO:33.6456779;-84.4574981
X-APPLE-STRUCTURED-LOCATION;VALUE=URI;X-ADDRESS=Georgia International Convention Center 2000 Convention Center Concourse Atlanta GA 30337 United States;X-APPLE-RADIUS=500;X-TITLE=2000 Convention Center Concourse\,:geo:-84.4574981,33.6456779
END:VEVENT
BEGIN:VEVENT
DTSTART;TZID=America/New_York:20250910T150000
DTEND;TZID=America/New_York:20250910T153000
DTSTAMP:20260422T193642
CREATED:20250824T175716Z
LAST-MODIFIED:20250824T175716Z
UID:10035075-1757516400-1757518200@metroatlantaexchange.org
SUMMARY:Hiring Our Heroes: Career Forward Virtual Information Session
DESCRIPTION:Hiring Our Heroes is hosting a Career Forward Virtual Information Session on Wednesday\, September 10th\, from 3:00 PM to 3:30 PM. \nThis online chat will connect you directly with organizations from the comfort of your home\, office\, smartphone or tablet. Our online\, cloud-based platform makes it easy and fun for you to participate. After signing up\, you’ll be able to explore the available information and opportunities and participate in 1-on-1 text-based chats with representatives from participating organizations. Share your background and experience and get all your questions answered. \nClick here to register via Zoom.
URL:https://metroatlantaexchange.org/event/hiring-our-heroes-career-forward-virtual-information-session-3/
LOCATION:GA
CATEGORIES:Career Development,Job Seeker,Veterans/Military,Virtual Event
END:VEVENT
BEGIN:VEVENT
DTSTART;TZID=America/New_York:20250916T110000
DTEND;TZID=America/New_York:20250916T150000
DTSTAMP:20260422T193642
CREATED:20250802T170824Z
LAST-MODIFIED:20250802T170824Z
UID:10034763-1758020400-1758034800@metroatlantaexchange.org
SUMMARY:CareerEco: Veterans Virtual Career Fair
DESCRIPTION:CareerEco is hosting a Veterans Virtual Career Fair on Tuesday\, September 16th\, from 11:00 AM to 3:00 PM. \nActive-duty military\, Veterans and military dependents are invited to attend this event to discover full-time\, intern and co-op opportunities with employers seeking to hire. \nClick here to learn more and register.
URL:https://metroatlantaexchange.org/event/careereco-veterans-virtual-career-fair-2/
LOCATION:GA
CATEGORIES:Job Seeker,Veterans/Military,Virtual Event
ORGANIZER;CN="CareerEco":MAILTO:Events@CareerEco.com
END:VEVENT
BEGIN:VEVENT
DTSTART;TZID=America/New_York:20250917T190000
DTEND;TZID=America/New_York:20250917T200000
DTSTAMP:20260422T193642
CREATED:20250726T223523Z
LAST-MODIFIED:20250726T223523Z
UID:10034311-1758135600-1758139200@metroatlantaexchange.org
SUMMARY:Hiring Our Heroes: Military Spouse Fellowships Virtual Information Session
DESCRIPTION:Hiring Our Heroes is hosting a Military Spouse Fellowships Virtual Information Session on Wednesday\, September 17th\, starting at 7:00 PM. \nThese fellowships provide military spouses access to professional training\, valuable networking opportunities\, and hands-on experience in the civilian workforce. Participants benefit from direct engagement with local employers\, enabling them to build strong professional networks and gain meaningful\, localized job experience. \nClick here to learn more and register.
URL:https://metroatlantaexchange.org/event/hiring-our-heroes-military-spouse-fellowships-virtual-information-session-4/
LOCATION:GA
CATEGORIES:Career Development,Job Seeker,Veterans/Military,Virtual Event
END:VEVENT
BEGIN:VEVENT
DTSTART;TZID=America/New_York:20250923T190000
DTEND;TZID=America/New_York:20250923T193000
DTSTAMP:20260422T193642
CREATED:20250824T180527Z
LAST-MODIFIED:20250824T180527Z
UID:10035080-1758654000-1758655800@metroatlantaexchange.org
SUMMARY:Hiring Our Heroes: Corporate Fellowship Program Information Session
DESCRIPTION:Hiring Our Heroes is hosting a Corporate Fellowship Program Information Session on Tuesday\, September 23rd\, from 7:00 PM to 7:30 PM. \nWe invite transitioning service members to learn more about our SkillBridge fellowships\, which provide professional training and hands-on experience in the civilian workforce. These fellowships are designed to prepare you for a smooth transition into meaningful civilian careers. \nClick here to register via Zoom.
URL:https://metroatlantaexchange.org/event/hiring-our-heroes-corporate-fellowship-program-information-session-7/
LOCATION:GA
CATEGORIES:Career Development,Job Seeker,Veterans/Military,Virtual Event
END:VEVENT
BEGIN:VEVENT
DTSTART;TZID=America/New_York:20250924T110000
DTEND;TZID=America/New_York:20250924T140000
DTSTAMP:20260422T193642
CREATED:20250802T171131Z
LAST-MODIFIED:20250802T171131Z
UID:10034765-1758711600-1758722400@metroatlantaexchange.org
SUMMARY:Corporate Gray: Virtual Job Fair
DESCRIPTION:Corporate Gray is hosting a Virtual Job Fair on Wednesday\, September 24th\, from 11:00 AM to 2:00 PM. \nThis military-friendly online job fair will provide military-experienced job seekers the opportunity to interview with employers nationwide via text chat and video. This event is open to transitioning service members\, veterans\, and military spouses. \nClick here to learn more and register.
URL:https://metroatlantaexchange.org/event/corporate-gray-virtual-job-fair-5/
LOCATION:GA
CATEGORIES:Job Seeker,Veterans/Military,Virtual Event
END:VEVENT
BEGIN:VEVENT
DTSTART;TZID=America/New_York:20250924T130000
DTEND;TZID=America/New_York:20250924T160000
DTSTAMP:20260422T193642
CREATED:20250802T171254Z
LAST-MODIFIED:20250802T171254Z
UID:10034766-1758718800-1758729600@metroatlantaexchange.org
SUMMARY:Hiring Our Heroes: Virtual Career Summit
DESCRIPTION:Hiring Our Heroes is hosting a Virtual Career Summit on Wednesday\, September 24th\, from 1:00 PM to 4:00 PM. \nRegister now for this virtual hiring fair featuring on-demand career preparation workshops and networking with dozens of employers across multiple industries! Employers are looking for veteran and military spouse talent and hiring now for thousands of open positions. Whether you’re looking for work now or exploring future possibilities\, representatives are ready to meet you and answer your questions. \nClick here to register.
URL:https://metroatlantaexchange.org/event/hiring-our-heroes-virtual-career-summit/
LOCATION:GA
CATEGORIES:Job Seeker,Veterans/Military,Virtual Event
END:VEVENT
END:VCALENDAR