BEGIN:VCALENDAR
VERSION:2.0
PRODID:-//MAX - ECPv6.15.17.1//NONSGML v1.0//EN
CALSCALE:GREGORIAN
METHOD:PUBLISH
X-ORIGINAL-URL:https://metroatlantaexchange.org
X-WR-CALDESC:Events for MAX
REFRESH-INTERVAL;VALUE=DURATION:PT1H
X-Robots-Tag:noindex
X-PUBLISHED-TTL:PT1H
BEGIN:VTIMEZONE
TZID:America/New_York
BEGIN:DAYLIGHT
TZOFFSETFROM:-0500
TZOFFSETTO:-0400
TZNAME:EDT
DTSTART:20250309T070000
END:DAYLIGHT
BEGIN:STANDARD
TZOFFSETFROM:-0400
TZOFFSETTO:-0500
TZNAME:EST
DTSTART:20251102T060000
END:STANDARD
BEGIN:DAYLIGHT
TZOFFSETFROM:-0500
TZOFFSETTO:-0400
TZNAME:EDT
DTSTART:20260308T070000
END:DAYLIGHT
BEGIN:STANDARD
TZOFFSETFROM:-0400
TZOFFSETTO:-0500
TZNAME:EST
DTSTART:20261101T060000
END:STANDARD
BEGIN:DAYLIGHT
TZOFFSETFROM:-0500
TZOFFSETTO:-0400
TZNAME:EDT
DTSTART:20270314T070000
END:DAYLIGHT
BEGIN:STANDARD
TZOFFSETFROM:-0400
TZOFFSETTO:-0500
TZNAME:EST
DTSTART:20271107T060000
END:STANDARD
END:VTIMEZONE
BEGIN:VEVENT
DTSTART;TZID=America/New_York:20260212T100000
DTEND;TZID=America/New_York:20260212T160000
DTSTAMP:20260422T104618
CREATED:20260119T210619Z
LAST-MODIFIED:20260119T210619Z
UID:10035845-1770890400-1770912000@metroatlantaexchange.org
SUMMARY:CareerEco: Georgia Tech All Majors Virtual Career Fair - Spring 2026
DESCRIPTION:CareerEco is hosting a Georgia Tech All Majors Virtual Career Fair – Spring 2026 on Thursday\, February 12th\, from 10:00 AM to 4:00 PM. \nThis online recruiting event will connect employers nationwide with Georgia Tech students and alumni. Job seekers with all majors and degrees are invited. \nClick here to learn more and register.
URL:https://metroatlantaexchange.org/event/careereco-georgia-tech-all-majors-virtual-career-fair-spring-2026/
LOCATION:GA
CATEGORIES:Job Seeker,Student,Virtual Event
ORGANIZER;CN="CareerEco":MAILTO:Events@CareerEco.com
END:VEVENT
BEGIN:VEVENT
DTSTART;TZID=America/New_York:20260218T110000
DTEND;TZID=America/New_York:20260218T150000
DTSTAMP:20260422T104618
CREATED:20260119T212026Z
LAST-MODIFIED:20260119T212026Z
UID:10035851-1771412400-1771426800@metroatlantaexchange.org
SUMMARY:CareerEco: Health Professions Fair for Underserved and Underrepresented Students
DESCRIPTION:CareerEco is hosting a Health Professions Fair for Underserved and Underrepresented Students on Wednesday\, February 18th\, from 11:00 AM to 3:00 PM. \nExplore a wide range of health career paths\, learn about admissions processes\, and gain insight into overcoming barriers on the journey to becoming a healthcare professional. This event brings together leading health profession programs and organizations committed to inclusivity. Whether you’re considering medicine\, nursing\, public health\, or another allied health field\, this is your chance to ask questions\, find mentorship\, and take the next step. \nClick here to learn more and register.
URL:https://metroatlantaexchange.org/event/careereco-health-professions-fair-for-underserved-and-underrepresented-students/
LOCATION:GA
CATEGORIES:Job Seeker,Student,Virtual Event
ORGANIZER;CN="CareerEco":MAILTO:Events@CareerEco.com
END:VEVENT
BEGIN:VEVENT
DTSTART;TZID=America/New_York:20260222T080000
DTEND;TZID=America/New_York:20260222T170000
DTSTAMP:20260422T104618
CREATED:20260223T031929Z
LAST-MODIFIED:20260223T031929Z
UID:10035965-1771747200-1771779600@metroatlantaexchange.org
SUMMARY:MAX Minutes with Chris Green\, Georgia Student Finance Commission
DESCRIPTION:The Metro Atlanta eXchange for Workforce Solutions (MAX) will host MAX Minutes with Chris Green\, Georgia Student Finance Commission\, on Friday\, February 27th\, at 9:00 AM\, via Zoom. \nAs the state’s single higher education finance agency\, the Georgia Student Finance Commission’s mission is to promote and increase access to education beyond high school for Georgians. The agency has a long history of helping students access higher education by providing financial aid options and programs to make college more affordable. \nChris Green\, President of the Georgia Student Finance Commission\, will join MAX to provide an update on how Georgia’s student financial aid programs are shaping the state’s workforce. This session will cover recent legislative and budget updates\, highlight program innovations\, and share strategies that connect education to economic growth. Chris will also discuss practical ways workforce and economic development professionals can support talent development in their communities. \nJoin MAX on Friday\, February 27th\, 9:00 AM\, for a timely and virtual conversation. \nClick here to register.
URL:https://metroatlantaexchange.org/event/max-minutes-with-chris-green-georgia-student-finance-commission/
LOCATION:GA
CATEGORIES:Employer,MAX,Student,Virtual Event,Workforce Developer
END:VEVENT
BEGIN:VEVENT
DTSTART;TZID=America/New_York:20260224T110000
DTEND;TZID=America/New_York:20260224T150000
DTSTAMP:20260422T104618
CREATED:20260119T212933Z
LAST-MODIFIED:20260119T212933Z
UID:10035855-1771930800-1771945200@metroatlantaexchange.org
SUMMARY:CareerEco: HBCU and MSI Virtual Career and Grad School Fair
DESCRIPTION:CareerEco is hosting an HBCU and MSI Virtual Career and Grad School Fair on Tuesday\, February 24th\, from 11:00 AM to 3:00 PM. \nThis event will bring together leading employers and top graduate programs committed to equity\, inclusion\, and advancement. Whether you’re exploring your first job\, pursuing grad studies\, or planning your next big career move\, this event is a gateway to opportunity. \nClick here to learn more and register.
URL:https://metroatlantaexchange.org/event/careereco-hbcu-and-msi-virtual-career-and-grad-school-fair/
LOCATION:GA
CATEGORIES:Job Seeker,Student,Virtual Event
ORGANIZER;CN="CareerEco":MAILTO:Events@CareerEco.com
END:VEVENT
END:VCALENDAR