BEGIN:VCALENDAR
VERSION:2.0
PRODID:-//MAX - ECPv6.15.17.1//NONSGML v1.0//EN
CALSCALE:GREGORIAN
METHOD:PUBLISH
X-WR-CALNAME:MAX
X-ORIGINAL-URL:https://metroatlantaexchange.org
X-WR-CALDESC:Events for MAX
REFRESH-INTERVAL;VALUE=DURATION:PT1H
X-Robots-Tag:noindex
X-PUBLISHED-TTL:PT1H
BEGIN:VTIMEZONE
TZID:America/New_York
BEGIN:DAYLIGHT
TZOFFSETFROM:-0500
TZOFFSETTO:-0400
TZNAME:EDT
DTSTART:20250309T070000
END:DAYLIGHT
BEGIN:STANDARD
TZOFFSETFROM:-0400
TZOFFSETTO:-0500
TZNAME:EST
DTSTART:20251102T060000
END:STANDARD
BEGIN:DAYLIGHT
TZOFFSETFROM:-0500
TZOFFSETTO:-0400
TZNAME:EDT
DTSTART:20260308T070000
END:DAYLIGHT
BEGIN:STANDARD
TZOFFSETFROM:-0400
TZOFFSETTO:-0500
TZNAME:EST
DTSTART:20261101T060000
END:STANDARD
BEGIN:DAYLIGHT
TZOFFSETFROM:-0500
TZOFFSETTO:-0400
TZNAME:EDT
DTSTART:20270314T070000
END:DAYLIGHT
BEGIN:STANDARD
TZOFFSETFROM:-0400
TZOFFSETTO:-0500
TZNAME:EST
DTSTART:20271107T060000
END:STANDARD
END:VTIMEZONE
BEGIN:VEVENT
DTSTART;TZID=America/New_York:20260423T183000
DTEND;TZID=America/New_York:20260423T193000
DTSTAMP:20260422T105255
CREATED:20260408T205243Z
LAST-MODIFIED:20260408T205243Z
UID:10036217-1776969000-1776972600@metroatlantaexchange.org
SUMMARY:African American Women Trucking Association (AAWTW): Trucking & Logistics Virtual Meet and Greet
DESCRIPTION:The African American Women Trucking Association (AAWTW) is hosting a Trucking & Logistics Virtual Meet and Greet on Thursday\, April 23rd\, from 6:30 PM to 7:30 PM. \nWhether you’re a new member\, partner\, or exploring opportunities in trucking\, logistics\, and supply chain\, this virtual session is your opportunity to get connected and informed. \nThe African American Women Trucking Association (AAWTA) is a national nonprofit organization committed to advancing equity\, workforce development\, and economic mobility across the transportation industry—and this session is designed to show you exactly how. This event is open to anyone interested in learning more about the trucking and logistics industry\, career and business opportunities and more. \nClick here to learn more and register.
URL:https://metroatlantaexchange.org/event/african-american-women-trucking-association-aawtw-trucking-logistics-virtual-meet-and-greet/
CATEGORIES:Career Development,Job Seeker,Virtual Event
END:VEVENT
END:VCALENDAR