BEGIN:VCALENDAR
VERSION:2.0
PRODID:-//MAX - ECPv6.15.17.1//NONSGML v1.0//EN
CALSCALE:GREGORIAN
METHOD:PUBLISH
X-WR-CALNAME:MAX
X-ORIGINAL-URL:https://metroatlantaexchange.org
X-WR-CALDESC:Events for MAX
REFRESH-INTERVAL;VALUE=DURATION:PT1H
X-Robots-Tag:noindex
X-PUBLISHED-TTL:PT1H
BEGIN:VTIMEZONE
TZID:America/New_York
BEGIN:DAYLIGHT
TZOFFSETFROM:-0500
TZOFFSETTO:-0400
TZNAME:EDT
DTSTART:20240310T070000
END:DAYLIGHT
BEGIN:STANDARD
TZOFFSETFROM:-0400
TZOFFSETTO:-0500
TZNAME:EST
DTSTART:20241103T060000
END:STANDARD
BEGIN:DAYLIGHT
TZOFFSETFROM:-0500
TZOFFSETTO:-0400
TZNAME:EDT
DTSTART:20250309T070000
END:DAYLIGHT
BEGIN:STANDARD
TZOFFSETFROM:-0400
TZOFFSETTO:-0500
TZNAME:EST
DTSTART:20251102T060000
END:STANDARD
BEGIN:DAYLIGHT
TZOFFSETFROM:-0500
TZOFFSETTO:-0400
TZNAME:EDT
DTSTART:20260308T070000
END:DAYLIGHT
BEGIN:STANDARD
TZOFFSETFROM:-0400
TZOFFSETTO:-0500
TZNAME:EST
DTSTART:20261101T060000
END:STANDARD
BEGIN:DAYLIGHT
TZOFFSETFROM:-0500
TZOFFSETTO:-0400
TZNAME:EDT
DTSTART:20270314T070000
END:DAYLIGHT
BEGIN:STANDARD
TZOFFSETFROM:-0400
TZOFFSETTO:-0500
TZNAME:EST
DTSTART:20271107T060000
END:STANDARD
END:VTIMEZONE
BEGIN:VEVENT
DTSTART;TZID=America/New_York:20260422T100000
DTEND;TZID=America/New_York:20260422T113000
DTSTAMP:20260422T140558
CREATED:20260408T204352Z
LAST-MODIFIED:20260408T204352Z
UID:10036210-1776852000-1776857400@metroatlantaexchange.org
SUMMARY:Clayton County Government: Financial Literacy for Small Business
DESCRIPTION:Clayton County Government is hosting a webinar on Financial Literacy for Small Business on Wednesday\, April 22nd\, from 10:00 AM to 11:30 AM. \nJoin in and learn practical applications in forward planning to help individuals and small business owners take control of their cash flow before problems arise. Financial Literacy for Small Businesses helps business owners reduce financial stress\, make informed decisions\, and build systems that support sustainable\, long-term growth. This is a two-part virtual session focusing on using QuickBooks effectively. \nClick here to register. Click here for a flyer.
URL:https://metroatlantaexchange.org/event/clayton-county-government-financial-literacy-for-small-business/
CATEGORIES:Career Development,Job Seeker,Virtual Event
END:VEVENT
BEGIN:VEVENT
DTSTART;TZID=America/New_York:20251217T173000
DTEND;TZID=America/New_York:20251217T183000
DTSTAMP:20260422T140558
CREATED:20251202T170847Z
LAST-MODIFIED:20251202T170847Z
UID:10035702-1765992600-1765996200@metroatlantaexchange.org
SUMMARY:Clayton County Government: Free Patient Care Tech Training and Certification Information Session
DESCRIPTION:Clayton County Government is hosting a Free Patient Care Tech Training and Certification Information Session on Wednesday\, December 17th\, starting at 5:30 PM\, at the Morrow Branch Library. \nStrive Atlanta will be offering free Patient Care Tech Training beginning in January 2026. This no-cost program will provide not only the necessary training\, but job placement assistance and lifetime support for alumni. \nClick here to learn more and register. \nClick here for a flyer.
URL:https://metroatlantaexchange.org/event/clayton-county-government-free-patient-care-tech-training-and-certification-information-session/
LOCATION:Clayton County Public Library – Morrow\, 6225 Maddox Road\, Morrow\, Georgia\, 30260
CATEGORIES:Career Development,In-Person Event,Job Seeker
END:VEVENT
END:VCALENDAR