BEGIN:VCALENDAR
VERSION:2.0
PRODID:-//MAX - ECPv6.15.17.1//NONSGML v1.0//EN
CALSCALE:GREGORIAN
METHOD:PUBLISH
X-WR-CALNAME:MAX
X-ORIGINAL-URL:https://metroatlantaexchange.org
X-WR-CALDESC:Events for MAX
REFRESH-INTERVAL;VALUE=DURATION:PT1H
X-Robots-Tag:noindex
X-PUBLISHED-TTL:PT1H
BEGIN:VTIMEZONE
TZID:America/New_York
BEGIN:DAYLIGHT
TZOFFSETFROM:-0500
TZOFFSETTO:-0400
TZNAME:EDT
DTSTART:20240310T070000
END:DAYLIGHT
BEGIN:STANDARD
TZOFFSETFROM:-0400
TZOFFSETTO:-0500
TZNAME:EST
DTSTART:20241103T060000
END:STANDARD
BEGIN:DAYLIGHT
TZOFFSETFROM:-0500
TZOFFSETTO:-0400
TZNAME:EDT
DTSTART:20250309T070000
END:DAYLIGHT
BEGIN:STANDARD
TZOFFSETFROM:-0400
TZOFFSETTO:-0500
TZNAME:EST
DTSTART:20251102T060000
END:STANDARD
BEGIN:DAYLIGHT
TZOFFSETFROM:-0500
TZOFFSETTO:-0400
TZNAME:EDT
DTSTART:20260308T070000
END:DAYLIGHT
BEGIN:STANDARD
TZOFFSETFROM:-0400
TZOFFSETTO:-0500
TZNAME:EST
DTSTART:20261101T060000
END:STANDARD
BEGIN:DAYLIGHT
TZOFFSETFROM:-0500
TZOFFSETTO:-0400
TZNAME:EDT
DTSTART:20270314T070000
END:DAYLIGHT
BEGIN:STANDARD
TZOFFSETFROM:-0400
TZOFFSETTO:-0500
TZNAME:EST
DTSTART:20271107T060000
END:STANDARD
END:VTIMEZONE
BEGIN:VEVENT
DTSTART;TZID=America/New_York:20260421T173000
DTEND;TZID=America/New_York:20260421T193000
DTSTAMP:20260422T123133
CREATED:20260406T165317Z
LAST-MODIFIED:20260406T165317Z
UID:10036104-1776792600-1776799800@metroatlantaexchange.org
SUMMARY:Clayton County Public Schools (CCPS): Spring Hiring Event
DESCRIPTION:Clayton County Public Schools (CCPS) is hosting a Spring Hiring Event on Tuesday\, April 21st\, from 5:30 PM to 7:30 PM\, at the Morrow Center. \nClayton County Public Schools invites passionate professionals to explore exciting career opportunities at our upcoming Hiring Event for the 2026–2027 School Year! Whether you are an experienced educator\, a recent graduate\, or a professional seeking a meaningful career supporting students and schools\, CCPS offers opportunities to grow\, lead\, and make a lasting impact in our community. \nClick here for a flyer containing a QR code to register.
URL:https://metroatlantaexchange.org/event/clayton-county-public-schools-ccps-spring-hiring-event/
LOCATION:Morrow Center\, 1180 Southlake Circle\, Suite 100\,\, Morrow\, GA\, 30260\, United States
CATEGORIES:In-Person Event,Job Seeker
GEO:33.5741815;-84.3515734
X-APPLE-STRUCTURED-LOCATION;VALUE=URI;X-ADDRESS=Morrow Center 1180 Southlake Circle Suite 100 Morrow GA 30260 United States;X-APPLE-RADIUS=500;X-TITLE=1180 Southlake Circle\, Suite 100\,:geo:-84.3515734,33.5741815
END:VEVENT
BEGIN:VEVENT
DTSTART;TZID=America/New_York:20260321T100000
DTEND;TZID=America/New_York:20260321T130000
DTSTAMP:20260422T123134
CREATED:20260310T191625Z
LAST-MODIFIED:20260310T191625Z
UID:10036008-1774087200-1774098000@metroatlantaexchange.org
SUMMARY:Clayton County Public Schools (CCPS): School-Based Hiring Event
DESCRIPTION:Clayton County Public Schools (CCPS) is hosting a School-Based Hiring Event on Saturday\, March 21st\, from 10:00 AM to 1:00 PM\, at Morrow High School. \nClayton County Public Schools invites passionate professionals to explore exciting career opportunities at our upcoming Hiring Event for the 2026–2027 School Year! Whether you are an experienced educator\, a recent graduate\, or a professional seeking a meaningful career supporting students and schools\, CCPS offers opportunities to grow\, lead\, and make a lasting impact in our community. \nClick here for a flyer containing a QR code to register.
URL:https://metroatlantaexchange.org/event/clayton-county-public-schools-ccps-school-based-hiring-event/
LOCATION:Morrow High School\, 4930 Steele Road\, Ellenwood\, Georgia\, 30294
CATEGORIES:Educators,In-Person Event,Job Seeker
END:VEVENT
BEGIN:VEVENT
DTSTART;TZID=America/New_York:20250607T100000
DTEND;TZID=America/New_York:20250607T130000
DTSTAMP:20260422T123134
CREATED:20250524T154529Z
LAST-MODIFIED:20250524T154529Z
UID:10033859-1749290400-1749301200@metroatlantaexchange.org
SUMMARY:Clayton County Public Schools (CCPS): Summer Hiring Event
DESCRIPTION:Clayton County Public Schools (CCPS) is hosting a Summer Hiring Event on Saturday\, June 7th\, from 10:00 AM to 1:00 PM\, at the Morrow Center. \nLooking for a career in education? Whether you’re a certified teacher or interested in a non-teaching role\, we want YOU on our team! We have open positions for teaching roles\, non-teaching opportunities\, support staff\, operations and more. Come out\, meet our team\, and take the next step toward a rewarding career! \nClick here to learn more. \nClick here to register.
URL:https://metroatlantaexchange.org/event/clayton-county-public-schools-ccps-summer-hiring-event/
LOCATION:Morrow Center\, 1180 Southlake Circle\, Suite 100\,\, Morrow\, GA\, 30260\, United States
CATEGORIES:In-Person Event,Job Seeker
GEO:33.5741815;-84.3515734
X-APPLE-STRUCTURED-LOCATION;VALUE=URI;X-ADDRESS=Morrow Center 1180 Southlake Circle Suite 100 Morrow GA 30260 United States;X-APPLE-RADIUS=500;X-TITLE=1180 Southlake Circle\, Suite 100\,:geo:-84.3515734,33.5741815
END:VEVENT
END:VCALENDAR