BEGIN:VCALENDAR
VERSION:2.0
PRODID:-//MAX - ECPv6.15.17.1//NONSGML v1.0//EN
CALSCALE:GREGORIAN
METHOD:PUBLISH
X-WR-CALNAME:MAX
X-ORIGINAL-URL:https://metroatlantaexchange.org
X-WR-CALDESC:Events for MAX
REFRESH-INTERVAL;VALUE=DURATION:PT1H
X-Robots-Tag:noindex
X-PUBLISHED-TTL:PT1H
BEGIN:VTIMEZONE
TZID:America/New_York
BEGIN:DAYLIGHT
TZOFFSETFROM:-0500
TZOFFSETTO:-0400
TZNAME:EDT
DTSTART:20250309T070000
END:DAYLIGHT
BEGIN:STANDARD
TZOFFSETFROM:-0400
TZOFFSETTO:-0500
TZNAME:EST
DTSTART:20251102T060000
END:STANDARD
BEGIN:DAYLIGHT
TZOFFSETFROM:-0500
TZOFFSETTO:-0400
TZNAME:EDT
DTSTART:20260308T070000
END:DAYLIGHT
BEGIN:STANDARD
TZOFFSETFROM:-0400
TZOFFSETTO:-0500
TZNAME:EST
DTSTART:20261101T060000
END:STANDARD
BEGIN:DAYLIGHT
TZOFFSETFROM:-0500
TZOFFSETTO:-0400
TZNAME:EDT
DTSTART:20270314T070000
END:DAYLIGHT
BEGIN:STANDARD
TZOFFSETFROM:-0400
TZOFFSETTO:-0500
TZNAME:EST
DTSTART:20271107T060000
END:STANDARD
END:VTIMEZONE
BEGIN:VEVENT
DTSTART;TZID=America/New_York:20260415T110000
DTEND;TZID=America/New_York:20260415T150000
DTSTAMP:20260422T135741
CREATED:20260406T155143Z
LAST-MODIFIED:20260406T155143Z
UID:10036077-1776250800-1776265200@metroatlantaexchange.org
SUMMARY:Defense Logistics Agency (DLA): Spring Virtual Career Fair
DESCRIPTION:The Defense Logistics Agency (DLA) is hosting a Spring Virtual Career Fair on Wednesday\, April 15th\, from 11:00 AM to 3:00 PM. \nThis event is designed for Internal to an Agency (Department of War)\, Veterans\, Transitioning Military\, Military Spouses and Persons with Disabilities. Come see hiring managers and recruiters to discuss opportunities with DLA\, whether an open position is available or not. \nClick here to learn more and register.
URL:https://metroatlantaexchange.org/event/defense-logistics-agency-dla-spring-virtual-career-fair/
CATEGORIES:Job Seeker,Veterans/Military,Virtual Event
END:VEVENT
END:VCALENDAR