BEGIN:VCALENDAR
VERSION:2.0
PRODID:-//MAX - ECPv6.15.17.1//NONSGML v1.0//EN
CALSCALE:GREGORIAN
METHOD:PUBLISH
X-ORIGINAL-URL:https://metroatlantaexchange.org
X-WR-CALDESC:Events for MAX
REFRESH-INTERVAL;VALUE=DURATION:PT1H
X-Robots-Tag:noindex
X-PUBLISHED-TTL:PT1H
BEGIN:VTIMEZONE
TZID:America/New_York
BEGIN:DAYLIGHT
TZOFFSETFROM:-0500
TZOFFSETTO:-0400
TZNAME:EDT
DTSTART:20250309T070000
END:DAYLIGHT
BEGIN:STANDARD
TZOFFSETFROM:-0400
TZOFFSETTO:-0500
TZNAME:EST
DTSTART:20251102T060000
END:STANDARD
BEGIN:DAYLIGHT
TZOFFSETFROM:-0500
TZOFFSETTO:-0400
TZNAME:EDT
DTSTART:20260308T070000
END:DAYLIGHT
BEGIN:STANDARD
TZOFFSETFROM:-0400
TZOFFSETTO:-0500
TZNAME:EST
DTSTART:20261101T060000
END:STANDARD
BEGIN:DAYLIGHT
TZOFFSETFROM:-0500
TZOFFSETTO:-0400
TZNAME:EDT
DTSTART:20270314T070000
END:DAYLIGHT
BEGIN:STANDARD
TZOFFSETFROM:-0400
TZOFFSETTO:-0500
TZNAME:EST
DTSTART:20271107T060000
END:STANDARD
END:VTIMEZONE
BEGIN:VEVENT
DTSTART;TZID=America/New_York:20260207T080000
DTEND;TZID=America/New_York:20260207T113000
DTSTAMP:20260422T153557
CREATED:20251220T213756Z
LAST-MODIFIED:20251220T213756Z
UID:10035780-1770451200-1770463800@metroatlantaexchange.org
SUMMARY:Forsyth County Schools: Certified Educator Job Fair
DESCRIPTION:Forsyth County Schools is hosting a Certified Educator Job Fair on Saturday\, February 7th\, from 8:00 AM to 11:30 AM\, at the Denmark High School. \nThis event is for individuals seeking positions with Forsyth County Schools as Teachers\, Administrators\, School Counselors\, or Speech Language Pathologists. \nThose who are interested in a position as a Paraprofessional\, click here. \nClick here to learn more and register.
URL:https://metroatlantaexchange.org/event/forsyth-county-schools-certified-educator-job-fair/
LOCATION:Denmark High School\, 645 Mullinax Road\, Alpharetta\, GA\, 30004\, United States
CATEGORIES:In-Person Event,Job Seeker
END:VEVENT
END:VCALENDAR