BEGIN:VCALENDAR
VERSION:2.0
PRODID:-//MAX - ECPv6.15.17.1//NONSGML v1.0//EN
CALSCALE:GREGORIAN
METHOD:PUBLISH
X-ORIGINAL-URL:https://metroatlantaexchange.org
X-WR-CALDESC:Events for MAX
REFRESH-INTERVAL;VALUE=DURATION:PT1H
X-Robots-Tag:noindex
X-PUBLISHED-TTL:PT1H
BEGIN:VTIMEZONE
TZID:America/New_York
BEGIN:DAYLIGHT
TZOFFSETFROM:-0500
TZOFFSETTO:-0400
TZNAME:EDT
DTSTART:20240310T070000
END:DAYLIGHT
BEGIN:STANDARD
TZOFFSETFROM:-0400
TZOFFSETTO:-0500
TZNAME:EST
DTSTART:20241103T060000
END:STANDARD
BEGIN:DAYLIGHT
TZOFFSETFROM:-0500
TZOFFSETTO:-0400
TZNAME:EDT
DTSTART:20250309T070000
END:DAYLIGHT
BEGIN:STANDARD
TZOFFSETFROM:-0400
TZOFFSETTO:-0500
TZNAME:EST
DTSTART:20251102T060000
END:STANDARD
BEGIN:DAYLIGHT
TZOFFSETFROM:-0500
TZOFFSETTO:-0400
TZNAME:EDT
DTSTART:20260308T070000
END:DAYLIGHT
BEGIN:STANDARD
TZOFFSETFROM:-0400
TZOFFSETTO:-0500
TZNAME:EST
DTSTART:20261101T060000
END:STANDARD
BEGIN:DAYLIGHT
TZOFFSETFROM:-0500
TZOFFSETTO:-0400
TZNAME:EDT
DTSTART:20270314T070000
END:DAYLIGHT
BEGIN:STANDARD
TZOFFSETFROM:-0400
TZOFFSETTO:-0500
TZNAME:EST
DTSTART:20271107T060000
END:STANDARD
END:VTIMEZONE
BEGIN:VEVENT
DTSTART;TZID=America/New_York:20260122T100000
DTEND;TZID=America/New_York:20260122T140000
DTSTAMP:20260422T180230
CREATED:20260119T173707Z
LAST-MODIFIED:20260119T173707Z
UID:10035805-1769076000-1769090400@metroatlantaexchange.org
SUMMARY:Georgia Association of Colleges and Employers (GACE): GACE Innovation Crawl
DESCRIPTION:The Georgia Association of Colleges and Employers (GACE) is hosting the GACE Innovation Crawl on Thursday\, January 22nd\, from 10:00 AM to 2:00 PM\, at Norfolk Southern. \nThis year’s Innovation Crawl features visits with Cargill and Norfolk Southern. Both employers will offer an inside look at their operations\, talent needs\, and recruitment practices. Attendees will hear from company representatives\, ask questions\, and gain a better sense of what it looks like to build and grow a career in these environments. Students are welcome to attend and will benefit from direct exposure to employers and a clearer understanding of possible career paths. The event is open to GACE members\, with space reserved for students who would like to join. \nClick here to learn more and register.
URL:https://metroatlantaexchange.org/event/georgia-association-of-colleges-and-employers-gace-gace-innovation-crawl/
LOCATION:Norfolk Southern\, 650 West Peachtree Street\, NE\, Atlanta\, 30308\, United States
CATEGORIES:Career Development,In-Person Event,Job Seeker
END:VEVENT
BEGIN:VEVENT
DTSTART;TZID=America/New_York:20251203T130000
DTEND;TZID=America/New_York:20251203T143000
DTSTAMP:20260422T180230
CREATED:20251202T151550Z
LAST-MODIFIED:20251202T151550Z
UID:10035652-1764766800-1764772200@metroatlantaexchange.org
SUMMARY:Georgia Association of Colleges and Employers (GACE): AI and Authenticity: Getting Hired Without Losing Your Voice
DESCRIPTION:The Georgia Association of Colleges and Employers (GACE) is hosting AI and Authenticity: Getting Hired Without Losing Your Voice on Wednesday\, December 3rd\, from 1:00 PM to 2:30 PM. \nJoin Alexander Harlan from Google and Dr. Phenix Culbertson from Georgia State University Robinson College of Business for an interactive webinar! Artificial intelligence is transforming the way people apply for jobs and how employers identify top talent. The challenge is learning to use AI effectively while keeping a genuine and personal approach. This webinar highlights both sides of the hiring process. Insights learned from this session will help participants understand how to work with AI while keeping the human voice at the center of career development and recruitment. \nClick here to learn more and register.
URL:https://metroatlantaexchange.org/event/georgia-association-of-colleges-and-employers-gace-ai-and-authenticity-getting-hired-without-losing-your-voice/
CATEGORIES:Career Development,Job Seeker,Virtual Event
END:VEVENT
BEGIN:VEVENT
DTSTART;TZID=America/New_York:20251113T120000
DTEND;TZID=America/New_York:20251113T130000
DTSTAMP:20260422T180230
CREATED:20251109T014349Z
LAST-MODIFIED:20251109T014349Z
UID:10035522-1763035200-1763038800@metroatlantaexchange.org
SUMMARY:Georgia Association of Colleges and Employers (GACE): "Ask Jan! We Can Help"
DESCRIPTION:The Georgia Association of Colleges and Employers (GACE) is hosting “Ask JAN! We Can Help” on Thursday\, November 13th\, from 12:00 PM to 1:00 PM. \nAs the leading source of expert and trusted guidance on workplace accommodations and the Americans with Disabilities Act (ADA)\, the Job Accommodation Network (JAN) has the knowledge\, resources\, and tools to help employers recognize the valuable contributions that qualified workers with disabilities add to the workforce. Job accommodations are typically low in cost\, positively impact the workplace in many ways\, and play a vital role in increasing employment opportunities for people with disabilities. This presentation will introduce attendees to JAN services and resources and explain how JAN can be a partner in exploring accommodation solutions. \nClick here to learn more and register.
URL:https://metroatlantaexchange.org/event/georgia-association-of-colleges-and-employers-gace-ask-jan-we-can-help/
CATEGORIES:Virtual Event,Workforce Developer
END:VEVENT
BEGIN:VEVENT
DTSTART;TZID=America/New_York:20251112T090000
DTEND;TZID=America/New_York:20251112T170000
DTSTAMP:20260422T180230
CREATED:20251109T001145Z
LAST-MODIFIED:20251109T001145Z
UID:10035483-1762938000-1762966800@metroatlantaexchange.org
SUMMARY:Georgia Association of Colleges and Employers (GACE): GACE Partner Shadowing Day
DESCRIPTION:The Georgia Association of Colleges and Employers (GACE) is hosting a GACE Partner Shadowing Day on Wednesday\, November 12th\, from 9:00 AM to 5:00 PM. \nThis event connects GACE Partners with Student Members for an immersive learning experience. Student Members will visit Partner organizations to observe daily operations and learn about roles in career services\, talent acquisition\, human resources\, or organizational leadership and development. Each Partner sets the schedule for the day\, which can include a company overview\, meetings and lunch with professionals\, shadowing across departments\, and a tour. The goal is to give students practical exposure to workplace environments while allowing Partners to engage with future professionals interested in the field. This event promotes professional development\, builds industry awareness\, and strengthens connections with future talent. \nClick here to learn more and register.
URL:https://metroatlantaexchange.org/event/georgia-association-of-colleges-and-employers-gace-gace-partner-shadowing-day/
CATEGORIES:Career Development,In-Person Event
END:VEVENT
BEGIN:VEVENT
DTSTART;TZID=America/New_York:20251104T110000
DTEND;TZID=America/New_York:20251104T150000
DTSTAMP:20260422T180230
CREATED:20250802T172327Z
LAST-MODIFIED:20250802T172327Z
UID:10034771-1762254000-1762268400@metroatlantaexchange.org
SUMMARY:Georgia Association of Colleges and Employers (GACE): 2025 GACE Statewide Career Fair
DESCRIPTION:The Georgia Association of Colleges and Employers (GACE) is hosting the 2025 GACE Statewide Career Fair on Tuesday\, November 4th\, from 11:00 AM to 3:00 PM\, at the Cobb Energy Performing Arts Center. \nStudent and degree holders from Georgia institutions are invited to attend this massive event featuring dozens of employers. Pre-registration is not required but highly encouraged and registered jobseekers will receive pre-event prep details and information. \nClick here to learn more and register.
URL:https://metroatlantaexchange.org/event/georgia-association-of-colleges-and-employers-gace-2025-gace-statewide-career-fair/
LOCATION:Cobb Energy Performing Arts Centre\, 2800 Cobb Galleria Parkway\, Atlanta\, GA\, 30339\, United States
CATEGORIES:In-Person Event,Job Seeker
END:VEVENT
BEGIN:VEVENT
DTSTART;TZID=America/New_York:20250527T080000
DTEND;TZID=America/New_York:20250530T170000
DTSTAMP:20260422T180230
CREATED:20250417T222039Z
LAST-MODIFIED:20250417T222039Z
UID:10033495-1748332800-1748624400@metroatlantaexchange.org
SUMMARY:Georgia Association of Colleges and Employers (GACE): GACE Conference 2025
DESCRIPTION:The Georgia Association of Colleges and Employers (GACE) is hosting a GACE Conference 2025 starting Tuesday\, May 27th through Friday\, May 30th\, at the Brasstown Valley Resort. \nDon’t miss your chance to network with career services\, talent acquisition\, and human resources professionals at this unique event. Participants will have the opportunity to explore new and emerging trends in the field\, share challenges and solutions to recruiting issues\, while engaging in professional development activities. \nClick here to learn more and register.
URL:https://metroatlantaexchange.org/event/georgia-association-of-colleges-and-employers-gace-gace-conference-2025/
LOCATION:Brasstown Valley Resort\, 6321 U.S. Highway 76\, Young Harris\, GA\, 30582\, United States
CATEGORIES:Conferences,In-Person Event,Workforce Developer
END:VEVENT
BEGIN:VEVENT
DTSTART;TZID=America/New_York:20250422T120000
DTEND;TZID=America/New_York:20250422T130000
DTSTAMP:20260422T180230
CREATED:20250417T193844Z
LAST-MODIFIED:20250417T193844Z
UID:10033428-1745323200-1745326800@metroatlantaexchange.org
SUMMARY:Georgia Association of Colleges and Employers (GACE): GACE Membership Panel Webinar
DESCRIPTION:The Georgia Association of Colleges and Employers (GACE) is hosting a GACE Mentorship Panel Webinar on Tuesday\, April 22nd\, from 12:00 PM to 1:00 PM. \nJoin us for an insightful webinar featuring a dynamic panel of Career Services Professionals and Industry Experts\, as we explore the vital role of mentorship in shaping professional development and career success. Whether you’re just starting your career or are a seasoned professional\, mentorship can be a game-changer! During this session\, our expert panelists will share their personal mentorship journeys and discuss how mentors can profoundly impact career growth. \nClick here to learn more and register.
URL:https://metroatlantaexchange.org/event/georgia-association-of-colleges-and-employers-gace-gace-membership-panel-webinar/
CATEGORIES:Career Development,Virtual Event
END:VEVENT
END:VCALENDAR