BEGIN:VCALENDAR
VERSION:2.0
PRODID:-//MAX - ECPv6.15.17.1//NONSGML v1.0//EN
CALSCALE:GREGORIAN
METHOD:PUBLISH
X-WR-CALNAME:MAX
X-ORIGINAL-URL:https://metroatlantaexchange.org
X-WR-CALDESC:Events for MAX
REFRESH-INTERVAL;VALUE=DURATION:PT1H
X-Robots-Tag:noindex
X-PUBLISHED-TTL:PT1H
BEGIN:VTIMEZONE
TZID:America/New_York
BEGIN:DAYLIGHT
TZOFFSETFROM:-0500
TZOFFSETTO:-0400
TZNAME:EDT
DTSTART:20250309T070000
END:DAYLIGHT
BEGIN:STANDARD
TZOFFSETFROM:-0400
TZOFFSETTO:-0500
TZNAME:EST
DTSTART:20251102T060000
END:STANDARD
BEGIN:DAYLIGHT
TZOFFSETFROM:-0500
TZOFFSETTO:-0400
TZNAME:EDT
DTSTART:20260308T070000
END:DAYLIGHT
BEGIN:STANDARD
TZOFFSETFROM:-0400
TZOFFSETTO:-0500
TZNAME:EST
DTSTART:20261101T060000
END:STANDARD
BEGIN:DAYLIGHT
TZOFFSETFROM:-0500
TZOFFSETTO:-0400
TZNAME:EDT
DTSTART:20270314T070000
END:DAYLIGHT
BEGIN:STANDARD
TZOFFSETFROM:-0400
TZOFFSETTO:-0500
TZNAME:EST
DTSTART:20271107T060000
END:STANDARD
END:VTIMEZONE
BEGIN:VEVENT
DTSTART;TZID=America/New_York:20260326T160000
DTEND;TZID=America/New_York:20260326T180000
DTSTAMP:20260422T173914
CREATED:20260310T202454Z
LAST-MODIFIED:20260310T202454Z
UID:10036028-1774540800-1774548000@metroatlantaexchange.org
SUMMARY:Gwinnett County Public Schools (GCPS): Teacher and Paraprofessional Job Fair
DESCRIPTION:Gwinnett County Public Schools (GCPS) is hosting a Teacher and Paraprofessional Job Fair on Thursday\, March 26th\, from 4:00 PM to 6:00 PM\, at Gwinnett Field. \nCertified Teachers\, Paraprofessionals\, SLPs and SPED Educators are invited to join Team GCPS for some baseball and networking. \nClick here to learn more and register. Click here for a flyer.
URL:https://metroatlantaexchange.org/event/gwinnett-county-public-schools-gcps-teacher-and-paraprofessional-job-fair/
LOCATION:Gwinnett Field\, 2500 Buford Drive\, Lawrenceville\, GA\, 30043\, United States
CATEGORIES:Educators,In-Person Event,Job Seeker
END:VEVENT
BEGIN:VEVENT
DTSTART;TZID=America/New_York:20260207T083000
DTEND;TZID=America/New_York:20260207T120000
DTSTAMP:20260422T173914
CREATED:20251220T213940Z
LAST-MODIFIED:20251220T213940Z
UID:10035781-1770453000-1770465600@metroatlantaexchange.org
SUMMARY:Gwinnett County Public Schools (GCPS): Go For the Gold with GCPS: Signature Teacher Job Fair
DESCRIPTION:Gwinnett County Public Schools (GCPS) is hosting Go For the Gold with GCPS: Signature Teacher Job Fair on Saturday\, February 7th\, from 8:30 AM to 12:00 PM\, at Gwinnett County Public Schools ISC. \nCome join GCPS for an opportunity to explore your future opportunities as a teacher within Gwinnett County Public Schools with on-site interviews and on-the-spot hiring. In addition to teachers\, we’re also hiring Speech-Language Pathologists and School Psychologists. Don’t miss out on this chance to connect with our recruitment team and light the torch for your career! \nClick here to learn more and register.
URL:https://metroatlantaexchange.org/event/gwinnett-county-public-schools-gcps-go-for-the-gold-with-gcps-signature-teacher-job-fair/
LOCATION:Gwinnett County Public Schools ISC\, 437 Old Peachtree Road\, NW\, Suite 2978\, Suwanee\, GA\, 30024\, United States
CATEGORIES:In-Person Event,Job Seeker
END:VEVENT
BEGIN:VEVENT
DTSTART;TZID=America/New_York:20260122T160000
DTEND;TZID=America/New_York:20260122T170000
DTSTAMP:20260422T173914
CREATED:20260120T014036Z
LAST-MODIFIED:20260120T014036Z
UID:10035889-1769097600-1769101200@metroatlantaexchange.org
SUMMARY:Gwinnett County Public Schools (GCPS) – Human Resources: Certification Pathways - Virtual Coffee and Careers Session #2
DESCRIPTION:Gwinnett County Public Schools (GCPS) – Human Resources is hosting Certification Pathways – Virtual Coffee and Careers Session #2 on Thursday\, January 22nd\, from 4:00 PM to 5:00 PM. \nThis session will guide attendees through the various avenues available to obtain certification. Don’t miss this fantastic opportunity to connect and learn. \nClick here to learn more and register.
URL:https://metroatlantaexchange.org/event/gwinnett-county-public-schools-gcps-human-resources-certification-pathways-virtual-coffee-and-careers-session-2/
CATEGORIES:Career Development,Job Seeker,Virtual Event
END:VEVENT
BEGIN:VEVENT
DTSTART;TZID=America/New_York:20260108T163000
DTEND;TZID=America/New_York:20260108T183000
DTSTAMP:20260422T173914
CREATED:20251220T212553Z
LAST-MODIFIED:20251220T212553Z
UID:10035771-1767889800-1767897000@metroatlantaexchange.org
SUMMARY:Gwinnett County Public Schools (GCPS): World-Class Student Teacher Mixer
DESCRIPTION:Gwinnett County Public Schools (GCPS) is hosting a World-Class Student Teacher Mixer on Thursday\, January 8th\, from 4:30 PM to 6:30 PM\, at Dave and Buster’s. \nStudent teachers are invited to meet and mingle with TeamGCPS principals\, district leaders and recruitment staff and explore future opportunities as a teacher within Gwinnett County Public Schools. Don’t miss out on this chance to connect with our recruitment staff and join the team where champions of the classroom are made! \nClick here to learn more and register.
URL:https://metroatlantaexchange.org/event/gwinnett-county-public-schools-gcps-world-class-student-teacher-mixer/
LOCATION:Dave and Buster’s\, 5900 Sugarloaf Parkway\, Suite #441\, Lawrenceville\, GA\, 30043\, United States
CATEGORIES:In-Person Event,Job Seeker
END:VEVENT
END:VCALENDAR