BEGIN:VCALENDAR
VERSION:2.0
PRODID:-//MAX - ECPv6.15.17.1//NONSGML v1.0//EN
CALSCALE:GREGORIAN
METHOD:PUBLISH
X-ORIGINAL-URL:https://metroatlantaexchange.org
X-WR-CALDESC:Events for MAX
REFRESH-INTERVAL;VALUE=DURATION:PT1H
X-Robots-Tag:noindex
X-PUBLISHED-TTL:PT1H
BEGIN:VTIMEZONE
TZID:America/New_York
BEGIN:DAYLIGHT
TZOFFSETFROM:-0500
TZOFFSETTO:-0400
TZNAME:EDT
DTSTART:20250309T070000
END:DAYLIGHT
BEGIN:STANDARD
TZOFFSETFROM:-0400
TZOFFSETTO:-0500
TZNAME:EST
DTSTART:20251102T060000
END:STANDARD
BEGIN:DAYLIGHT
TZOFFSETFROM:-0500
TZOFFSETTO:-0400
TZNAME:EDT
DTSTART:20260308T070000
END:DAYLIGHT
BEGIN:STANDARD
TZOFFSETFROM:-0400
TZOFFSETTO:-0500
TZNAME:EST
DTSTART:20261101T060000
END:STANDARD
BEGIN:DAYLIGHT
TZOFFSETFROM:-0500
TZOFFSETTO:-0400
TZNAME:EDT
DTSTART:20270314T070000
END:DAYLIGHT
BEGIN:STANDARD
TZOFFSETFROM:-0400
TZOFFSETTO:-0500
TZNAME:EST
DTSTART:20271107T060000
END:STANDARD
END:VTIMEZONE
BEGIN:VEVENT
DTSTART;TZID=America/New_York:20260415T130000
DTEND;TZID=America/New_York:20260415T140000
DTSTAMP:20260422T121532
CREATED:20260408T201947Z
LAST-MODIFIED:20260408T201947Z
UID:10036192-1776258000-1776261600@metroatlantaexchange.org
SUMMARY:Hire Heroes USA: Employer Spotlight - Job Hunt 101 with Leidos
DESCRIPTION:Hire Heroes USA is hosting an Employer Spotlight: Job Hunt 101 with Leidos on Wednesday\, April 15th\, from 1:00 PM to 2:00 PM. \nJoin in for this exclusive webinar with Leidos\, a Fortune 500® science and technology innovation company that provides services and solutions in defense\, intelligence\, civil\, and health markets. A team of talent acquisition professionals from Leidos will discuss the best ways to both search for and land a job. They’ll also share what guidance has served them in their own job search. During this discussion\, you’ll walk away prepared to further your career and professional network. This will be a fantastic opportunity to engage directly with recruiters who are eager to provide information\, answer your questions\, and potentially facilitate your job search within Leidos. This event is for veterans\, transitioning service members\, and military spouses. \nClick here to learn more and register.
URL:https://metroatlantaexchange.org/event/hire-heroes-usa-employer-spotlight-job-hunt-101-with-leidos/
CATEGORIES:Career Development,Job Seeker,Veterans/Military,Virtual Event
END:VEVENT
END:VCALENDAR