BEGIN:VCALENDAR
VERSION:2.0
PRODID:-//MAX - ECPv6.15.17.1//NONSGML v1.0//EN
CALSCALE:GREGORIAN
METHOD:PUBLISH
X-ORIGINAL-URL:https://metroatlantaexchange.org
X-WR-CALDESC:Events for MAX
REFRESH-INTERVAL;VALUE=DURATION:PT1H
X-Robots-Tag:noindex
X-PUBLISHED-TTL:PT1H
BEGIN:VTIMEZONE
TZID:America/New_York
BEGIN:DAYLIGHT
TZOFFSETFROM:-0500
TZOFFSETTO:-0400
TZNAME:EDT
DTSTART:20240310T070000
END:DAYLIGHT
BEGIN:STANDARD
TZOFFSETFROM:-0400
TZOFFSETTO:-0500
TZNAME:EST
DTSTART:20241103T060000
END:STANDARD
BEGIN:DAYLIGHT
TZOFFSETFROM:-0500
TZOFFSETTO:-0400
TZNAME:EDT
DTSTART:20250309T070000
END:DAYLIGHT
BEGIN:STANDARD
TZOFFSETFROM:-0400
TZOFFSETTO:-0500
TZNAME:EST
DTSTART:20251102T060000
END:STANDARD
BEGIN:DAYLIGHT
TZOFFSETFROM:-0500
TZOFFSETTO:-0400
TZNAME:EDT
DTSTART:20260308T070000
END:DAYLIGHT
BEGIN:STANDARD
TZOFFSETFROM:-0400
TZOFFSETTO:-0500
TZNAME:EST
DTSTART:20261101T060000
END:STANDARD
END:VTIMEZONE
BEGIN:VEVENT
DTSTART;TZID=America/New_York:20251112T100000
DTEND;TZID=America/New_York:20251112T180000
DTSTAMP:20260423T011724
CREATED:20251108T191100Z
LAST-MODIFIED:20251108T191100Z
UID:10035392-1762941600-1762970400@metroatlantaexchange.org
SUMMARY:Live! at the Battery: Job Fair
DESCRIPTION:Live! at the Battery is hosting a Job Fair on Wednesday\, November 12th\, from 10:00 AM to 6:00 PM\, at Live! at the Battery. \nAre you passionate about providing exceptional hospitality? Do you thrive in a fast-paced environment where teamwork and customer service are top priorities? Live! at the Battery is hosting a Job Fair for Front of the House positions including Bartender\, Server\, Host and Bussers/Runners. Don’t miss this chance to join a passionate team dedicated to exceeding guest expectations! Come prepared with your resume and a positive attitude. \nClick here to learn more and register.
URL:https://metroatlantaexchange.org/event/live-at-the-battery-job-fair/
LOCATION:Live! at the Battery\, 825 Battery Avenue\, SE\, Atlanta\, GA\, 30339\, United States
CATEGORIES:In-Person Event,Job Seeker
END:VEVENT
END:VCALENDAR