BEGIN:VCALENDAR
VERSION:2.0
PRODID:-//MAX - ECPv6.15.17.1//NONSGML v1.0//EN
CALSCALE:GREGORIAN
METHOD:PUBLISH
X-ORIGINAL-URL:https://metroatlantaexchange.org
X-WR-CALDESC:Events for MAX
REFRESH-INTERVAL;VALUE=DURATION:PT1H
X-Robots-Tag:noindex
X-PUBLISHED-TTL:PT1H
BEGIN:VTIMEZONE
TZID:America/New_York
BEGIN:DAYLIGHT
TZOFFSETFROM:-0500
TZOFFSETTO:-0400
TZNAME:EDT
DTSTART:20250309T070000
END:DAYLIGHT
BEGIN:STANDARD
TZOFFSETFROM:-0400
TZOFFSETTO:-0500
TZNAME:EST
DTSTART:20251102T060000
END:STANDARD
BEGIN:DAYLIGHT
TZOFFSETFROM:-0500
TZOFFSETTO:-0400
TZNAME:EDT
DTSTART:20260308T070000
END:DAYLIGHT
BEGIN:STANDARD
TZOFFSETFROM:-0400
TZOFFSETTO:-0500
TZNAME:EST
DTSTART:20261101T060000
END:STANDARD
BEGIN:DAYLIGHT
TZOFFSETFROM:-0500
TZOFFSETTO:-0400
TZNAME:EDT
DTSTART:20270314T070000
END:DAYLIGHT
BEGIN:STANDARD
TZOFFSETFROM:-0400
TZOFFSETTO:-0500
TZNAME:EST
DTSTART:20271107T060000
END:STANDARD
END:VTIMEZONE
BEGIN:VEVENT
DTSTART;TZID=America/New_York:20260430T080000
DTEND;TZID=America/New_York:20260430T170000
DTSTAMP:20260422T121448
CREATED:20260408T214844Z
LAST-MODIFIED:20260408T214844Z
UID:10036243-1777536000-1777568400@metroatlantaexchange.org
SUMMARY:Partnership for Southern Equity: LIFT Atlanta Cohort 3
DESCRIPTION:The Partnership for Southern Equity has opened the application window for its LIFT Atlanta Cohort 3\, at the Center for Black Entrepreneurship. \nLIFT is designed for early-stage Black-led startups based in Atlanta that are looking for structured support as they grow. Through the program\, founders receive curriculum\, mentorship\, pitch coaching\, fractional executive support\, and investor connections – even grant funding opportunities. The application deadline is Thursday\, April 30th. \nClick here to learn more. Click here to apply.
URL:https://metroatlantaexchange.org/event/partnership-for-southern-equity-lift-atlanta-cohort-3/
LOCATION:Center for Black Entrereneurship\, 350 Spelman Lane\, SW\, Atlanta\, GA\, 30314\, United States
CATEGORIES:Workforce Developer
END:VEVENT
END:VCALENDAR