BEGIN:VCALENDAR
VERSION:2.0
PRODID:-//MAX - ECPv6.15.17.1//NONSGML v1.0//EN
CALSCALE:GREGORIAN
METHOD:PUBLISH
X-WR-CALNAME:MAX
X-ORIGINAL-URL:https://metroatlantaexchange.org
X-WR-CALDESC:Events for MAX
REFRESH-INTERVAL;VALUE=DURATION:PT1H
X-Robots-Tag:noindex
X-PUBLISHED-TTL:PT1H
BEGIN:VTIMEZONE
TZID:America/New_York
BEGIN:DAYLIGHT
TZOFFSETFROM:-0500
TZOFFSETTO:-0400
TZNAME:EDT
DTSTART:20240310T070000
END:DAYLIGHT
BEGIN:STANDARD
TZOFFSETFROM:-0400
TZOFFSETTO:-0500
TZNAME:EST
DTSTART:20241103T060000
END:STANDARD
BEGIN:DAYLIGHT
TZOFFSETFROM:-0500
TZOFFSETTO:-0400
TZNAME:EDT
DTSTART:20250309T070000
END:DAYLIGHT
BEGIN:STANDARD
TZOFFSETFROM:-0400
TZOFFSETTO:-0500
TZNAME:EST
DTSTART:20251102T060000
END:STANDARD
BEGIN:DAYLIGHT
TZOFFSETFROM:-0500
TZOFFSETTO:-0400
TZNAME:EDT
DTSTART:20260308T070000
END:DAYLIGHT
BEGIN:STANDARD
TZOFFSETFROM:-0400
TZOFFSETTO:-0500
TZNAME:EST
DTSTART:20261101T060000
END:STANDARD
END:VTIMEZONE
BEGIN:VEVENT
DTSTART;TZID=America/New_York:20250815T120000
DTEND;TZID=America/New_York:20250815T130000
DTSTAMP:20260422T225126
CREATED:20250802T182110Z
LAST-MODIFIED:20250802T182110Z
UID:10034908-1755259200-1755262800@metroatlantaexchange.org
SUMMARY:Vetrepreneur® Franchise Coaching: Virtual Information Session
DESCRIPTION:Vetrepreneur® Franchise Coaching is hosting a Virtual Information Session on Friday\, August 15th\, from 12:00 PM to 1:00 PM. \nCurious about becoming a franchise owner? This 1-hour virtual session is designed for veterans and military spouses ready to explore business ownership through franchising. Learn how our proven process helps you find the right franchise and confidently navigate the path to ownership. \nClick here to learn more and register.
URL:https://metroatlantaexchange.org/event/vetrepreneur-franchise-coaching-virtual-information-session/
CATEGORIES:Career Development,Job Seeker,Virtual Event
END:VEVENT
BEGIN:VEVENT
DTSTART;TZID=America/New_York:20250509T150000
DTEND;TZID=America/New_York:20250509T160000
DTSTAMP:20260422T225126
CREATED:20250417T205259Z
LAST-MODIFIED:20250417T205259Z
UID:10033456-1746802800-1746806400@metroatlantaexchange.org
SUMMARY:Vetpreneur Franchise Academy: Virtual Information Session
DESCRIPTION:Vetrepreneur Franchise Academy is hosting a Virtual Information Session on Friday\, May 9th\, from 3:00 PM to 4:00 PM. \nWelcome to the Vetrepreneur®Franchise Academy’s Free 10-Step\, 10-Week Class that transforms veterans and military spouses into successful business owners. Veteran franchising experts will guide you and your classmates through a series of group and individual sessions\, paving your way to franchise ownership. This comprehensive program helps you achieve your dream of business ownership through franchising\, with a structured approach that provides the knowledge\, skills\, and support needed to open and run a successful franchise. Best of all\, this service comes to you at zero cost. To get started\, sign up for the 1-hour Vetrepreneur® Franchise Academy Information Session. During the session\, you’ll gain a solid understanding of franchising basics\, learn about the Academy process and how it can help you achieve your business ownership dreams\, and get your questions answered during the live Q&A session. \nClick here to learn more and register.
URL:https://metroatlantaexchange.org/event/vetpreneur-franchise-academy-virtual-information-session/
CATEGORIES:Career Development,Job Seeker,Veterans/Military,Virtual Event
END:VEVENT
END:VCALENDAR