BEGIN:VCALENDAR
VERSION:2.0
PRODID:-//MAX - ECPv6.15.17.1//NONSGML v1.0//EN
CALSCALE:GREGORIAN
METHOD:PUBLISH
X-WR-CALNAME:MAX
X-ORIGINAL-URL:https://metroatlantaexchange.org
X-WR-CALDESC:Events for MAX
REFRESH-INTERVAL;VALUE=DURATION:PT1H
X-Robots-Tag:noindex
X-PUBLISHED-TTL:PT1H
BEGIN:VTIMEZONE
TZID:America/New_York
BEGIN:DAYLIGHT
TZOFFSETFROM:-0500
TZOFFSETTO:-0400
TZNAME:EDT
DTSTART:20240310T070000
END:DAYLIGHT
BEGIN:STANDARD
TZOFFSETFROM:-0400
TZOFFSETTO:-0500
TZNAME:EST
DTSTART:20241103T060000
END:STANDARD
BEGIN:DAYLIGHT
TZOFFSETFROM:-0500
TZOFFSETTO:-0400
TZNAME:EDT
DTSTART:20250309T070000
END:DAYLIGHT
BEGIN:STANDARD
TZOFFSETFROM:-0400
TZOFFSETTO:-0500
TZNAME:EST
DTSTART:20251102T060000
END:STANDARD
BEGIN:DAYLIGHT
TZOFFSETFROM:-0500
TZOFFSETTO:-0400
TZNAME:EDT
DTSTART:20260308T070000
END:DAYLIGHT
BEGIN:STANDARD
TZOFFSETFROM:-0400
TZOFFSETTO:-0500
TZNAME:EST
DTSTART:20261101T060000
END:STANDARD
BEGIN:DAYLIGHT
TZOFFSETFROM:-0500
TZOFFSETTO:-0400
TZNAME:EDT
DTSTART:20270314T070000
END:DAYLIGHT
BEGIN:STANDARD
TZOFFSETFROM:-0400
TZOFFSETTO:-0500
TZNAME:EST
DTSTART:20271107T060000
END:STANDARD
END:VTIMEZONE
BEGIN:VEVENT
DTSTART;TZID=America/New_York:20260416T173000
DTEND;TZID=America/New_York:20260416T193000
DTSTAMP:20260422T154645
CREATED:20260408T202746Z
LAST-MODIFIED:20260408T202746Z
UID:10036198-1776360600-1776367800@metroatlantaexchange.org
SUMMARY:Women in Technology (WIT): WIT Early-Career April Social
DESCRIPTION:Women in Technology (WIT) is hosting a WIT Early-Career April Social on Thursday\, April 16th\, from 5:30 PM to 7:30 PM\, at Adapture. \nThe WIT Early Career Social is an opportunity for women in the early years of their tech careers to connect\, build community\, and expand their professional networks in a relaxed\, welcoming environment. Food and beverages will be provided for all attendees. Guests aged 21+ will receive two complimentary drink tickets. \nClick here to learn more and register.
URL:https://metroatlantaexchange.org/event/women-in-technology-wit-wit-early-career-april-social/
LOCATION:Adapture\, 211 Perimeter Center Parkway\, NE\, Suite #140\, Atlanta\, GA\, 30346\, United States
CATEGORIES:Career Development,In-Person Event,Job Seeker
END:VEVENT
BEGIN:VEVENT
DTSTART;TZID=America/New_York:20260121T080000
DTEND;TZID=America/New_York:20260121T090000
DTSTAMP:20260422T154645
CREATED:20251220T222245Z
LAST-MODIFIED:20251220T222245Z
UID:10035793-1768982400-1768986000@metroatlantaexchange.org
SUMMARY:Women in Technology (WIT): Women Who Change the Game - How Sports Leaders Team Up With Technology
DESCRIPTION:Women in Technology (WIT) is hosting Women Who Change the Game: How Sports Leaders Team Up With Technology on Wednesday\, January 21st\, from 8:00 AM to 9:00 AM. \nJoin WIT at the January Virtual Forum as women who lead at the highest levels of women’s sports are spotlighted. Their leadership lessons translate powerfully to tech: navigating bias\, building influence\, and driving innovation by leveraging technology. This virtual event offers fresh insight\, career inspiration\, and strategies you can use right now. Allies are welcome. After all\, building the future of tech is a team sport! \nClick here to learn more and register.
URL:https://metroatlantaexchange.org/event/women-in-technology-wit-women-who-change-the-game-how-sports-leaders-team-up-with-technology/
CATEGORIES:Career Development,Virtual Event
END:VEVENT
BEGIN:VEVENT
DTSTART;TZID=America/New_York:20251119T073000
DTEND;TZID=America/New_York:20251119T090000
DTSTAMP:20260422T154645
CREATED:20251109T005826Z
LAST-MODIFIED:20251109T005826Z
UID:10035504-1763537400-1763542800@metroatlantaexchange.org
SUMMARY:Women in Technology (WIT): November Forum - Hear Their Stories
DESCRIPTION:Women in Technology (WIT) is hosting its November Forum – Hear Their Stories on Wednesday\, November 19th\, from 7:30 AM to 9:00 AM\, at Maggiano’s Buckhead. \nJoin WIT for a special forum where the spotlight will be shined on the extraordinary women recognized at the 25th Annual WIT Awards. This event will feature inspiring conversations with award winners as they share their journeys\, lessons learned\, and the impact of their work across Georgia’s technology community. \nClick here to learn more and register.
URL:https://metroatlantaexchange.org/event/women-in-technology-wit-november-forum-hear-their-stories/
LOCATION:Maggiano’s Buckhead\, 3368 Peachtree Road\, NE\, Atlanta\, 30326\, United States
CATEGORIES:Career Development,In-Person Event,Job Seeker
END:VEVENT
BEGIN:VEVENT
DTSTART;TZID=America/New_York:20251115T093000
DTEND;TZID=America/New_York:20251115T123000
DTSTAMP:20260422T154645
CREATED:20251109T004046Z
LAST-MODIFIED:20251109T004046Z
UID:10035495-1763199000-1763209800@metroatlantaexchange.org
SUMMARY:Women in Technology (WIT): WIT Girls - University Data Science Research Immersion Day
DESCRIPTION:Women in Technology (WIT) is hosting a WIT Girls: University Data Science Research Immersion Day on Saturday\, November 15th\, from 9:30 AM to 12:30 PM\, at Emory University. \nCurious how data science helps us better understand the world around us? Join WIT for this exclusive event that will explore how students and professors use data to answer big questions in science\, society\, and beyond. Hear from faculty and students\, discover career paths in academic research\, and even try your hand at a data-inspired workshop — snacks included! \nClick here to learn more and register.
URL:https://metroatlantaexchange.org/event/women-in-technology-wit-wit-girls-university-data-science-research-immersion-day/
LOCATION:Emory University\, 1301 Clifton Road\, Atlanta\, GA\, 30322\, United States
CATEGORIES:Career Development,In-Person Event,Job Seeker
END:VEVENT
BEGIN:VEVENT
DTSTART;TZID=America/New_York:20250925T080000
DTEND;TZID=America/New_York:20250925T120000
DTSTAMP:20260422T154645
CREATED:20250511T190715Z
LAST-MODIFIED:20250511T190715Z
UID:10033791-1758787200-1758801600@metroatlantaexchange.org
SUMMARY:Women in Technology (WIT): Annual Women in Technology Career Fair
DESCRIPTION:Women in Technology (WIT) is hosting its Annual Women in Technology Career Fair on Thursday\, September 25th\, from 8:00 AM to 12:00 PM\, at the Tech Square Clubhouse. \nThis event is a fantastic opportunity for the entire WIT community to connect\, network\, and explore opportunities in the technology industry. Whether you’re a WIT member seeking new opportunities or a passionate individual looking to break into the industry\, there’s something for everyone. The primary goal of this career fair is to empower and support women in finding rewarding careers in various technology fields. We are eager to welcome more companies to join us in this important initiative\, helping to create more opportunities for women to re-enter the workforce. You will also get access to live mock interviews and resume workshops. The dress code is business casual\, the cost is free\, and light refreshments will be served. \nClick here to learn more and register.
URL:https://metroatlantaexchange.org/event/women-in-technology-wit-annual-women-in-technology-career-fair/
LOCATION:Tech Square\, 848 Spring Street\, NW\, Atlanta\, GA\, 30308\, United States
CATEGORIES:In-Person Event,Job Seeker
END:VEVENT
BEGIN:VEVENT
DTSTART;TZID=America/New_York:20250903T170000
DTEND;TZID=America/New_York:20250903T193000
DTSTAMP:20260422T154645
CREATED:20250824T174539Z
LAST-MODIFIED:20250824T174539Z
UID:10035068-1756918800-1756927800@metroatlantaexchange.org
SUMMARY:Women in Technology (WIT): WIT YoPros Meet Tech Talks Business
DESCRIPTION:Women in Technology (WIT) is hosting WIT YoPros Meet Tech Talks Business on Wednesday\, September 3rd\, from 5:00 PM to 7:30 PM\, at the Cisco Innovation Center. \nWIT YoPros are invited to attend an exclusive leadership event hosted by our valued partners at Georgia Tech Scheller College of Business\, an incredible partner of the WIT YoPros program. This event brings together a dynamic audience of industry leaders\, students\, faculty\, and working professionals\, and we’re honored to have the WIT YoPros community recognized as featured guests. Whether you’re looking to grow your leadership mindset\, expand your network\, or gain insight from a trailblazing woman in tech-adjacent industries — this is your moment to be in the room. \nClick here to learn more and register.
URL:https://metroatlantaexchange.org/event/women-in-technology-wit-wit-yopros-meet-tech-talks-business/
LOCATION:Cisco Innovation Center\, 765 West Peachtree Street\, NW\, Atlanta\, GA\, 30308\, United States
CATEGORIES:Career Development,In-Person Event,Job Seeker
END:VEVENT
BEGIN:VEVENT
DTSTART;TZID=America/New_York:20250820T073000
DTEND;TZID=America/New_York:20250820T090000
DTSTAMP:20260422T154645
CREATED:20250802T185232Z
LAST-MODIFIED:20250802T185232Z
UID:10034915-1755675000-1755680400@metroatlantaexchange.org
SUMMARY:Women in Technology (WIT): August Forum - Overcoming Career Stagnation in Tech
DESCRIPTION:Women in Technology (WIT) is hosting an August Forum – Overcoming Career Stagnation in Tech on Wednesday\, August 20th\, from 7:30 AM to 9:00 AM\, at Maggiano’s Buckhead. \nFeeling stuck in your tech career? Join WIT for an empowering panel focused on breaking through mid-career stagnation. Hear real stories and expert advice from leaders who’ve climbed past plateaus and helped others do the same. Coffee\, tea\, continental breakfast and free parking will be included. \nClick here to learn more and register.
URL:https://metroatlantaexchange.org/event/women-in-technology-wit-august-forum-overcoming-career-stagnation-in-tech/
LOCATION:Maggiano’s Buckhead\, 3368 Peachtree Road\, NE\, Atlanta\, 30326\, United States
CATEGORIES:Career Development,In-Person Event,Job Seeker
END:VEVENT
BEGIN:VEVENT
DTSTART;TZID=America/New_York:20250714T080000
DTEND;TZID=America/New_York:20250717T140000
DTSTAMP:20260422T154645
CREATED:20250417T213556Z
LAST-MODIFIED:20250417T213556Z
UID:10033472-1752480000-1752760800@metroatlantaexchange.org
SUMMARY:Women in Technology (WIT): Girls Job Shadow Week
DESCRIPTION:Women in Technology (WIT) is hosting a Girls Job Shadow Week starting Monday\, July 14th through Thursday\, July 17th\, from 8:00 AM to 2:00 PM. \nTeenage girls are provided with a glimpse of the day-to-day excitement of a career in technology. For one week in the summer\, high school girls are paired with various technology centered organizations to experience the possibilities of a career in a STEM field. Volunteers at these organizations share their education and career path with the girls\, giving them an idea of what it takes to succeed. \nClick here to learn more and register.
URL:https://metroatlantaexchange.org/event/women-in-technology-wit-girls-job-shadow-week/
CATEGORIES:Career Development,In-Person Event,Job Seeker
END:VEVENT
BEGIN:VEVENT
DTSTART;TZID=America/New_York:20250618T080000
DTEND;TZID=America/New_York:20250618T090000
DTSTAMP:20260422T154645
CREATED:20250512T203508Z
LAST-MODIFIED:20250512T203508Z
UID:10033805-1750233600-1750237200@metroatlantaexchange.org
SUMMARY:Women in Technology (WIT): June 2025 Virtual Forum - The Mid-Career Tech Exodus: Identifying the Why and How to Stay
DESCRIPTION:Women in Technology (WIT)\, in partnership with the Tier4 Group\, is hosting the June 2025 Virtual Forum: The Mid-Career Tech Exodus – Identifying the Why and How to Stay on Wednesday\, June 18th\, from 8:00 AM to 9:00 AM. \nWomen are leaving the tech workforce at alarming rates. According to recent research\, 58% of women in technology exit their positions by mid-career\, often due to burnout\, lack of advancement opportunities\, and workplace cultures that don’t evolve with them. This isn’t just a “women’s issue.” It’s a business crisis. At the June WIT Forum\, we’re going beyond the statistics. We’re digging into the “why” behind the mass mid-career tech exodus and exploring the “how” of keeping women in the game. Expect candid insights from panelists who understand what it takes to build cultures that retain and elevate women in technology careers. Whether you’re a leader building diverse teams\, a mid-career woman in tech charting your path\, or an ally looking to drive change\, this forum is for you. \nClick here to learn more and register via Zoom.
URL:https://metroatlantaexchange.org/event/women-in-technology-wit-june-2025-virtual-forum-the-mid-career-tech-exodus-identifying-the-why-and-how-to-stay/
CATEGORIES:Career Development,Job Seeker,Virtual Event,Workforce Developer
END:VEVENT
BEGIN:VEVENT
DTSTART;TZID=America/New_York:20250501T160000
DTEND;TZID=America/New_York:20250501T200000
DTSTAMP:20260422T154645
CREATED:20250417T215538Z
LAST-MODIFIED:20250417T215538Z
UID:10033483-1746115200-1746129600@metroatlantaexchange.org
SUMMARY:Women in Technology (WIT): WIT Connect 2025
DESCRIPTION:Women in Technology (WIT) is hosting WIT Connect 2025 on Thursday\, May 1st\, from 4:00 PM to 8:00 PM\, at TopGolf. \nWIT Connect is an annual fundraising event that brings together our diverse community and draws support from many stakeholders\, including top-level executives\, leaders\, and industry professionals. The event is a unique platform for networking and collaboration\, fostering connections\, and supporting WIT’s mission. Be part of this pivotal moment and help us shape the future of STEM! This fundraiser will be hosted at TopGolf Midtown\, and attendees will play in a short “tournament” and spend the evening playing various TopGolf games\, participating in special contests\, and mingling with Atlanta’s tech community members. This event will be packed with fun\, fellowship\, and fundraising and will feature an impressive lineup of leaders in our executive auction. \nClick here to learn more.
URL:https://metroatlantaexchange.org/event/women-in-technology-wit-wit-connect-2025/
LOCATION:TopGolf\, 1600 Ellsworth Industrial Boulevard\, NW\, Atlanta\, GA\, 30318\, United States
CATEGORIES:In-Person Event,Workforce Developer
END:VEVENT
END:VCALENDAR