BEGIN:VCALENDAR
VERSION:2.0
PRODID:-//MAX - ECPv6.15.17.1//NONSGML v1.0//EN
CALSCALE:GREGORIAN
METHOD:PUBLISH
X-WR-CALNAME:MAX
X-ORIGINAL-URL:https://metroatlantaexchange.org
X-WR-CALDESC:Events for MAX
REFRESH-INTERVAL;VALUE=DURATION:PT1H
X-Robots-Tag:noindex
X-PUBLISHED-TTL:PT1H
BEGIN:VTIMEZONE
TZID:America/New_York
BEGIN:DAYLIGHT
TZOFFSETFROM:-0500
TZOFFSETTO:-0400
TZNAME:EDT
DTSTART:20250309T070000
END:DAYLIGHT
BEGIN:STANDARD
TZOFFSETFROM:-0400
TZOFFSETTO:-0500
TZNAME:EST
DTSTART:20251102T060000
END:STANDARD
BEGIN:DAYLIGHT
TZOFFSETFROM:-0500
TZOFFSETTO:-0400
TZNAME:EDT
DTSTART:20260308T070000
END:DAYLIGHT
BEGIN:STANDARD
TZOFFSETFROM:-0400
TZOFFSETTO:-0500
TZNAME:EST
DTSTART:20261101T060000
END:STANDARD
BEGIN:DAYLIGHT
TZOFFSETFROM:-0500
TZOFFSETTO:-0400
TZNAME:EDT
DTSTART:20270314T070000
END:DAYLIGHT
BEGIN:STANDARD
TZOFFSETFROM:-0400
TZOFFSETTO:-0500
TZNAME:EST
DTSTART:20271107T060000
END:STANDARD
END:VTIMEZONE
BEGIN:VEVENT
DTSTART;TZID=America/New_York:20260423T100000
DTEND;TZID=America/New_York:20260423T140000
DTSTAMP:20260422T211353
CREATED:20260406T185309Z
LAST-MODIFIED:20260406T185309Z
UID:10036114-1776938400-1776952800@metroatlantaexchange.org
SUMMARY:Unity Network and Counseling Center: 2nd Annual Chance Job and Resource Fair
DESCRIPTION:The Unity Network and Counseling Center is hosting the 2nd Annual Chance Job and Resource Fair on Thursday\, April 23rd\, from 10:00 AM to 2:00 PM\, at the C.T. Martin Natatorium. \nThis impactful event is designed to connect returning citizens\, job seekers\, and underserved individuals with meaningful employment opportunities\, workforce training programs\, and vital community resources. Unlock your future with hot jobs\, training\, and a fresh start. \nClick here to learn more and register.
URL:https://metroatlantaexchange.org/event/unity-network-and-counseling-center-2nd-annual-chance-job-and-resource-fair/
LOCATION:C.T. Martin Natatorium & Recreation Center\, 3201 Martin Luther King\, Jr. Drive\, Atlanta\, GA\, 30311\, United States
CATEGORIES:In-Person Event,Job Seeker
GEO:33.7541215;-84.4918471
X-APPLE-STRUCTURED-LOCATION;VALUE=URI;X-ADDRESS=C.T. Martin Natatorium & Recreation Center 3201 Martin Luther King Jr. Drive Atlanta GA 30311 United States;X-APPLE-RADIUS=500;X-TITLE=3201 Martin Luther King\, Jr. Drive:geo:-84.4918471,33.7541215
END:VEVENT
END:VCALENDAR