BEGIN:VCALENDAR
VERSION:2.0
PRODID:-//MAX - ECPv6.15.17.1//NONSGML v1.0//EN
CALSCALE:GREGORIAN
METHOD:PUBLISH
X-ORIGINAL-URL:https://metroatlantaexchange.org
X-WR-CALDESC:Events for MAX
REFRESH-INTERVAL;VALUE=DURATION:PT1H
X-Robots-Tag:noindex
X-PUBLISHED-TTL:PT1H
BEGIN:VTIMEZONE
TZID:America/New_York
BEGIN:DAYLIGHT
TZOFFSETFROM:-0500
TZOFFSETTO:-0400
TZNAME:EDT
DTSTART:20240310T070000
END:DAYLIGHT
BEGIN:STANDARD
TZOFFSETFROM:-0400
TZOFFSETTO:-0500
TZNAME:EST
DTSTART:20241103T060000
END:STANDARD
BEGIN:DAYLIGHT
TZOFFSETFROM:-0500
TZOFFSETTO:-0400
TZNAME:EDT
DTSTART:20250309T070000
END:DAYLIGHT
BEGIN:STANDARD
TZOFFSETFROM:-0400
TZOFFSETTO:-0500
TZNAME:EST
DTSTART:20251102T060000
END:STANDARD
BEGIN:DAYLIGHT
TZOFFSETFROM:-0500
TZOFFSETTO:-0400
TZNAME:EDT
DTSTART:20260308T070000
END:DAYLIGHT
BEGIN:STANDARD
TZOFFSETFROM:-0400
TZOFFSETTO:-0500
TZNAME:EST
DTSTART:20261101T060000
END:STANDARD
END:VTIMEZONE
BEGIN:VEVENT
DTSTART;TZID=America/New_York:20251113T160000
DTEND;TZID=America/New_York:20251113T180000
DTSTAMP:20260423T014543
CREATED:20251109T014559Z
LAST-MODIFIED:20251109T014559Z
UID:10035523-1763049600-1763056800@metroatlantaexchange.org
SUMMARY:Community Assistance Center (CAC): Grand Opening Celebration and Ribbon Cutting
DESCRIPTION:The Community Assistance Center (CAC) is hosting its Grand Opening Celebration and Ribbon Cutting event on Thursday\, November 13th\, from 4:00 PM to 6:00 PM\, at the CAC Empowerment Center. \nThe Community Assistance Center invites you to the Grand Opening Celebration and Ribbon Cutting of its new Empowerment Center. The Center is a dynamic community hub providing adult education\, career services and workforce development programs for the Atlanta community. Light refreshments will be served. \nClick here to learn more and register.
URL:https://metroatlantaexchange.org/event/community-assistance-center-cac-grand-opening-celebration-and-ribbon-cutting/
LOCATION:CAC Career Center\, 1130 Hightower Trail\, Sandy Springs\, GA\, 30350\, United States
CATEGORIES:In-Person Event,Workforce Developer
END:VEVENT
END:VCALENDAR