BEGIN:VCALENDAR
VERSION:2.0
PRODID:-//MAX - ECPv6.15.17.1//NONSGML v1.0//EN
CALSCALE:GREGORIAN
METHOD:PUBLISH
X-ORIGINAL-URL:https://metroatlantaexchange.org
X-WR-CALDESC:Events for MAX
REFRESH-INTERVAL;VALUE=DURATION:PT1H
X-Robots-Tag:noindex
X-PUBLISHED-TTL:PT1H
BEGIN:VTIMEZONE
TZID:America/New_York
BEGIN:DAYLIGHT
TZOFFSETFROM:-0500
TZOFFSETTO:-0400
TZNAME:EDT
DTSTART:20250309T070000
END:DAYLIGHT
BEGIN:STANDARD
TZOFFSETFROM:-0400
TZOFFSETTO:-0500
TZNAME:EST
DTSTART:20251102T060000
END:STANDARD
BEGIN:DAYLIGHT
TZOFFSETFROM:-0500
TZOFFSETTO:-0400
TZNAME:EDT
DTSTART:20260308T070000
END:DAYLIGHT
BEGIN:STANDARD
TZOFFSETFROM:-0400
TZOFFSETTO:-0500
TZNAME:EST
DTSTART:20261101T060000
END:STANDARD
BEGIN:DAYLIGHT
TZOFFSETFROM:-0500
TZOFFSETTO:-0400
TZNAME:EDT
DTSTART:20270314T070000
END:DAYLIGHT
BEGIN:STANDARD
TZOFFSETFROM:-0400
TZOFFSETTO:-0500
TZNAME:EST
DTSTART:20271107T060000
END:STANDARD
END:VTIMEZONE
BEGIN:VEVENT
DTSTART;TZID=America/New_York:20260422T103000
DTEND;TZID=America/New_York:20260422T110000
DTSTAMP:20260422T140954
CREATED:20260406T193002Z
LAST-MODIFIED:20260406T193002Z
UID:10036148-1776853800-1776855600@metroatlantaexchange.org
SUMMARY:Clayton County Library System: One-on-One Tech Class
DESCRIPTION:The Clayton County Library System hosts One-on-One Tech classes on Wednesdays\, from 10:30 AM to 11:00 AM\, at the Riverdale Branch. \nWork one-on-one with a librarian to explore your Pines account\, access online databases\, and use Microsoft Word. Bring your device for personalized help. \nClick here to register.
URL:https://metroatlantaexchange.org/event/clayton-county-library-system-one-on-one-tech-class/2026-04-22/
LOCATION:Clayton County Public Library – Riverdale\, 420 Valley Hill Road\, Riverdale\, GA\, 30274\, United States
CATEGORIES:Career Development,In-Person Event,Job Seeker
GEO:33.5701123;-84.4039771
X-APPLE-STRUCTURED-LOCATION;VALUE=URI;X-ADDRESS=Clayton County Public Library – Riverdale 420 Valley Hill Road Riverdale GA 30274 United States;X-APPLE-RADIUS=500;X-TITLE=420 Valley Hill Road:geo:-84.4039771,33.5701123
END:VEVENT
BEGIN:VEVENT
DTSTART;TZID=America/New_York:20260415T103000
DTEND;TZID=America/New_York:20260415T110000
DTSTAMP:20260422T140954
CREATED:20260406T193002Z
LAST-MODIFIED:20260406T193002Z
UID:10036147-1776249000-1776250800@metroatlantaexchange.org
SUMMARY:Clayton County Library System: One-on-One Tech Class
DESCRIPTION:The Clayton County Library System hosts One-on-One Tech classes on Wednesdays\, from 10:30 AM to 11:00 AM\, at the Riverdale Branch. \nWork one-on-one with a librarian to explore your Pines account\, access online databases\, and use Microsoft Word. Bring your device for personalized help. \nClick here to register.
URL:https://metroatlantaexchange.org/event/clayton-county-library-system-one-on-one-tech-class/2026-04-15/
LOCATION:Clayton County Public Library – Riverdale\, 420 Valley Hill Road\, Riverdale\, GA\, 30274\, United States
CATEGORIES:Career Development,In-Person Event,Job Seeker
GEO:33.5701123;-84.4039771
X-APPLE-STRUCTURED-LOCATION;VALUE=URI;X-ADDRESS=Clayton County Public Library – Riverdale 420 Valley Hill Road Riverdale GA 30274 United States;X-APPLE-RADIUS=500;X-TITLE=420 Valley Hill Road:geo:-84.4039771,33.5701123
END:VEVENT
BEGIN:VEVENT
DTSTART;TZID=America/New_York:20260408T103000
DTEND;TZID=America/New_York:20260408T110000
DTSTAMP:20260422T140954
CREATED:20260406T193002Z
LAST-MODIFIED:20260406T193002Z
UID:10036146-1775644200-1775646000@metroatlantaexchange.org
SUMMARY:Clayton County Library System: One-on-One Tech Class
DESCRIPTION:The Clayton County Library System hosts One-on-One Tech classes on Wednesdays\, from 10:30 AM to 11:00 AM\, at the Riverdale Branch. \nWork one-on-one with a librarian to explore your Pines account\, access online databases\, and use Microsoft Word. Bring your device for personalized help. \nClick here to register.
URL:https://metroatlantaexchange.org/event/clayton-county-library-system-one-on-one-tech-class/2026-04-08/
LOCATION:Clayton County Public Library – Riverdale\, 420 Valley Hill Road\, Riverdale\, GA\, 30274\, United States
CATEGORIES:Career Development,In-Person Event,Job Seeker
GEO:33.5701123;-84.4039771
X-APPLE-STRUCTURED-LOCATION;VALUE=URI;X-ADDRESS=Clayton County Public Library – Riverdale 420 Valley Hill Road Riverdale GA 30274 United States;X-APPLE-RADIUS=500;X-TITLE=420 Valley Hill Road:geo:-84.4039771,33.5701123
END:VEVENT
END:VCALENDAR