BEGIN:VCALENDAR
VERSION:2.0
PRODID:-//MAX - ECPv6.15.17.1//NONSGML v1.0//EN
CALSCALE:GREGORIAN
METHOD:PUBLISH
X-WR-CALNAME:MAX
X-ORIGINAL-URL:https://metroatlantaexchange.org
X-WR-CALDESC:Events for MAX
REFRESH-INTERVAL;VALUE=DURATION:PT1H
X-Robots-Tag:noindex
X-PUBLISHED-TTL:PT1H
BEGIN:VTIMEZONE
TZID:America/New_York
BEGIN:DAYLIGHT
TZOFFSETFROM:-0500
TZOFFSETTO:-0400
TZNAME:EDT
DTSTART:20240310T070000
END:DAYLIGHT
BEGIN:STANDARD
TZOFFSETFROM:-0400
TZOFFSETTO:-0500
TZNAME:EST
DTSTART:20241103T060000
END:STANDARD
BEGIN:DAYLIGHT
TZOFFSETFROM:-0500
TZOFFSETTO:-0400
TZNAME:EDT
DTSTART:20250309T070000
END:DAYLIGHT
BEGIN:STANDARD
TZOFFSETFROM:-0400
TZOFFSETTO:-0500
TZNAME:EST
DTSTART:20251102T060000
END:STANDARD
BEGIN:DAYLIGHT
TZOFFSETFROM:-0500
TZOFFSETTO:-0400
TZNAME:EDT
DTSTART:20260308T070000
END:DAYLIGHT
BEGIN:STANDARD
TZOFFSETFROM:-0400
TZOFFSETTO:-0500
TZNAME:EST
DTSTART:20261101T060000
END:STANDARD
BEGIN:DAYLIGHT
TZOFFSETFROM:-0500
TZOFFSETTO:-0400
TZNAME:EDT
DTSTART:20270314T070000
END:DAYLIGHT
BEGIN:STANDARD
TZOFFSETFROM:-0400
TZOFFSETTO:-0500
TZNAME:EST
DTSTART:20271107T060000
END:STANDARD
END:VTIMEZONE
BEGIN:VEVENT
DTSTART;TZID=America/New_York:20260422T100000
DTEND;TZID=America/New_York:20260422T130000
DTSTAMP:20260422T155428
CREATED:20260419T015518Z
LAST-MODIFIED:20260419T015518Z
UID:10036260-1776852000-1776862800@metroatlantaexchange.org
SUMMARY:Devereux Advanced Behavioral Health: Direct Support Professional Interview Day
DESCRIPTION:Devereux Advanced Behavioral Health is hosting a Direct Support Professional Interview Day on Wednesday\, April 22nd\, from 10:00 AM to 1:00 PM\, at Devereux Advanced Behavioral Health. \nAre you looking for a full-time employment opportunity? Do you want to help teens feel safe\, perhaps for the first time in their lives? If so\, you could become a part of a team creating meaningful\, independent and productive lives for those individuals. Direct Support Professionals have a positive impact on the lives of others and will help candidates develop and enhance their skills. Pay rates begin at $20 per hour\, with additional pay with experience. Please bring copies of your resume\, driver’s license and be ready to interview. \nClick here to learn more and register.
URL:https://metroatlantaexchange.org/event/devereux-advanced-behavioral-health-direct-support-professional-interview-day-3/
LOCATION:Devereux Advanced Behavioral Health\, 1291 Stanley Road\, NW\, Kennesaw\, Georgia\, 30152
CATEGORIES:In-Person Event,Job Seeker
END:VEVENT
BEGIN:VEVENT
DTSTART;TZID=America/New_York:20260415T100000
DTEND;TZID=America/New_York:20260415T130000
DTSTAMP:20260422T155428
CREATED:20260406T154721Z
LAST-MODIFIED:20260406T154721Z
UID:10036076-1776247200-1776258000@metroatlantaexchange.org
SUMMARY:Devereux Advanced Behavioral Health: Direct Support Professional Interview Day
DESCRIPTION:Devereux Advanced Behavioral Health is hosting a Direct Support Professional Interview Day on Wednesday\, April 15th\, from 10:00 AM to 1:00 PM\, at Devereux Advanced Behavioral Health. \nAre you looking for a full-time employment opportunity? Do you want to help teens feel safe\, perhaps for the first time in their lives? If so\, you could become a part of a team creating meaningful\, independent and productive lives for those individuals. \nDirect Support Professionals have a positive impact on the lives of others and will help candidates develop and enhance their skills. Pay rates begin at $20 per hour\, with additional pay with experience. Please bring copies of your resume\, driver’s license and be ready to interview. \nClick here to learn more and register.
URL:https://metroatlantaexchange.org/event/devereux-advanced-behavioral-health-direct-support-professional-interview-day/
LOCATION:Devereux Advanced Behavioral Health\, 1291 Stanley Road\, NW\, Kennesaw\, Georgia\, 30152
CATEGORIES:In-Person Event,Job Seeker
END:VEVENT
BEGIN:VEVENT
DTSTART;TZID=America/New_York:20250729T120000
DTEND;TZID=America/New_York:20250729T150000
DTSTAMP:20260422T155428
CREATED:20250720T182446Z
LAST-MODIFIED:20250720T182446Z
UID:10034206-1753790400-1753801200@metroatlantaexchange.org
SUMMARY:Devereux Advanced Behavioral Health: Direct Support Professional Interview Day
DESCRIPTION:Devereux Advanced Behavioral Health is hosting a Direct Support Professional Interview Day on Tuesday\, July 29th\, from 12:00 PM to 3:00 PM\, at Devereux Advanced Behavioral Health. \nAre you looking for a full-time employment opportunity? Do you want to help teens feel safe\, perhaps for the first time in their lives? If so\, you could become a part of a team creating meaningful\, independent and productive lives for those individuals that we serve! If you are searching for meaningful work that has a positive impact in the lives of others and are looking to develop or enhance your Human Services\, Educational\, Behavioral or Psychological skills\, then plan to attend! \nClick here to learn more and register.
URL:https://metroatlantaexchange.org/event/devereux-advanced-behavioral-health-direct-support-professional-interview-day-2/
LOCATION:Devereux Advanced Behavioral Health\, 1291 Stanley Road\, NW\, Kennesaw\, Georgia\, 30152
CATEGORIES:In-Person Event,Job Seeker
END:VEVENT
END:VCALENDAR