BEGIN:VCALENDAR
VERSION:2.0
PRODID:-//MAX - ECPv6.15.17.1//NONSGML v1.0//EN
CALSCALE:GREGORIAN
METHOD:PUBLISH
X-ORIGINAL-URL:https://metroatlantaexchange.org
X-WR-CALDESC:Events for MAX
REFRESH-INTERVAL;VALUE=DURATION:PT1H
X-Robots-Tag:noindex
X-PUBLISHED-TTL:PT1H
BEGIN:VTIMEZONE
TZID:America/New_York
BEGIN:DAYLIGHT
TZOFFSETFROM:-0500
TZOFFSETTO:-0400
TZNAME:EDT
DTSTART:20250309T070000
END:DAYLIGHT
BEGIN:STANDARD
TZOFFSETFROM:-0400
TZOFFSETTO:-0500
TZNAME:EST
DTSTART:20251102T060000
END:STANDARD
BEGIN:DAYLIGHT
TZOFFSETFROM:-0500
TZOFFSETTO:-0400
TZNAME:EDT
DTSTART:20260308T070000
END:DAYLIGHT
BEGIN:STANDARD
TZOFFSETFROM:-0400
TZOFFSETTO:-0500
TZNAME:EST
DTSTART:20261101T060000
END:STANDARD
BEGIN:DAYLIGHT
TZOFFSETFROM:-0500
TZOFFSETTO:-0400
TZNAME:EDT
DTSTART:20270314T070000
END:DAYLIGHT
BEGIN:STANDARD
TZOFFSETFROM:-0400
TZOFFSETTO:-0500
TZNAME:EST
DTSTART:20271107T060000
END:STANDARD
END:VTIMEZONE
BEGIN:VEVENT
DTSTART;TZID=America/New_York:20260422T160000
DTEND;TZID=America/New_York:20260422T190000
DTSTAMP:20260422T135514
CREATED:20260406T183946Z
LAST-MODIFIED:20260406T183946Z
UID:10036110-1776873600-1776884400@metroatlantaexchange.org
SUMMARY:Northside Hospital: All Campus Women's Services Hiring Event
DESCRIPTION:Northside Hospital is hosting an All-Campus Women’s Services Hiring Event on Wednesday\, April 22nd\, from 4:00 PM to 7:00 PM\, at El Azteca Perimeter. \nThis event is designed for RNs with a background in Labor & Delivery (L&D)\, NICU\, Mother Baby\, Lactation and High-Risk Perinatal (HRP) who are interested in advancing their careers within a nationally recognized healthcare system. Join Northside for an evening of networking with nursing leaders and recruiters from across all campuses\, learning more about current opportunities\, and participating in on-site interviews. On-the-spot interviews will be offered for qualified candidates. \nClick here to learn more and register.
URL:https://metroatlantaexchange.org/event/northside-hospital-all-campus-womens-services-hiring-event/
LOCATION:El Azteca Perimeter\, 6115 Peachtree Dunwoody Road\, Sandy Springs\, GA\, 30328\, United States
CATEGORIES:In-Person Event,Job Seeker
END:VEVENT
END:VCALENDAR