BEGIN:VCALENDAR
VERSION:2.0
PRODID:-//MAX - ECPv6.15.17.1//NONSGML v1.0//EN
CALSCALE:GREGORIAN
METHOD:PUBLISH
X-WR-CALNAME:MAX
X-ORIGINAL-URL:https://metroatlantaexchange.org
X-WR-CALDESC:Events for MAX
REFRESH-INTERVAL;VALUE=DURATION:PT1H
X-Robots-Tag:noindex
X-PUBLISHED-TTL:PT1H
BEGIN:VTIMEZONE
TZID:America/New_York
BEGIN:DAYLIGHT
TZOFFSETFROM:-0500
TZOFFSETTO:-0400
TZNAME:EDT
DTSTART:20240310T070000
END:DAYLIGHT
BEGIN:STANDARD
TZOFFSETFROM:-0400
TZOFFSETTO:-0500
TZNAME:EST
DTSTART:20241103T060000
END:STANDARD
BEGIN:DAYLIGHT
TZOFFSETFROM:-0500
TZOFFSETTO:-0400
TZNAME:EDT
DTSTART:20250309T070000
END:DAYLIGHT
BEGIN:STANDARD
TZOFFSETFROM:-0400
TZOFFSETTO:-0500
TZNAME:EST
DTSTART:20251102T060000
END:STANDARD
BEGIN:DAYLIGHT
TZOFFSETFROM:-0500
TZOFFSETTO:-0400
TZNAME:EDT
DTSTART:20260308T070000
END:DAYLIGHT
BEGIN:STANDARD
TZOFFSETFROM:-0400
TZOFFSETTO:-0500
TZNAME:EST
DTSTART:20261101T060000
END:STANDARD
END:VTIMEZONE
BEGIN:VEVENT
DTSTART;TZID=America/New_York:20250908T110000
DTEND;TZID=America/New_York:20250908T130000
DTSTAMP:20260422T191857
CREATED:20250823T235428Z
LAST-MODIFIED:20250823T235428Z
UID:10035041-1757329200-1757336400@metroatlantaexchange.org
SUMMARY:Georgia College and State University: Fall 2025 Nursing Recruitment Fair
DESCRIPTION:Georgia College and State University is hosting its Fall 2025 Nursing Recruitment Fair on Monday\, September 8th\, from 11:00 AM to 1:00 PM\, at the Magnolia Ballroom. \nTheFall 2025 Nursing Recruitment Fair is a great opportunity for students and alumni to connect with employers and learn more about available full-time\, part-time\, externship\, and volunteer opportunities in the healthcare industry. You never have a second chance to make a first impression\, so business attire is recommended for this event\, particularly for alumni and those graduating and seeking full-time jobs. You may also wear attire appropriate for your profession if you are in clinical rotations or reporting to work in the healthcare profession that day. Resumes are highly encouraged so that you can leave information about yourself with recruiters. We recommend that you bring at least 10 copies of your resume. \nClick here to learn more and register.
URL:https://metroatlantaexchange.org/event/georgia-college-and-state-university-fall-2025-nursing-recruitment-fair/
LOCATION:Georgia College and State University – Magnolia Ballroom\, 231 West Hancock Street\, Milledgeville\, GA\, 31061\, United States
CATEGORIES:In-Person Event,Job Seeker
END:VEVENT
END:VCALENDAR