BEGIN:VCALENDAR
VERSION:2.0
PRODID:-//MAX - ECPv6.15.17.1//NONSGML v1.0//EN
CALSCALE:GREGORIAN
METHOD:PUBLISH
X-WR-CALNAME:MAX
X-ORIGINAL-URL:https://metroatlantaexchange.org
X-WR-CALDESC:Events for MAX
REFRESH-INTERVAL;VALUE=DURATION:PT1H
X-Robots-Tag:noindex
X-PUBLISHED-TTL:PT1H
BEGIN:VTIMEZONE
TZID:America/New_York
BEGIN:DAYLIGHT
TZOFFSETFROM:-0500
TZOFFSETTO:-0400
TZNAME:EDT
DTSTART:20250309T070000
END:DAYLIGHT
BEGIN:STANDARD
TZOFFSETFROM:-0400
TZOFFSETTO:-0500
TZNAME:EST
DTSTART:20251102T060000
END:STANDARD
BEGIN:DAYLIGHT
TZOFFSETFROM:-0500
TZOFFSETTO:-0400
TZNAME:EDT
DTSTART:20260308T070000
END:DAYLIGHT
BEGIN:STANDARD
TZOFFSETFROM:-0400
TZOFFSETTO:-0500
TZNAME:EST
DTSTART:20261101T060000
END:STANDARD
BEGIN:DAYLIGHT
TZOFFSETFROM:-0500
TZOFFSETTO:-0400
TZNAME:EDT
DTSTART:20270314T070000
END:DAYLIGHT
BEGIN:STANDARD
TZOFFSETFROM:-0400
TZOFFSETTO:-0500
TZNAME:EST
DTSTART:20271107T060000
END:STANDARD
END:VTIMEZONE
BEGIN:VEVENT
DTSTART;TZID=America/New_York:20260205T083000
DTEND;TZID=America/New_York:20260205T173000
DTSTAMP:20260422T135927
CREATED:20260202T232325Z
LAST-MODIFIED:20260202T232325Z
UID:10035900-1770280200-1770312600@metroatlantaexchange.org
SUMMARY:Goodyear Commercial Tire and Service Center: In-Person Job Fair
DESCRIPTION:Goodyear Commercial Tire and Service Center is hosting an In-Person Job Fair on Wednesday\, February 4th and Thursday\, February 5th\, from 8:30 AM to 4:30 PM each day\, at Goodyear Commercial Tire and Service Center. \nGoodyear Commercial Tire and Service Center is interviewing for all opportunities throughout Georgia\, to include Roadside Technician and Assistant Manager \nClick each position link above to learn more and register.
URL:https://metroatlantaexchange.org/event/goodyear-commercial-tire-and-service-center-in-person-job-fair/2026-02-05/
LOCATION:Goodyear Commercial Tire and Service Center\, 3455 Moreland Avenue\, Conley\, GA\, 30288\, United States
CATEGORIES:In-Person Event,Job Seeker
END:VEVENT
BEGIN:VEVENT
DTSTART;TZID=America/New_York:20260204T083000
DTEND;TZID=America/New_York:20260204T163000
DTSTAMP:20260422T135927
CREATED:20260202T232325Z
LAST-MODIFIED:20260202T232325Z
UID:10035899-1770193800-1770222600@metroatlantaexchange.org
SUMMARY:Goodyear Commercial Tire and Service Center: In-Person Job Fair
DESCRIPTION:Goodyear Commercial Tire and Service Center is hosting an In-Person Job Fair on Wednesday\, February 4th and Thursday\, February 5th\, from 8:30 AM to 4:30 PM each day\, at Goodyear Commercial Tire and Service Center. \nGoodyear Commercial Tire and Service Center is interviewing for all opportunities throughout Georgia\, to include Roadside Technician and Assistant Manager \nClick each position link above to learn more and register.
URL:https://metroatlantaexchange.org/event/goodyear-commercial-tire-and-service-center-in-person-job-fair/2026-02-04/
LOCATION:Goodyear Commercial Tire and Service Center\, 3455 Moreland Avenue\, Conley\, GA\, 30288\, United States
CATEGORIES:In-Person Event,Job Seeker
END:VEVENT
END:VCALENDAR