BEGIN:VCALENDAR
VERSION:2.0
PRODID:-//MAX - ECPv6.15.17.1//NONSGML v1.0//EN
CALSCALE:GREGORIAN
METHOD:PUBLISH
X-WR-CALNAME:MAX
X-ORIGINAL-URL:https://metroatlantaexchange.org
X-WR-CALDESC:Events for MAX
REFRESH-INTERVAL;VALUE=DURATION:PT1H
X-Robots-Tag:noindex
X-PUBLISHED-TTL:PT1H
BEGIN:VTIMEZONE
TZID:America/New_York
BEGIN:DAYLIGHT
TZOFFSETFROM:-0500
TZOFFSETTO:-0400
TZNAME:EDT
DTSTART:20240310T070000
END:DAYLIGHT
BEGIN:STANDARD
TZOFFSETFROM:-0400
TZOFFSETTO:-0500
TZNAME:EST
DTSTART:20241103T060000
END:STANDARD
BEGIN:DAYLIGHT
TZOFFSETFROM:-0500
TZOFFSETTO:-0400
TZNAME:EDT
DTSTART:20250309T070000
END:DAYLIGHT
BEGIN:STANDARD
TZOFFSETFROM:-0400
TZOFFSETTO:-0500
TZNAME:EST
DTSTART:20251102T060000
END:STANDARD
BEGIN:DAYLIGHT
TZOFFSETFROM:-0500
TZOFFSETTO:-0400
TZNAME:EDT
DTSTART:20260308T070000
END:DAYLIGHT
BEGIN:STANDARD
TZOFFSETFROM:-0400
TZOFFSETTO:-0500
TZNAME:EST
DTSTART:20261101T060000
END:STANDARD
END:VTIMEZONE
BEGIN:VEVENT
DTSTART;TZID=America/New_York:20251115T080000
DTEND;TZID=America/New_York:20251115T150000
DTSTAMP:20260422T232251
CREATED:20251108T195858Z
LAST-MODIFIED:20251108T195858Z
UID:10035427-1763193600-1763218800@metroatlantaexchange.org
SUMMARY:Gwinnett County Police Department: Local Hiring Event
DESCRIPTION:The Gwinnett County Police Department is hosting a Local Hiring Event on Friday\, November 14th\, from 3:00 PM to 8:00 PM\, and Saturday\, November 15th\, from 8:00 AM to 3:00 PM\, at the Gwinnett County Police Training Center. \nThis is a special opportunity to complete the entire first phase of the two-phase hiring process. Conditional job offers may be given during this event. Those attending will complete some or all of the following: a physical ability test\, an orientation\, a more detailed application\, and an oral interview. The entire process typically takes two to three hours\, although it may take longer. It is suggested you bring water and a snack. Once your Indeed application has been received\, a recruiter will email you the information to get you set up with the event application. Once you complete the event application your assigned investigator will call to set up an appointment time for the event. \nClick here to learn more and register.
URL:https://metroatlantaexchange.org/event/gwinnett-county-police-department-local-hiring-event/2025-11-15/
LOCATION:Gwinnett County Police Training Center\, 854 Winder Highway\, Lawrenceville\, Georgia\, 30345
CATEGORIES:In-Person Event,Job Seeker
END:VEVENT
BEGIN:VEVENT
DTSTART;TZID=America/New_York:20251114T150000
DTEND;TZID=America/New_York:20251114T200000
DTSTAMP:20260422T232251
CREATED:20251108T195858Z
LAST-MODIFIED:20251108T195858Z
UID:10035426-1763132400-1763150400@metroatlantaexchange.org
SUMMARY:Gwinnett County Police Department: Local Hiring Event
DESCRIPTION:The Gwinnett County Police Department is hosting a Local Hiring Event on Friday\, November 14th\, from 3:00 PM to 8:00 PM\, and Saturday\, November 15th\, from 8:00 AM to 3:00 PM\, at the Gwinnett County Police Training Center. \nThis is a special opportunity to complete the entire first phase of the two-phase hiring process. Conditional job offers may be given during this event. Those attending will complete some or all of the following: a physical ability test\, an orientation\, a more detailed application\, and an oral interview. The entire process typically takes two to three hours\, although it may take longer. It is suggested you bring water and a snack. Once your Indeed application has been received\, a recruiter will email you the information to get you set up with the event application. Once you complete the event application your assigned investigator will call to set up an appointment time for the event. \nClick here to learn more and register.
URL:https://metroatlantaexchange.org/event/gwinnett-county-police-department-local-hiring-event/2025-11-14/
LOCATION:Gwinnett County Police Training Center\, 854 Winder Highway\, Lawrenceville\, Georgia\, 30345
CATEGORIES:In-Person Event,Job Seeker
END:VEVENT
BEGIN:VEVENT
DTSTART;TZID=America/New_York:20250913T080000
DTEND;TZID=America/New_York:20250913T150000
DTSTAMP:20260422T232251
CREATED:20250802T170636Z
LAST-MODIFIED:20250802T170636Z
UID:10034762-1757750400-1757775600@metroatlantaexchange.org
SUMMARY:Gwinnett County Police Department: Hiring Event
DESCRIPTION:The Gwinnett County Police Department is hosting a Hiring Event on Friday\, September 12th and Saturday\, September 13th\, from 8:00 AM to 3:00 PM\, at the Gwinnett County Police Training Center. \nThe Gwinnett County Police Department will provide opportunities for interested candidates looking to start a career in Law Enforcement. This is a special opportunity to complete the entire first phase of the two-phase hiring process. Conditional job offers may be given during this event. Once your Indeed application has been received\, a recruiter will email you the information to get you set up with the event application. \nClick here to learn more and register.
URL:https://metroatlantaexchange.org/event/gwinnett-county-police-department-hiring-event/2025-09-13/
LOCATION:Gwinnett County Police Training Center\, 854 Winder Highway\, Lawrenceville\, Georgia\, 30345
CATEGORIES:In-Person Event,Job Seeker
END:VEVENT
BEGIN:VEVENT
DTSTART;TZID=America/New_York:20250912T080000
DTEND;TZID=America/New_York:20250912T150000
DTSTAMP:20260422T232251
CREATED:20250802T170636Z
LAST-MODIFIED:20250802T170636Z
UID:10034761-1757664000-1757689200@metroatlantaexchange.org
SUMMARY:Gwinnett County Police Department: Hiring Event
DESCRIPTION:The Gwinnett County Police Department is hosting a Hiring Event on Friday\, September 12th and Saturday\, September 13th\, from 8:00 AM to 3:00 PM\, at the Gwinnett County Police Training Center. \nThe Gwinnett County Police Department will provide opportunities for interested candidates looking to start a career in Law Enforcement. This is a special opportunity to complete the entire first phase of the two-phase hiring process. Conditional job offers may be given during this event. Once your Indeed application has been received\, a recruiter will email you the information to get you set up with the event application. \nClick here to learn more and register.
URL:https://metroatlantaexchange.org/event/gwinnett-county-police-department-hiring-event/2025-09-12/
LOCATION:Gwinnett County Police Training Center\, 854 Winder Highway\, Lawrenceville\, Georgia\, 30345
CATEGORIES:In-Person Event,Job Seeker
END:VEVENT
BEGIN:VEVENT
DTSTART;TZID=America/New_York:20250712T080000
DTEND;TZID=America/New_York:20250712T150000
DTSTAMP:20260422T232251
CREATED:20250524T175302Z
LAST-MODIFIED:20250524T175302Z
UID:10033880-1752307200-1752332400@metroatlantaexchange.org
SUMMARY:Gwinnett County Police Department: Police Officer Hiring Event
DESCRIPTION:The Gwinnett County Police Department is hosting a Police Officer Hiring Event on Saturday\, July 12th\, from 8:00 AM to 3:00 PM\, at the Gwinnett County Police Training Center. \nThis is a special opportunity to complete the entire first phase of the two-phase hiring process. Conditional job offers may be given during this event. Those attending will complete some or all of the following: a physical ability test\, an orientation\, a more detailed application\, and an oral interview. The entire process typically takes two to three hours\, although it may take longer. It is suggested you bring water and a snack. Once your Indeed application has been received\, a recruiter will email you the information to get you set up with the event application. A $5\,300 hiring bonus will be available for qualified new hires. \nClick here to learn more and register.
URL:https://metroatlantaexchange.org/event/gwinnett-county-police-department-police-officer-hiring-event-3/
LOCATION:Gwinnett County Police Training Center\, 854 Winder Highway\, Lawrenceville\, Georgia\, 30345
CATEGORIES:In-Person Event,Job Seeker
END:VEVENT
END:VCALENDAR