BEGIN:VCALENDAR
VERSION:2.0
PRODID:-//MAX - ECPv6.15.17.1//NONSGML v1.0//EN
CALSCALE:GREGORIAN
METHOD:PUBLISH
X-ORIGINAL-URL:https://metroatlantaexchange.org
X-WR-CALDESC:Events for MAX
REFRESH-INTERVAL;VALUE=DURATION:PT1H
X-Robots-Tag:noindex
X-PUBLISHED-TTL:PT1H
BEGIN:VTIMEZONE
TZID:America/New_York
BEGIN:DAYLIGHT
TZOFFSETFROM:-0500
TZOFFSETTO:-0400
TZNAME:EDT
DTSTART:20250309T070000
END:DAYLIGHT
BEGIN:STANDARD
TZOFFSETFROM:-0400
TZOFFSETTO:-0500
TZNAME:EST
DTSTART:20251102T060000
END:STANDARD
BEGIN:DAYLIGHT
TZOFFSETFROM:-0500
TZOFFSETTO:-0400
TZNAME:EDT
DTSTART:20260308T070000
END:DAYLIGHT
BEGIN:STANDARD
TZOFFSETFROM:-0400
TZOFFSETTO:-0500
TZNAME:EST
DTSTART:20261101T060000
END:STANDARD
BEGIN:DAYLIGHT
TZOFFSETFROM:-0500
TZOFFSETTO:-0400
TZNAME:EDT
DTSTART:20270314T070000
END:DAYLIGHT
BEGIN:STANDARD
TZOFFSETFROM:-0400
TZOFFSETTO:-0500
TZNAME:EST
DTSTART:20271107T060000
END:STANDARD
END:VTIMEZONE
BEGIN:VEVENT
DTSTART;TZID=America/New_York:20260408T140000
DTEND;TZID=America/New_York:20260408T160000
DTSTAMP:20260422T161100
CREATED:20260406T193800Z
LAST-MODIFIED:20260406T193800Z
UID:10036162-1775656800-1775664000@metroatlantaexchange.org
SUMMARY:Gwinnett County Public Library System: Professional Podcast Equipment Training Learning Lab
DESCRIPTION:The Gwinnett County Public Library System is hosting a Professional Podcast Equipment Training Learning Lab on Wednesday\, April 8th\, from 2:00 PM to 4:00 PM\, at the Lilburn Branch. \nWant to get into the podcasting business? Get started by learning how to use the video and audio equipment at the Lilburn Recording Studio! In this program\, the basics will be covered on how to use the equipment in the Lilburn Recording Studio to start your journey as a professional podcaster! You will learn the Rodecaster\, microphones\, camera\, lighting\, and the OBS software. \nClick here to learn more and register.
URL:https://metroatlantaexchange.org/event/gwinnett-county-public-library-system-professional-podcast-equipment-training-learning-lab/
LOCATION:Gwinnett County Public Library – Lilburn Branch\, 4817 Church Street\, NW\, Lilburn\, 30047
CATEGORIES:Career Development,In-Person Event,Job Seeker
END:VEVENT
END:VCALENDAR