BEGIN:VCALENDAR
VERSION:2.0
PRODID:-//MAX - ECPv6.15.17.1//NONSGML v1.0//EN
CALSCALE:GREGORIAN
METHOD:PUBLISH
X-WR-CALNAME:MAX
X-ORIGINAL-URL:https://metroatlantaexchange.org
X-WR-CALDESC:Events for MAX
REFRESH-INTERVAL;VALUE=DURATION:PT1H
X-Robots-Tag:noindex
X-PUBLISHED-TTL:PT1H
BEGIN:VTIMEZONE
TZID:America/New_York
BEGIN:DAYLIGHT
TZOFFSETFROM:-0500
TZOFFSETTO:-0400
TZNAME:EDT
DTSTART:20250309T070000
END:DAYLIGHT
BEGIN:STANDARD
TZOFFSETFROM:-0400
TZOFFSETTO:-0500
TZNAME:EST
DTSTART:20251102T060000
END:STANDARD
BEGIN:DAYLIGHT
TZOFFSETFROM:-0500
TZOFFSETTO:-0400
TZNAME:EDT
DTSTART:20260308T070000
END:DAYLIGHT
BEGIN:STANDARD
TZOFFSETFROM:-0400
TZOFFSETTO:-0500
TZNAME:EST
DTSTART:20261101T060000
END:STANDARD
BEGIN:DAYLIGHT
TZOFFSETFROM:-0500
TZOFFSETTO:-0400
TZNAME:EDT
DTSTART:20270314T070000
END:DAYLIGHT
BEGIN:STANDARD
TZOFFSETFROM:-0400
TZOFFSETTO:-0500
TZNAME:EST
DTSTART:20271107T060000
END:STANDARD
END:VTIMEZONE
BEGIN:VEVENT
DTSTART;TZID=America/New_York:20260422T090000
DTEND;TZID=America/New_York:20260422T153000
DTSTAMP:20260421T073449
CREATED:20260419T014143Z
LAST-MODIFIED:20260419T014143Z
UID:10036255-1776848400-1776871800@metroatlantaexchange.org
SUMMARY:Marksman Security Corporation: Hiring Event
DESCRIPTION:The Marksman Security Corporation is hosting a Hiring Event on Tuesday\, April 21st and Wednesday\, April 22nd\, from 9:00 AM to 3:30 PM\, at Marksman Security. \nAre you ready to make a difference in people’s lives? Marksman Security is looking for qualified candidates to join an existing team of dedicated and compassionate security officers. At Marksman\, safety and security are at the heart of everything they do. You’ll play a critical role in protecting the team\, facilities\, and operations – while building a career. \nClick here to learn more and register.
URL:https://metroatlantaexchange.org/event/marksman-security-corporation-hiring-event/
LOCATION:Marksman Security\, 101 Marietta Street\, Atlanta\, GA\, 30303\, United States
CATEGORIES:In-Person Event,Job Seeker
END:VEVENT
END:VCALENDAR