BEGIN:VCALENDAR
VERSION:2.0
PRODID:-//MAX - ECPv6.15.17.1//NONSGML v1.0//EN
CALSCALE:GREGORIAN
METHOD:PUBLISH
X-WR-CALNAME:MAX
X-ORIGINAL-URL:https://metroatlantaexchange.org
X-WR-CALDESC:Events for MAX
REFRESH-INTERVAL;VALUE=DURATION:PT1H
X-Robots-Tag:noindex
X-PUBLISHED-TTL:PT1H
BEGIN:VTIMEZONE
TZID:America/New_York
BEGIN:DAYLIGHT
TZOFFSETFROM:-0500
TZOFFSETTO:-0400
TZNAME:EDT
DTSTART:20240310T070000
END:DAYLIGHT
BEGIN:STANDARD
TZOFFSETFROM:-0400
TZOFFSETTO:-0500
TZNAME:EST
DTSTART:20241103T060000
END:STANDARD
BEGIN:DAYLIGHT
TZOFFSETFROM:-0500
TZOFFSETTO:-0400
TZNAME:EDT
DTSTART:20250309T070000
END:DAYLIGHT
BEGIN:STANDARD
TZOFFSETFROM:-0400
TZOFFSETTO:-0500
TZNAME:EST
DTSTART:20251102T060000
END:STANDARD
BEGIN:DAYLIGHT
TZOFFSETFROM:-0500
TZOFFSETTO:-0400
TZNAME:EDT
DTSTART:20260308T070000
END:DAYLIGHT
BEGIN:STANDARD
TZOFFSETFROM:-0400
TZOFFSETTO:-0500
TZNAME:EST
DTSTART:20261101T060000
END:STANDARD
BEGIN:DAYLIGHT
TZOFFSETFROM:-0500
TZOFFSETTO:-0400
TZNAME:EDT
DTSTART:20270314T070000
END:DAYLIGHT
BEGIN:STANDARD
TZOFFSETFROM:-0400
TZOFFSETTO:-0500
TZNAME:EST
DTSTART:20271107T060000
END:STANDARD
END:VTIMEZONE
BEGIN:VEVENT
DTSTART;TZID=America/New_York:20260114T063000
DTEND;TZID=America/New_York:20260114T110000
DTSTAMP:20260422T140956
CREATED:20251109T020423Z
LAST-MODIFIED:20251109T020423Z
UID:10035531-1768372200-1768388400@metroatlantaexchange.org
SUMMARY:Georgia Chamber of Commerce: Eggs and Issues 2026
DESCRIPTION:The Georgia Chamber of Commerce is hosting Eggs and Issues 2026 on Wednesday\, January 14th\, from 6:30 AM to 11:00 AM\, at the Mercedes-Benz Stadium. \nEvery January\, Georgians from every corner of the state make their way to Atlanta for the Georgia Chamber Eggs & Issues Breakfast. This event serves as the kickoff to the Georgia General Assembly Regular Session. The annual Eggs & Issues Breakfast convenes over 2\,500 Georgians\, including many of the state’s top elected officials and business leaders\, to set the economic agenda for the legislative year. \nClick here to learn more and register.
URL:https://metroatlantaexchange.org/event/georgia-chamber-of-commerce-eggs-and-issues-2026/
LOCATION:Mercedes-Benz Stadium\, 1 Amb Drive\, NW\, Atlanta\, GA\, 30313\, United States
CATEGORIES:In-Person Event,Workforce Developer
GEO:33.7558058;-84.3986572
X-APPLE-STRUCTURED-LOCATION;VALUE=URI;X-ADDRESS=Mercedes-Benz Stadium 1 Amb Drive NW Atlanta GA 30313 United States;X-APPLE-RADIUS=500;X-TITLE=1 Amb Drive\, NW:geo:-84.3986572,33.7558058
END:VEVENT
BEGIN:VEVENT
DTSTART;TZID=America/New_York:20251229T100000
DTEND;TZID=America/New_York:20251229T140000
DTSTAMP:20260422T140956
CREATED:20251108T221009Z
LAST-MODIFIED:20251108T221009Z
UID:10035465-1767002400-1767016800@metroatlantaexchange.org
SUMMARY:Atlanta Falcons: 2025 AMB Sports and Entertainment Career Expo
DESCRIPTION:The Atlanta Falcons are hosting the 2025 AMB Sports and Entertainment Career Expo on Monday\, December 29th\, from 10:00 AM to 2:00 PM\, at the Mercedes-Benz Stadium. \nDon’t miss this unique opportunity to meet and network with executives from organizations in the sports industry. This is your chance to learn about entry-level positions and internships that are currently available! All attendees will receive a ticket to the game on Monday\, December 29th for the Atlanta Falcons versus the Los Angeles Rams. \nClick here to learn more and register.
URL:https://metroatlantaexchange.org/event/atlanta-falcons-2025-amb-sports-and-entertainment-career-expo/
LOCATION:Mercedes-Benz Stadium\, 1 Amb Drive\, NW\, Atlanta\, GA\, 30313\, United States
CATEGORIES:In-Person Event,Job Seeker
GEO:33.7558058;-84.3986572
X-APPLE-STRUCTURED-LOCATION;VALUE=URI;X-ADDRESS=Mercedes-Benz Stadium 1 Amb Drive NW Atlanta GA 30313 United States;X-APPLE-RADIUS=500;X-TITLE=1 Amb Drive\, NW:geo:-84.3986572,33.7558058
END:VEVENT
BEGIN:VEVENT
DTSTART;TZID=America/New_York:20250716T130000
DTEND;TZID=America/New_York:20250716T160000
DTSTAMP:20260422T140956
CREATED:20250705T210854Z
LAST-MODIFIED:20250705T210854Z
UID:10034050-1752670800-1752681600@metroatlantaexchange.org
SUMMARY:TeamWork Online: 18th Annual AMB Sports and Entertainment Career Expo
DESCRIPTION:TeamWork Online is hosting the 18th Annual AMB Sports and Entertainment Career Expo on Wednesday\, July 16th\, from 1:00 PM to 4:00 PM\, at the Mercedes-Benz Stadium. \nDon’t miss this unique opportunity to meet and network with executives from organizations in the sports industry. This is your chance to learn about entry-level and part-time positions and internships that are currently available! All attendees will receive a ticket to the game on Wednesday\, July 16th for the Atlanta United FC match vs. the Chicago Fire at 7:30 PM. Don’t forget to bring copies of your resume. \nClick here to learn more and register.
URL:https://metroatlantaexchange.org/event/teamwork-online-18th-annual-amb-sports-and-entertainment-career-expo/
LOCATION:Mercedes-Benz Stadium\, 1 Amb Drive\, NW\, Atlanta\, GA\, 30313\, United States
CATEGORIES:Career Development,In-Person Event,Job Seeker
GEO:33.7558058;-84.3986572
X-APPLE-STRUCTURED-LOCATION;VALUE=URI;X-ADDRESS=Mercedes-Benz Stadium 1 Amb Drive NW Atlanta GA 30313 United States;X-APPLE-RADIUS=500;X-TITLE=1 Amb Drive\, NW:geo:-84.3986572,33.7558058
END:VEVENT
END:VCALENDAR