BEGIN:VCALENDAR
VERSION:2.0
PRODID:-//MAX - ECPv6.15.17.1//NONSGML v1.0//EN
CALSCALE:GREGORIAN
METHOD:PUBLISH
X-ORIGINAL-URL:https://metroatlantaexchange.org
X-WR-CALDESC:Events for MAX
REFRESH-INTERVAL;VALUE=DURATION:PT1H
X-Robots-Tag:noindex
X-PUBLISHED-TTL:PT1H
BEGIN:VTIMEZONE
TZID:America/New_York
BEGIN:DAYLIGHT
TZOFFSETFROM:-0500
TZOFFSETTO:-0400
TZNAME:EDT
DTSTART:20240310T070000
END:DAYLIGHT
BEGIN:STANDARD
TZOFFSETFROM:-0400
TZOFFSETTO:-0500
TZNAME:EST
DTSTART:20241103T060000
END:STANDARD
BEGIN:DAYLIGHT
TZOFFSETFROM:-0500
TZOFFSETTO:-0400
TZNAME:EDT
DTSTART:20250309T070000
END:DAYLIGHT
BEGIN:STANDARD
TZOFFSETFROM:-0400
TZOFFSETTO:-0500
TZNAME:EST
DTSTART:20251102T060000
END:STANDARD
BEGIN:DAYLIGHT
TZOFFSETFROM:-0500
TZOFFSETTO:-0400
TZNAME:EDT
DTSTART:20260308T070000
END:DAYLIGHT
BEGIN:STANDARD
TZOFFSETFROM:-0400
TZOFFSETTO:-0500
TZNAME:EST
DTSTART:20261101T060000
END:STANDARD
END:VTIMEZONE
BEGIN:VEVENT
DTSTART;TZID=America/New_York:20250605T183000
DTEND;TZID=America/New_York:20250605T210000
DTSTAMP:20260422T123126
CREATED:20250524T181806Z
LAST-MODIFIED:20250524T181806Z
UID:10033894-1749148200-1749157200@metroatlantaexchange.org
SUMMARY:Miami Ad School: Creative Career Night - Atlanta Campus
DESCRIPTION:Miami Ad School is hosting a Creative Career Night – Atlanta Campus on Thursday\, June 5th\, from 6:30 PM to 9:00 PM\, at Miami Ad School Atlanta. \nJoin us for an inspiring panel event featuring industry experts who’ve turned their creative passions into successful careers. Answers to YOUR most burning questions about life in a creative industry will be answered. Hear from working professionals in the fields of marketing\, advertising\, design\, and strategy\, as they discuss how to build a career\, develop your skills\, market yourself\, and find fulfillment and freedom in the creative world. \nClick here to learn more and register.
URL:https://metroatlantaexchange.org/event/miami-ad-school-creative-career-night-atlanta-campus/
LOCATION:Miami Ad School\, 1315 Peachtree Street\, NE\, Atlanta\, GA\, 30309\, United States
CATEGORIES:Career Development,In-Person Event,Job Seeker
END:VEVENT
END:VCALENDAR