BEGIN:VCALENDAR
VERSION:2.0
PRODID:-//MAX - ECPv6.15.17.1//NONSGML v1.0//EN
CALSCALE:GREGORIAN
METHOD:PUBLISH
X-WR-CALNAME:MAX
X-ORIGINAL-URL:https://metroatlantaexchange.org
X-WR-CALDESC:Events for MAX
REFRESH-INTERVAL;VALUE=DURATION:PT1H
X-Robots-Tag:noindex
X-PUBLISHED-TTL:PT1H
BEGIN:VTIMEZONE
TZID:America/New_York
BEGIN:DAYLIGHT
TZOFFSETFROM:-0500
TZOFFSETTO:-0400
TZNAME:EDT
DTSTART:20250309T070000
END:DAYLIGHT
BEGIN:STANDARD
TZOFFSETFROM:-0400
TZOFFSETTO:-0500
TZNAME:EST
DTSTART:20251102T060000
END:STANDARD
BEGIN:DAYLIGHT
TZOFFSETFROM:-0500
TZOFFSETTO:-0400
TZNAME:EDT
DTSTART:20260308T070000
END:DAYLIGHT
BEGIN:STANDARD
TZOFFSETFROM:-0400
TZOFFSETTO:-0500
TZNAME:EST
DTSTART:20261101T060000
END:STANDARD
BEGIN:DAYLIGHT
TZOFFSETFROM:-0500
TZOFFSETTO:-0400
TZNAME:EDT
DTSTART:20270314T070000
END:DAYLIGHT
BEGIN:STANDARD
TZOFFSETFROM:-0400
TZOFFSETTO:-0500
TZNAME:EST
DTSTART:20271107T060000
END:STANDARD
END:VTIMEZONE
BEGIN:VEVENT
DTSTART;TZID=America/New_York:20260219T110000
DTEND;TZID=America/New_York:20260219T160000
DTSTAMP:20260422T172146
CREATED:20260208T204419Z
LAST-MODIFIED:20260208T204419Z
UID:10035949-1771498800-1771516800@metroatlantaexchange.org
SUMMARY:Northeast Georgia Health System: NGMC Gainesville Campus Expo
DESCRIPTION:The Northeast Georgia Health System is hosting an NGMC Gainesville Campus Expo on Thursday\, February 19th\, from 11:00 AM to 4:00 PM\, at NGMC Walters Auditorium. \nLooking for a meaningful opportunity for your next full-time\, part-time\, or PRN role? Join Northeast Georgia Health System (NGHS)– proudly recognized by U.S. News & World Report as the state’s best community hospital and ranked among the top three hospitals in Georgia. Open roles include Registered Nurse\, Radiology Technician\, MRI/CT Technician\, Registered Respiratory Therapist\, Paramedic and Surgical Technician. Hiring managers will be on-site\, so come prepared to interview. Sign-on bonuses are available for full and part-time roles. \nClick here to learn more and register.
URL:https://metroatlantaexchange.org/event/northeast-georgia-health-system-ngmc-gainesville-campus-expo/
LOCATION:NGMC Walters Auditorium\, 743 Spring Street\, NE\, Gainesville\, GA\, 30501\, United States
CATEGORIES:In-Person Event,Job Seeker
END:VEVENT
END:VCALENDAR