BEGIN:VCALENDAR
VERSION:2.0
PRODID:-//MAX - ECPv6.15.17.1//NONSGML v1.0//EN
CALSCALE:GREGORIAN
METHOD:PUBLISH
X-ORIGINAL-URL:https://metroatlantaexchange.org
X-WR-CALDESC:Events for MAX
REFRESH-INTERVAL;VALUE=DURATION:PT1H
X-Robots-Tag:noindex
X-PUBLISHED-TTL:PT1H
BEGIN:VTIMEZONE
TZID:America/New_York
BEGIN:DAYLIGHT
TZOFFSETFROM:-0500
TZOFFSETTO:-0400
TZNAME:EDT
DTSTART:20240310T070000
END:DAYLIGHT
BEGIN:STANDARD
TZOFFSETFROM:-0400
TZOFFSETTO:-0500
TZNAME:EST
DTSTART:20241103T060000
END:STANDARD
BEGIN:DAYLIGHT
TZOFFSETFROM:-0500
TZOFFSETTO:-0400
TZNAME:EDT
DTSTART:20250309T070000
END:DAYLIGHT
BEGIN:STANDARD
TZOFFSETFROM:-0400
TZOFFSETTO:-0500
TZNAME:EST
DTSTART:20251102T060000
END:STANDARD
BEGIN:DAYLIGHT
TZOFFSETFROM:-0500
TZOFFSETTO:-0400
TZNAME:EDT
DTSTART:20260308T070000
END:DAYLIGHT
BEGIN:STANDARD
TZOFFSETFROM:-0400
TZOFFSETTO:-0500
TZNAME:EST
DTSTART:20261101T060000
END:STANDARD
END:VTIMEZONE
BEGIN:VEVENT
DTSTART;TZID=America/New_York:20250911T100000
DTEND;TZID=America/New_York:20250911T150000
DTSTAMP:20260422T225430
CREATED:20250823T235701Z
LAST-MODIFIED:20250823T235701Z
UID:10035042-1757584800-1757602800@metroatlantaexchange.org
SUMMARY:Northside Hospital: Certified Spanish Medical Interpreters Hiring Event
DESCRIPTION:Northside Hospital is hosting a Certified Spanish Medical Interpreters Hiring Event on Thursday\, September 11th\, from 10:00 AM to 3:00 PM\, at Northside Hospital Atlanta. \nThrive in a friendly\, empowering culture of excellence at Northside Hospital. We’re hiring Certified Spanish Medical Interpreters for the following hospitals: Atlanta\, Cherokee\, Duluth and Gwinnett. Find where you belong within our award-winning workplace. Enjoy excellent benefits\, culture of work-life harmony and more! \nClick here to learn more and register.
URL:https://metroatlantaexchange.org/event/northside-hospital-certified-spanish-medical-interpreters-hiring-event/
LOCATION:Northside Hospital Atlanta\, 1000 Johnson Ferry Road\, Atlanta\, GA\, 30342\, United States
CATEGORIES:In-Person Event,Job Seeker
END:VEVENT
END:VCALENDAR