BEGIN:VCALENDAR
VERSION:2.0
PRODID:-//MAX - ECPv6.15.17.1//NONSGML v1.0//EN
CALSCALE:GREGORIAN
METHOD:PUBLISH
X-WR-CALNAME:MAX
X-ORIGINAL-URL:https://metroatlantaexchange.org
X-WR-CALDESC:Events for MAX
REFRESH-INTERVAL;VALUE=DURATION:PT1H
X-Robots-Tag:noindex
X-PUBLISHED-TTL:PT1H
BEGIN:VTIMEZONE
TZID:America/New_York
BEGIN:DAYLIGHT
TZOFFSETFROM:-0500
TZOFFSETTO:-0400
TZNAME:EDT
DTSTART:20250309T070000
END:DAYLIGHT
BEGIN:STANDARD
TZOFFSETFROM:-0400
TZOFFSETTO:-0500
TZNAME:EST
DTSTART:20251102T060000
END:STANDARD
BEGIN:DAYLIGHT
TZOFFSETFROM:-0500
TZOFFSETTO:-0400
TZNAME:EDT
DTSTART:20260308T070000
END:DAYLIGHT
BEGIN:STANDARD
TZOFFSETFROM:-0400
TZOFFSETTO:-0500
TZNAME:EST
DTSTART:20261101T060000
END:STANDARD
BEGIN:DAYLIGHT
TZOFFSETFROM:-0500
TZOFFSETTO:-0400
TZNAME:EDT
DTSTART:20270314T070000
END:DAYLIGHT
BEGIN:STANDARD
TZOFFSETFROM:-0400
TZOFFSETTO:-0500
TZNAME:EST
DTSTART:20271107T060000
END:STANDARD
END:VTIMEZONE
BEGIN:VEVENT
DTSTART;TZID=America/New_York:20260423T160000
DTEND;TZID=America/New_York:20260423T190000
DTSTAMP:20260422T155430
CREATED:20260420T142859Z
LAST-MODIFIED:20260420T142859Z
UID:10036267-1776960000-1776970800@metroatlantaexchange.org
SUMMARY:Northside Hospital: Gwinnett Respiratory & Radiology Hiring Event
DESCRIPTION:Northside Hospital is hosting a Gwinnett Respiratory & Radiology Hiring Event on Thursday\, April 23rd\, from 4:00 PM to 7:00 PM\, at Northside Hospital – Gwinnett. \nNorthside is committed to your professional development and offer fellowships and other initiatives to help you pursue growth opportunities in your field.  On-the-spot interviews will be given during this event. Open positions include Respiratory Therapist\, Radiology Tech\, CT Tech\, Mammography Tech\, and more. \nClick here to learn more and register.
URL:https://metroatlantaexchange.org/event/northside-hospital-gwinnett-respiratory-radiology-hiring-event/
LOCATION:Northside Hospital – Gwinnett\, 1000 Medical Center Boulevard\, Lawrenceville\, GA\, 30046\, United States
CATEGORIES:In-Person Event,Job Seeker
END:VEVENT
END:VCALENDAR