BEGIN:VCALENDAR
VERSION:2.0
PRODID:-//MAX - ECPv6.15.17.1//NONSGML v1.0//EN
CALSCALE:GREGORIAN
METHOD:PUBLISH
X-WR-CALNAME:MAX
X-ORIGINAL-URL:https://metroatlantaexchange.org
X-WR-CALDESC:Events for MAX
REFRESH-INTERVAL;VALUE=DURATION:PT1H
X-Robots-Tag:noindex
X-PUBLISHED-TTL:PT1H
BEGIN:VTIMEZONE
TZID:America/New_York
BEGIN:DAYLIGHT
TZOFFSETFROM:-0500
TZOFFSETTO:-0400
TZNAME:EDT
DTSTART:20250309T070000
END:DAYLIGHT
BEGIN:STANDARD
TZOFFSETFROM:-0400
TZOFFSETTO:-0500
TZNAME:EST
DTSTART:20251102T060000
END:STANDARD
BEGIN:DAYLIGHT
TZOFFSETFROM:-0500
TZOFFSETTO:-0400
TZNAME:EDT
DTSTART:20260308T070000
END:DAYLIGHT
BEGIN:STANDARD
TZOFFSETFROM:-0400
TZOFFSETTO:-0500
TZNAME:EST
DTSTART:20261101T060000
END:STANDARD
BEGIN:DAYLIGHT
TZOFFSETFROM:-0500
TZOFFSETTO:-0400
TZNAME:EDT
DTSTART:20270314T070000
END:DAYLIGHT
BEGIN:STANDARD
TZOFFSETFROM:-0400
TZOFFSETTO:-0500
TZNAME:EST
DTSTART:20271107T060000
END:STANDARD
END:VTIMEZONE
BEGIN:VEVENT
DTSTART;TZID=America/New_York:20260225T090000
DTEND;TZID=America/New_York:20260225T143000
DTSTAMP:20260424T114114
CREATED:20260208T210046Z
LAST-MODIFIED:20260208T210046Z
UID:10035957-1772010000-1772029800@metroatlantaexchange.org
SUMMARY:Northside Hospital: Choice+ Practice Hiring Event
DESCRIPTION:Northside Hospital is hosting a Choice+ Practice Hiring Event on Wednesday\, February 25th\, from 9:00 AM to 2:30 PM\, at the Interchange Building. \nNorthside Hospital invites you to attend this upcoming event and discover exciting Medical Assistant and Temp Non-Clinical Support Staff opportunities. Meet the team\, learn about Northside\, and take the next step in your career with on-the-spot interviews and potential same-day job offers. \nClick here to learn more and register.
URL:https://metroatlantaexchange.org/event/northside-hospital-choice-practice-hiring-event/
LOCATION:Northside Hospital-Interchange Building\, 5780 Peachtree Dunwoody Road\, Atlanta\, GA\, 30342\, United States
CATEGORIES:In-Person Event,Job Seeker
END:VEVENT
END:VCALENDAR