BEGIN:VCALENDAR
VERSION:2.0
PRODID:-//MAX - ECPv6.15.17.1//NONSGML v1.0//EN
CALSCALE:GREGORIAN
METHOD:PUBLISH
X-ORIGINAL-URL:https://metroatlantaexchange.org
X-WR-CALDESC:Events for MAX
REFRESH-INTERVAL;VALUE=DURATION:PT1H
X-Robots-Tag:noindex
X-PUBLISHED-TTL:PT1H
BEGIN:VTIMEZONE
TZID:America/New_York
BEGIN:DAYLIGHT
TZOFFSETFROM:-0500
TZOFFSETTO:-0400
TZNAME:EDT
DTSTART:20240310T070000
END:DAYLIGHT
BEGIN:STANDARD
TZOFFSETFROM:-0400
TZOFFSETTO:-0500
TZNAME:EST
DTSTART:20241103T060000
END:STANDARD
BEGIN:DAYLIGHT
TZOFFSETFROM:-0500
TZOFFSETTO:-0400
TZNAME:EDT
DTSTART:20250309T070000
END:DAYLIGHT
BEGIN:STANDARD
TZOFFSETFROM:-0400
TZOFFSETTO:-0500
TZNAME:EST
DTSTART:20251102T060000
END:STANDARD
BEGIN:DAYLIGHT
TZOFFSETFROM:-0500
TZOFFSETTO:-0400
TZNAME:EDT
DTSTART:20260308T070000
END:DAYLIGHT
BEGIN:STANDARD
TZOFFSETFROM:-0400
TZOFFSETTO:-0500
TZNAME:EST
DTSTART:20261101T060000
END:STANDARD
END:VTIMEZONE
BEGIN:VEVENT
DTSTART;TZID=America/New_York:20251118T080000
DTEND;TZID=America/New_York:20251119T150000
DTSTAMP:20260422T213714
CREATED:20251109T004831Z
LAST-MODIFIED:20251109T004831Z
UID:10035498-1763452800-1763564400@metroatlantaexchange.org
SUMMARY:WICERS Corporation: 10th Annual Conference - 2025 Better Together\, Stronger Together
DESCRIPTION:WICERS Corporation is hosting its 10th Annual Conference – 2025 Better Together\, Stronger Together on Tuesday\, November 18th through Wednesday\, November 19th\, from 8:00 AM to 3:00 PM\, at the Omni Atlanta Hotel. \nThis powerful two-day experience was created to empower women in underrepresented industries such as construction\, engineering\, and other non-traditional career paths. This year’s theme\, Better Together\, Stronger Together\, highlights the strength of collaboration\, connection\, and community. With the City of Atlanta Mayor Andre Dickens serving as honorary co-chair\, the conference will feature inspiring speakers\, engaging discussions\, and invaluable networking opportunities. While WICERS is designed to inspire and support women\, men are also welcome to participate—fostering diverse perspectives and balanced dialogue as we all work together to elevate businesses\, careers\, and industries. \nClick here to learn more and register.
URL:https://metroatlantaexchange.org/event/wicers-corporation-10th-annual-conference-2025-better-together-stronger-together/
LOCATION:Omni Atlanta Hotel – Centennial Park\, 190 Marietta Street\, NW\, Atlanta\, GA\, 30303\, United States
CATEGORIES:Career Development,In-Person Event
END:VEVENT
END:VCALENDAR