BEGIN:VCALENDAR
VERSION:2.0
PRODID:-//MAX - ECPv6.15.17.1//NONSGML v1.0//EN
CALSCALE:GREGORIAN
METHOD:PUBLISH
X-ORIGINAL-URL:https://metroatlantaexchange.org
X-WR-CALDESC:Events for MAX
REFRESH-INTERVAL;VALUE=DURATION:PT1H
X-Robots-Tag:noindex
X-PUBLISHED-TTL:PT1H
BEGIN:VTIMEZONE
TZID:America/New_York
BEGIN:DAYLIGHT
TZOFFSETFROM:-0500
TZOFFSETTO:-0400
TZNAME:EDT
DTSTART:20240310T070000
END:DAYLIGHT
BEGIN:STANDARD
TZOFFSETFROM:-0400
TZOFFSETTO:-0500
TZNAME:EST
DTSTART:20241103T060000
END:STANDARD
BEGIN:DAYLIGHT
TZOFFSETFROM:-0500
TZOFFSETTO:-0400
TZNAME:EDT
DTSTART:20250309T070000
END:DAYLIGHT
BEGIN:STANDARD
TZOFFSETFROM:-0400
TZOFFSETTO:-0500
TZNAME:EST
DTSTART:20251102T060000
END:STANDARD
BEGIN:DAYLIGHT
TZOFFSETFROM:-0500
TZOFFSETTO:-0400
TZNAME:EDT
DTSTART:20260308T070000
END:DAYLIGHT
BEGIN:STANDARD
TZOFFSETFROM:-0400
TZOFFSETTO:-0500
TZNAME:EST
DTSTART:20261101T060000
END:STANDARD
END:VTIMEZONE
BEGIN:VEVENT
DTSTART;TZID=America/New_York:20250709T100000
DTEND;TZID=America/New_York:20250709T160000
DTSTAMP:20260422T104555
CREATED:20250705T194930Z
LAST-MODIFIED:20250705T194930Z
UID:10034040-1752055200-1752076800@metroatlantaexchange.org
SUMMARY:Panda Express: Hiring Event
DESCRIPTION:Panda Express is hosting a Hiring Event on Wednesday\, July 9th\, from 10:00 AM to 4:00 PM\, at Panda Express. \nAre you craving a career with an industry leader? Panda Express is searching for experienced leaders to join our store management team. Panda is 100% committed to the professional and personal development of our family of associates. That’s why we offer paid Store Management Leadership Training\, mentorship\, and support from our Panda community that cares about your success. Bring a copy of your resume and come meet the team. \nClick here to learn more and register.
URL:https://metroatlantaexchange.org/event/panda-express-hiring-event/
LOCATION:Panda Express (Morrow)\, 2008 Mount Zion Road\, Morrow\, GA\, 30260\, United States
CATEGORIES:In-Person Event,Job Seeker
END:VEVENT
END:VCALENDAR