BEGIN:VCALENDAR
VERSION:2.0
PRODID:-//MAX - ECPv6.15.17.1//NONSGML v1.0//EN
CALSCALE:GREGORIAN
METHOD:PUBLISH
X-ORIGINAL-URL:https://metroatlantaexchange.org
X-WR-CALDESC:Events for MAX
REFRESH-INTERVAL;VALUE=DURATION:PT1H
X-Robots-Tag:noindex
X-PUBLISHED-TTL:PT1H
BEGIN:VTIMEZONE
TZID:America/New_York
BEGIN:DAYLIGHT
TZOFFSETFROM:-0500
TZOFFSETTO:-0400
TZNAME:EDT
DTSTART:20250309T070000
END:DAYLIGHT
BEGIN:STANDARD
TZOFFSETFROM:-0400
TZOFFSETTO:-0500
TZNAME:EST
DTSTART:20251102T060000
END:STANDARD
BEGIN:DAYLIGHT
TZOFFSETFROM:-0500
TZOFFSETTO:-0400
TZNAME:EDT
DTSTART:20260308T070000
END:DAYLIGHT
BEGIN:STANDARD
TZOFFSETFROM:-0400
TZOFFSETTO:-0500
TZNAME:EST
DTSTART:20261101T060000
END:STANDARD
BEGIN:DAYLIGHT
TZOFFSETFROM:-0500
TZOFFSETTO:-0400
TZNAME:EDT
DTSTART:20270314T070000
END:DAYLIGHT
BEGIN:STANDARD
TZOFFSETFROM:-0400
TZOFFSETTO:-0500
TZNAME:EST
DTSTART:20271107T060000
END:STANDARD
END:VTIMEZONE
BEGIN:VEVENT
DTSTART;TZID=America/New_York:20260422T103000
DTEND;TZID=America/New_York:20260422T113000
DTSTAMP:20260422T121611
CREATED:20260406T193423Z
LAST-MODIFIED:20260406T193552Z
UID:10036156-1776853800-1776857400@metroatlantaexchange.org
SUMMARY:Goodwill of North Georgia: In-Person Interview Lab
DESCRIPTION:Goodwill of North Georgia\, in partnership with the @Promise Center\, is hosting an In-Person Interview Lab on Wednesdays\, from 10:30 AM to 11:30 AM\, at the @Promise Center. \nThis class is geared towards participants ages 16 to 24 years old. You must be registered with @promise to attend. \nClick here to register.
URL:https://metroatlantaexchange.org/event/goodwill-of-north-georgia-in-person-interview-lab/2026-04-22/
LOCATION:@Promise Center (MLK)\, 2175 Martin Luther King Jr. SW\, Atlanta\, 30310\, United States
CATEGORIES:Career Development,In-Person Event,Job Seeker
END:VEVENT
BEGIN:VEVENT
DTSTART;TZID=America/New_York:20260417T093000
DTEND;TZID=America/New_York:20260417T163000
DTSTAMP:20260422T121611
CREATED:20260406T195758Z
LAST-MODIFIED:20260406T195758Z
UID:10036176-1776418200-1776443400@metroatlantaexchange.org
SUMMARY:Goodwill of North Georgia: Google AI Essential Workshop
DESCRIPTION:Goodwill of North Georgia\, in partnership with the @Promise Center\, is hosting a Google AI Essentials Workshop every Friday\, from 9:30 AM to 4:30 PM\, at the @Promise Center. \nThis class is geared towards participants ages 16 to 24 years old. You must be registered with @promise to attend. \nClick here to register.
URL:https://metroatlantaexchange.org/event/goodwill-of-north-georgia-google-ai-essential-workshop/2026-04-17/
LOCATION:@Promise Center (MLK)\, 2175 Martin Luther King Jr. SW\, Atlanta\, 30310\, United States
CATEGORIES:Career Development,In-Person Event,Job Seeker
END:VEVENT
BEGIN:VEVENT
DTSTART;TZID=America/New_York:20260415T103000
DTEND;TZID=America/New_York:20260415T113000
DTSTAMP:20260422T121611
CREATED:20260406T193423Z
LAST-MODIFIED:20260406T193552Z
UID:10036155-1776249000-1776252600@metroatlantaexchange.org
SUMMARY:Goodwill of North Georgia: In-Person Interview Lab
DESCRIPTION:Goodwill of North Georgia\, in partnership with the @Promise Center\, is hosting an In-Person Interview Lab on Wednesdays\, from 10:30 AM to 11:30 AM\, at the @Promise Center. \nThis class is geared towards participants ages 16 to 24 years old. You must be registered with @promise to attend. \nClick here to register.
URL:https://metroatlantaexchange.org/event/goodwill-of-north-georgia-in-person-interview-lab/2026-04-15/
LOCATION:@Promise Center (MLK)\, 2175 Martin Luther King Jr. SW\, Atlanta\, 30310\, United States
CATEGORIES:Career Development,In-Person Event,Job Seeker
END:VEVENT
BEGIN:VEVENT
DTSTART;TZID=America/New_York:20260410T093000
DTEND;TZID=America/New_York:20260410T163000
DTSTAMP:20260422T121611
CREATED:20260406T195758Z
LAST-MODIFIED:20260406T195758Z
UID:10036175-1775813400-1775838600@metroatlantaexchange.org
SUMMARY:Goodwill of North Georgia: Google AI Essential Workshop
DESCRIPTION:Goodwill of North Georgia\, in partnership with the @Promise Center\, is hosting a Google AI Essentials Workshop every Friday\, from 9:30 AM to 4:30 PM\, at the @Promise Center. \nThis class is geared towards participants ages 16 to 24 years old. You must be registered with @promise to attend. \nClick here to register.
URL:https://metroatlantaexchange.org/event/goodwill-of-north-georgia-google-ai-essential-workshop/2026-04-10/
LOCATION:@Promise Center (MLK)\, 2175 Martin Luther King Jr. SW\, Atlanta\, 30310\, United States
CATEGORIES:Career Development,In-Person Event,Job Seeker
END:VEVENT
BEGIN:VEVENT
DTSTART;TZID=America/New_York:20260408T103000
DTEND;TZID=America/New_York:20260408T113000
DTSTAMP:20260422T121611
CREATED:20260406T193423Z
LAST-MODIFIED:20260406T193552Z
UID:10036154-1775644200-1775647800@metroatlantaexchange.org
SUMMARY:Goodwill of North Georgia: In-Person Interview Lab
DESCRIPTION:Goodwill of North Georgia\, in partnership with the @Promise Center\, is hosting an In-Person Interview Lab on Wednesdays\, from 10:30 AM to 11:30 AM\, at the @Promise Center. \nThis class is geared towards participants ages 16 to 24 years old. You must be registered with @promise to attend. \nClick here to register.
URL:https://metroatlantaexchange.org/event/goodwill-of-north-georgia-in-person-interview-lab/2026-04-08/
LOCATION:@Promise Center (MLK)\, 2175 Martin Luther King Jr. SW\, Atlanta\, 30310\, United States
CATEGORIES:Career Development,In-Person Event,Job Seeker
END:VEVENT
END:VCALENDAR