BEGIN:VCALENDAR
VERSION:2.0
PRODID:-//MAX - ECPv6.15.17.1//NONSGML v1.0//EN
CALSCALE:GREGORIAN
METHOD:PUBLISH
X-ORIGINAL-URL:https://metroatlantaexchange.org
X-WR-CALDESC:Events for MAX
REFRESH-INTERVAL;VALUE=DURATION:PT1H
X-Robots-Tag:noindex
X-PUBLISHED-TTL:PT1H
BEGIN:VTIMEZONE
TZID:America/New_York
BEGIN:DAYLIGHT
TZOFFSETFROM:-0500
TZOFFSETTO:-0400
TZNAME:EDT
DTSTART:20240310T070000
END:DAYLIGHT
BEGIN:STANDARD
TZOFFSETFROM:-0400
TZOFFSETTO:-0500
TZNAME:EST
DTSTART:20241103T060000
END:STANDARD
BEGIN:DAYLIGHT
TZOFFSETFROM:-0500
TZOFFSETTO:-0400
TZNAME:EDT
DTSTART:20250309T070000
END:DAYLIGHT
BEGIN:STANDARD
TZOFFSETFROM:-0400
TZOFFSETTO:-0500
TZNAME:EST
DTSTART:20251102T060000
END:STANDARD
BEGIN:DAYLIGHT
TZOFFSETFROM:-0500
TZOFFSETTO:-0400
TZNAME:EDT
DTSTART:20260308T070000
END:DAYLIGHT
BEGIN:STANDARD
TZOFFSETFROM:-0400
TZOFFSETTO:-0500
TZNAME:EST
DTSTART:20261101T060000
END:STANDARD
BEGIN:DAYLIGHT
TZOFFSETFROM:-0500
TZOFFSETTO:-0400
TZNAME:EDT
DTSTART:20270314T070000
END:DAYLIGHT
BEGIN:STANDARD
TZOFFSETFROM:-0400
TZOFFSETTO:-0500
TZNAME:EST
DTSTART:20271107T060000
END:STANDARD
END:VTIMEZONE
BEGIN:VEVENT
DTSTART;TZID=America/New_York:20260318T100000
DTEND;TZID=America/New_York:20260318T150000
DTSTAMP:20260422T225231
CREATED:20260310T185218Z
LAST-MODIFIED:20260310T185218Z
UID:10035997-1773828000-1773846000@metroatlantaexchange.org
SUMMARY:Riverwoods Behavioral Health: Hiring Event
DESCRIPTION:Riverwoods Behavioral Health is hosting a Hiring Event on Wednesday\, March 18th\, from 10:00 AM to 3:00 PM\, at Riverwoods Behavioral Health. \nRiverwoods Behavioral Health has open positions for Registered Nurses (RN)\, Licensed Practical Nurses (LPN)\, Admissions Counselors\, and Therapists. Immediate offers for select positions will be extended on the day of the event. Enjoy competitive rates\, full-time schedules\, and more. Please bring a current resume and walk-ins are welcome! \nClick here to learn more and register.
URL:https://metroatlantaexchange.org/event/riverwoods-behavioral-health-hiring-event-2/
LOCATION:Riverwoods Behavioral Health\, 223 Medical Center Drive\, Riverdale\, GA\, 30274\, United States
CATEGORIES:In-Person Event,Job Seeker
END:VEVENT
BEGIN:VEVENT
DTSTART;TZID=America/New_York:20260211T100000
DTEND;TZID=America/New_York:20260211T150000
DTSTAMP:20260422T225231
CREATED:20260202T235430Z
LAST-MODIFIED:20260202T235430Z
UID:10035924-1770804000-1770822000@metroatlantaexchange.org
SUMMARY:Riverwoods Behavioral Health
DESCRIPTION:Riverwoods Behavioral Health is hosting a Hiring Event on Wednesday\, February 11th\, from 10:00 AM to 3:00 PM\, at Riverwoods Behavioral Health. \nRiverwoods Behavioral Health is committed to delivering compassionate\, patient-centered care and are seeking Registered Nurses and Licensed Practical Nurses. Immediate offers will be extended to qualified candidates. \nClick here to learn more and register.
URL:https://metroatlantaexchange.org/event/riverwoods-behavioral-health/
LOCATION:Riverwoods Behavioral Health\, 223 Medical Center Drive\, Riverdale\, GA\, 30274\, United States
CATEGORIES:In-Person Event,Job Seeker
END:VEVENT
BEGIN:VEVENT
DTSTART;TZID=America/New_York:20251114T100000
DTEND;TZID=America/New_York:20251114T150000
DTSTAMP:20260422T225231
CREATED:20251108T195141Z
LAST-MODIFIED:20251108T195141Z
UID:10035419-1763114400-1763132400@metroatlantaexchange.org
SUMMARY:Riverwoods Behavioral Health: Job Fair
DESCRIPTION:Riverwoods Behavioral Health is hosting a Job Fair on Friday\, November 14th\, from 10:00 AM to 3:00 PM\, at Riverwoods Behavioral Health. \nRiverwoods Behavioral Health System is a leading provider of comprehensive services for adults and adolescents who have been struggling with mental and behavioral health disorders\, including substance abuse and addiction. Open positions include Registered Nurse (RN)\, Licensed Practical Nurse (LPN) and Admissions Professional for both day and night roles. Immediate offers will be extended to qualified candidates. Sign-on bonuses of up to $5000 will be available. Walk-ins are welcome\, but please bring a current resume. \nClick here to learn more and register.
URL:https://metroatlantaexchange.org/event/riverwoods-behavioral-health-job-fair/
LOCATION:Riverwoods Behavioral Health\, 223 Medical Center Drive\, Riverdale\, GA\, 30274\, United States
CATEGORIES:In-Person Event,Job Seeker
END:VEVENT
BEGIN:VEVENT
DTSTART;TZID=America/New_York:20250723T100000
DTEND;TZID=America/New_York:20250723T150000
DTSTAMP:20260422T225231
CREATED:20250705T212346Z
LAST-MODIFIED:20250705T212346Z
UID:10034057-1753264800-1753282800@metroatlantaexchange.org
SUMMARY:Riverwoods Behavioral Health: Hiring Event
DESCRIPTION:Riverwoods Behavioral Health is hosting a Hiring Event on Wednesday\, July 23rd\, from 10:00 AM to 3:00 PM\, at Riverwoods Behavioral Health. \nRiverwoods Behavioral Health is seeking compassionate candidates to fill night-shift positions for Registered Nurse (RN) and Licensed Practical Nurse (LPN). Immediate offers will be extended\, and a $5\,000 sign-on bonus will be available. Walk-ins are welcome\, but be sure to bring a resume. \nClick here to learn more and register.
URL:https://metroatlantaexchange.org/event/riverwoods-behavioral-health-hiring-event/
LOCATION:Riverwoods Behavioral Health\, 223 Medical Center Drive\, Riverdale\, GA\, 30274\, United States
CATEGORIES:In-Person Event,Job Seeker
END:VEVENT
BEGIN:VEVENT
DTSTART;TZID=America/New_York:20250604T100000
DTEND;TZID=America/New_York:20250604T150000
DTSTAMP:20260422T225231
CREATED:20250524T154101Z
LAST-MODIFIED:20250524T154101Z
UID:10033856-1749031200-1749049200@metroatlantaexchange.org
SUMMARY:Riverwoods Behavioral Health: Open Interview Day
DESCRIPTION:Riverwoods Behavioral Health is hosting an Open Interview Day on Wednesday\, June 4th\, from 10:00 AM to 3:00 PM\, at Riverwoods Behavioral Health. \nRiverwoods Behavioral Health is seeking Registered Nurses (RN) to fill full-time and part-time positions. During the event\, offers will be extended so be prepared for on-the-spot interviews. A $5\,000 sign-on bonus will be available for qualified candidates. Bring a current resume and walk-ins are welcome. \nClick here to learn more and register.
URL:https://metroatlantaexchange.org/event/riverwoods-behavioral-health-open-interview-day/
LOCATION:Riverwoods Behavioral Health\, 223 Medical Center Drive\, Riverdale\, GA\, 30274\, United States
CATEGORIES:In-Person Event,Job Seeker
END:VEVENT
END:VCALENDAR