BEGIN:VCALENDAR
VERSION:2.0
PRODID:-//MAX - ECPv6.15.17.1//NONSGML v1.0//EN
CALSCALE:GREGORIAN
METHOD:PUBLISH
X-WR-CALNAME:MAX
X-ORIGINAL-URL:https://metroatlantaexchange.org
X-WR-CALDESC:Events for MAX
REFRESH-INTERVAL;VALUE=DURATION:PT1H
X-Robots-Tag:noindex
X-PUBLISHED-TTL:PT1H
BEGIN:VTIMEZONE
TZID:America/New_York
BEGIN:DAYLIGHT
TZOFFSETFROM:-0500
TZOFFSETTO:-0400
TZNAME:EDT
DTSTART:20240310T070000
END:DAYLIGHT
BEGIN:STANDARD
TZOFFSETFROM:-0400
TZOFFSETTO:-0500
TZNAME:EST
DTSTART:20241103T060000
END:STANDARD
BEGIN:DAYLIGHT
TZOFFSETFROM:-0500
TZOFFSETTO:-0400
TZNAME:EDT
DTSTART:20250309T070000
END:DAYLIGHT
BEGIN:STANDARD
TZOFFSETFROM:-0400
TZOFFSETTO:-0500
TZNAME:EST
DTSTART:20251102T060000
END:STANDARD
BEGIN:DAYLIGHT
TZOFFSETFROM:-0500
TZOFFSETTO:-0400
TZNAME:EDT
DTSTART:20260308T070000
END:DAYLIGHT
BEGIN:STANDARD
TZOFFSETFROM:-0400
TZOFFSETTO:-0500
TZNAME:EST
DTSTART:20261101T060000
END:STANDARD
BEGIN:DAYLIGHT
TZOFFSETFROM:-0500
TZOFFSETTO:-0400
TZNAME:EDT
DTSTART:20270314T070000
END:DAYLIGHT
BEGIN:STANDARD
TZOFFSETFROM:-0400
TZOFFSETTO:-0500
TZNAME:EST
DTSTART:20271107T060000
END:STANDARD
END:VTIMEZONE
BEGIN:VEVENT
DTSTART;TZID=America/New_York:20260413T150000
DTEND;TZID=America/New_York:20260413T180000
DTSTAMP:20260422T210625
CREATED:20260406T152921Z
LAST-MODIFIED:20260406T152921Z
UID:10036072-1776092400-1776103200@metroatlantaexchange.org
SUMMARY:Schneider: Truck Driver and Owner-Operator Recruiting Event
DESCRIPTION:Schneider is hosting a Truck Driver and Owner-Operator Recruiting Event on Monday\, April 13th\, from 3:00 PM to 6:00 PM\, at Schneider. \nWhether you’re an experienced driver ready for a change or just starting your trucking journey\, this recruiting event is designed with you in mind. Stop by for a casual\, no-pressure conversation where you can ask questions\, explore opportunities and get the information you need to make your next move. Your local recruiter will be available to discuss company driving jobs and owner-operator contracting jobs across our portfolio of companies: Schneider\, Midwest Logistics Systems\, Cowan Systems and M&M Transport Services. \nClick here to learn more and register.
URL:https://metroatlantaexchange.org/event/schneider-truck-driver-and-owner-operator-recruiting-event/
LOCATION:Schneider – Operations Training Center\, 3300 International Drive\, SE\, Atlanta\, Georgia\, 30316
CATEGORIES:In-Person Event,Job Seeker
END:VEVENT
BEGIN:VEVENT
DTSTART;TZID=America/New_York:20260223T150000
DTEND;TZID=America/New_York:20260223T180000
DTSTAMP:20260422T210625
CREATED:20260208T205431Z
LAST-MODIFIED:20260208T205431Z
UID:10035953-1771858800-1771869600@metroatlantaexchange.org
SUMMARY:Schneider: Truck Driver and Owner-Operator Recruiting Event
DESCRIPTION:Schneider is hosting a Truck Driver and Owner-Operator Recruiting Event on Monday\, February 23rd\, from 3:00 PM to 6:00 PM\, at Schneider. \nWhether you’re an experienced driver ready for a change or just starting your trucking journey\, this recruiting event is designed with you in mind. Stop by for a casual\, no-pressure conversation where you can ask questions\, explore opportunities and get the information you need to make your next move. Your local recruiter will be available to discuss company driving jobs and owner-operator contracting jobs across our portfolio of companies: Schneider\, Midwest Logistics Systems\, Cowan Systems and M&M Transport Services. \nClick here to learn more and register.
URL:https://metroatlantaexchange.org/event/schneider-truck-driver-and-owner-operator-recruiting-event-29/
LOCATION:Schneider – Operations Training Center\, 3300 International Drive\, SE\, Atlanta\, Georgia\, 30316
CATEGORIES:In-Person Event,Job Seeker
END:VEVENT
BEGIN:VEVENT
DTSTART;TZID=America/New_York:20260202T150000
DTEND;TZID=America/New_York:20260202T180000
DTSTAMP:20260422T210625
CREATED:20260119T184510Z
LAST-MODIFIED:20260119T184510Z
UID:10035834-1770044400-1770055200@metroatlantaexchange.org
SUMMARY:Schneider: Truck Driver and Owner-Operator Recruiting Event
DESCRIPTION:Schneider is hosting a Truck Driver and Owner-Operator Recruiting Event on Monday\, February 2nd\, from 3:00 PM to 6:00 PM\, at the Schneider. \nWhether you’re an experienced driver ready for a change or just starting your trucking journey\, this recruiting event is designed with you in mind. Stop by for a casual\, no-pressure conversation where you can ask questions\, explore opportunities and get the information you need to make your next move. Your local recruiter will be available to discuss company driving jobs and owner-operator contracting jobs across our portfolio of companies: Schneider\, Midwest Logistics Systems\, Cowan Systems and M&M Transport Services. \nClick here to learn more and register.
URL:https://metroatlantaexchange.org/event/schneider-truck-driver-and-owner-operator-recruiting-event-28/
LOCATION:Schneider – Operations Training Center\, 3300 International Drive\, SE\, Atlanta\, Georgia\, 30316
CATEGORIES:In-Person Event,Job Seeker
END:VEVENT
BEGIN:VEVENT
DTSTART;TZID=America/New_York:20251117T150000
DTEND;TZID=America/New_York:20251117T180000
DTSTAMP:20260422T210625
CREATED:20251108T203346Z
LAST-MODIFIED:20251108T203346Z
UID:10035431-1763391600-1763402400@metroatlantaexchange.org
SUMMARY:Schneider: Truck Driver and Owner-Operator Recruiting Event
DESCRIPTION:Schneider is hosting a Truck Driver and Owner-Operator Recruiting Event on Monday\, November 17th\, from 3:00 PM to 6:00 PM\, at Schnieder. \nAre you an experienced truck driver looking for a change? Recent driving school graduate or looking to get your CDL? Whatever your level of truck driving experience\, get a chance to have all your truck driving related questions answered at one of our casual truck driver and owner-operator recruiting events. Speak to one of our knowledgeable and personable recruiters about driving opportunities\, pay and benefits\, military programs\, requirements\, terminology clarification\, CDL questions and any other questions you may have. \nClick here to learn more and register.
URL:https://metroatlantaexchange.org/event/schneider-truck-driver-and-owner-operator-recruiting-event-20/
LOCATION:Schneider – Operations Training Center\, 3300 International Drive\, SE\, Atlanta\, Georgia\, 30316
CATEGORIES:In-Person Event,Job Seeker
END:VEVENT
BEGIN:VEVENT
DTSTART;TZID=America/New_York:20250915T150000
DTEND;TZID=America/New_York:20250915T180000
DTSTAMP:20260422T210625
CREATED:20250823T235849Z
LAST-MODIFIED:20250823T235849Z
UID:10035043-1757948400-1757959200@metroatlantaexchange.org
SUMMARY:Schneider: Truck Driver and Owner-Operator Recruiting Event
DESCRIPTION:Schneider is hosting a Truck Driver and Owner-Operator Recruiting Event on Monday\, September 15th\, from 3:00 PM to 6:00 PM\, at Schneider. \nAre you an experienced truck driver looking for a change? Recent driving school graduate or looking to get your CDL? Whatever your level of truck driving experience\, get a chance to have all your truck driving related questions answered at one of our casual truck driver and owner-operator recruiting events. Speak to one of our knowledgeable and personable recruiters about driving opportunities\, pay and benefits\, military programs\, requirements\, terminology clarification\, CDL questions and any other questions you may have. \nClick here to learn more and register.
URL:https://metroatlantaexchange.org/event/schneider-truck-driver-and-owner-operator-recruiting-event-17/
LOCATION:Schneider – Operations Training Center\, 3300 International Drive\, SE\, Atlanta\, Georgia\, 30316
CATEGORIES:In-Person Event,Job Seeker
END:VEVENT
BEGIN:VEVENT
DTSTART;TZID=America/New_York:20250728T150000
DTEND;TZID=America/New_York:20250728T180000
DTSTAMP:20260422T210625
CREATED:20250622T195631Z
LAST-MODIFIED:20250622T195631Z
UID:10034020-1753714800-1753725600@metroatlantaexchange.org
SUMMARY:Schneider: Truck Driver and Owner-Operator Recruiting Event
DESCRIPTION:Schneider is hosting a Truck Driver and Owner-Operator Recruiting Event on Monday\, July 28th\, from 3:00 PM to 6:00 PM\, at Schneider. \nExperienced truck driver looking for a change? Recent driving school graduate or looking to get your CDL? Whatever your level of truck driving experience\, get a chance to have all your truck driving related questions answered at one of our casual truck driver and owner-operator recruiting events. Speak to one of our knowledgeable and personable recruiters about driving opportunities\, pay and benefits\, military programs\, requirements\, terminology clarification\, CDL questions and any other questions you may have. \nClick here to learn more and register.
URL:https://metroatlantaexchange.org/event/schneider-truck-driver-and-owner-operator-recruiting-event-10/
LOCATION:Schneider – Operations Training Center\, 3300 International Drive\, SE\, Atlanta\, Georgia\, 30316
CATEGORIES:In-Person Event,Job Seeker
END:VEVENT
BEGIN:VEVENT
DTSTART;TZID=America/New_York:20250611T150000
DTEND;TZID=America/New_York:20250611T180000
DTSTAMP:20260422T210625
CREATED:20250524T155210Z
LAST-MODIFIED:20250524T155210Z
UID:10033863-1749654000-1749664800@metroatlantaexchange.org
SUMMARY:Schneider: Truck Driver and Owner-Operator Recruiting Event
DESCRIPTION:Schneider is hosting a Truck Driver and Owner-Operator Recruiting Event on Wednesday\, June 11th\, from 3:00 PM to 6:00 PM\, at Schneider. \nExperienced truck driver looking for a change? Recent driving school graduate or looking to get your CDL? Whatever your level of truck driving experience\, get a chance to have all your truck driving related questions answered at one of our casual truck driver and owner-operator recruiting events. Speak to one of our knowledgeable and personable recruiters about driving opportunities\, pay and benefits\, military programs\, requirements\, terminology clarification\, CDL questions and any other questions you may have. \nClick here to learn more and register.
URL:https://metroatlantaexchange.org/event/schneider-truck-driver-and-owner-operator-recruiting-event-6/
LOCATION:Schneider – Operations Training Center\, 3300 International Drive\, SE\, Atlanta\, Georgia\, 30316
CATEGORIES:In-Person Event,Job Seeker
END:VEVENT
END:VCALENDAR